{"text_format":"1","workbook":"xlsx","n_sheets":14,"sheets":["Раздел0","Раздел1","Раздел2","Раздел3","Раздел4","Раздел5","Раздел6","Раздел7","Раздел8","Раздел9","Раздел10","Раздел11","Раздел12","Лист1"],"not_rendered":{"charts":0,"images":0,"macros":1,"external_links":2,"defined_names":418,"comments":1,"pivot_tables":0},"unopened":[],"bounds":{"document_bytes":16777216,"sheet_cells":100000,"rows_first":2000,"rows_last":500,"rows_between":2000,"halvings":0,"cell_chars":16384,"cell_head_chars":4096},"cells_cut":0,"cells_raw":0,"read":"whole","date_system":"1900"}

{"sheet":"Раздел0","index":0,"n_rows":38,"n_cols":14,"rows_kept":38,"cut":false,"hidden":false,"merged":[[30,2,30,9],[32,1,32,6],[32,7,32,17],[33,1,33,3],[33,4,33,17],[30,10,30,11],[39,0,39,18],[36,1,36,3],[36,4,36,7],[36,8,36,11],[36,12,36,17],[37,1,37,3],[37,4,37,7],[37,8,37,11],[37,12,37,17],[34,1,35,3],[34,4,34,17],[35,4,35,7],[35,8,35,11],[35,12,35,17],[26,2,26,9],[17,2,17,9],[17,13,17,16],[24,1,24,9],[24,10,24,11],[18,2,18,9],[18,13,18,16],[19,2,19,9],[19,10,19,11],[23,1,23,9],[20,10,20,11],[22,1,22,9],[22,10,22,11],[22,13,22,16],[25,2,25,9],[23,10,23,11],[21,2,21,9],[14,13,14,16],[15,2,15,9],[15,13,15,16],[16,2,16,9],[16,13,16,16],[19,13,19,16],[20,2,20,9],[0,0,0,18],[1,0,38,0],[1,4,1,14],[1,18,38,18],[3,4,3,14],[5,3,5,15],[7,4,7,14],[9,5,9,13],[13,1,13,9],[13,10,13,11],[14,2,14,9],[14,10,14,11],[10,5,10,13],[12,1,12,9],[12,10,12,11],[12,13,12,16],[27,10,27,11],[28,10,28,11],[27,1,27,9],[28,1,28,9],[29,2,29,9],[29,10,29,11]]}
[]
[null,null,null,null,"СТАТИСТИЧЕСКОЕ НАБЛЮДЕНИЕ МИНИСТЕРСТВА СПОРТА РОССИЙСКОЙ ФЕДЕРАЦИИ"]
[]
[null,null,null,null,"КОНФИДЕНЦИАЛЬНОСТЬ ГАРАНТИРУЕТСЯ ПОЛУЧАТЕЛЕМ ИНФОРМАЦИИ"]
[]
[null,null,null,"Нарушение порядка представления статистической информации, а равно представление недостоверной статистической информации влечет ответственность, установленную статьей 13.19 Кодекса Российской Федерации об административных правонарушениях от 30.12.2001 г. № 195-ФЗ, а также статьей 3 Закона Российской Федерации от 13.05.1992 г. № 2761-1 “Об ответственности за нарушение порядка представления государственной статистической отчетности”\nпорядка представления государственной статистической отчетности”"]
[]
[null,null,null,null,"ВОЗМОЖНО ПРЕДОСТАВЛЕНИЕ В ЭЛЕКТРОННОМ ВИДЕ"]
[]
[null,null,null,null,null,"СВЕДЕНИЯ ПО ОРГАНИЗАЦИЯМ, ОСУЩЕСТВЛЯЮЩИМ СПОРТИВНУЮ ПОДГОТОВКУ"]
[null,null,null,null,null,"по состоянию на 31 декабря 2017 г."]
[]
[null,"Предоставляют:",null,null,null,null,null,null,null,null,"Сроки предоставления",null,null,"Форма № 5-ФК "]
[null,"юридические лица – организации, осуществляющие спортивную подготовку:",null,null,null,null,null,null,null,null,"10 января"]
[null,"-","органу местного самоуправления поселения, внутригородской территории города ",null,null,null,null,null,null,null,"после отчетного периода"]
[null,null,"федерального значения;",null,null,null,null,null,null,null,null,null,null,"Письмо Минспорта России"]
[null,"-","органу местного самоуправления городского округа, муниципального района в",null,null,null,null,null,null,null,null,null,null,"от 15.11.2017 № СК-02-10/8765"]
[null,null,"сфере физической культуры и спорта;"]
[null,"-","территориальному органу исполнительной власти города федерального значения в "]
[null,null,"сфере физической культуры и спорта;"]
[null,"-","иные органы местного самоуправления, в ведении которых находятся"]
[null,null,"организации, осуществляющие спортивную подготовку"]
[null,"органы местного самоуправления городских округов, муниципальных районов в сфере ",null,null,null,null,null,null,null,null,"15 января",null,null,"Годовая"]
[null,"физической культуры и спорта, территориальные органы исполнительной власти ",null,null,null,null,null,null,null,null,"после отчетного периода"]
[null,"городов федерального значения в сфере физической культуры и спорта:"]
[null,"-","органу исполнительной власти субъекта Российской Федерации в области "]
[null,null,"физической культуры и спорта"]
[null,"органы исполнительной власти субъектов Российской Федерации в области ",null,null,null,null,null,null,null,null,"20 января"]
[null,"физической культуры и спорта:",null,null,null,null,null,null,null,null,"после отчетного периода"]
[null,"-","Министерству спорта Российской Федерации"]
[]
[null,null," "]
[null,"Наименование отчитывающейся организации",null,null,null,null,null,"Муниципальное автономное учреждение дополнительного образования \"Киришская детско-юношеская спортивная школа\" (МАУДО \"Киришская ДЮСШ\")"]
[null,"Почтовый адрес",null,null,"187110, Ленинградская область, город Кириши, улица Строителей, дом 10"]
[null,"Код\nформы\nпо ОКУД",null,null,"Код"]
[null,null,null,null,"отчитывающейся организации\nпо ОКПО"]
[null,1,null,null,2,null,null,null,3,null,null,null,4]
[null,"0609403",null,null,"43507488"]

{"sheet":"Раздел1","index":1,"n_rows":21,"n_cols":12,"rows_kept":21,"cut":false,"hidden":false,"merged":[[0,12,8,12],[2,1,3,1],[2,3,3,3],[0,0,8,0],[0,1,0,11],[1,8,1,11],[2,2,3,2],[2,4,2,11],[13,1,15,1],[13,2,15,2],[12,9,12,12],[13,8,14,8],[19,1,20,1],[19,2,20,2],[16,3,16,4],[17,3,17,4],[16,1,17,1],[16,2,17,2],[20,3,20,5],[20,6,20,8],[12,7,12,8],[16,5,16,6],[16,7,16,8],[17,5,17,6],[17,7,17,8],[18,3,18,8],[13,3,13,7],[19,3,19,5],[14,4,14,5],[14,6,14,7],[15,4,15,5],[15,6,15,7],[19,6,19,8]]}
[null,"Раздел I. Число организаций"]
[null,null,null,null,null,null,null,null,"Код по ОКЕИ: единица – 642"]
[null,"Ведомственная \nпринадлежность","№ стро-ки","Число организаций – всего","в том числе по виду организации:"]
[null,null,null,null,"ДЮСШ ","СШ","СДЮСШОР","СШОР","УОР","ЦСП","ЦОП","Другие\nорганизации"]
[null,1,2,3,4,5,6,7,8,9,10,11]
[null,"Органы управления в сфере образования","01",{"$f":"SUM(E6:L6)","v":1},1,null,0]
[null,"Органы управления в сфере физической культуры и спорта","02",{"$f":"SUM(E7:L7)","v":0},null,null,0,null,null,null,null,0]
[null,"Другая ведомственная принадлежность","03",{"$f":"SUM(E8:L8)","v":0},0,null,0,null,0,0,null,0]
[null,"ИТОГО","04",{"$f":"SUM(E9:L9)","v":1},{"$f":"SUM(E6:E8)","v":1},{"$f":"SUM(F6:F8)","v":0},0,0,0,0,0,0]
[]
[]
[]
[null,null,null,null,null,null,null,"Код по ОКЕИ: единица – 642"]
[null,"Виды правовых образований","05","Публичные правовые образования",null,null,null,null,"Иные правовые образования"]
[null,null,null,"Российская Федерация","Субъект Российской Федерации",null,"Муниципальное образование"]
[null,null,null,null,null,null,1]
[null,"Переход на программу спортивной подготовки","06","Не перешли",null,"Частично перешли",null,"Полностью перешли"]
[null,null,null,1]
[null,"ОГРН","07","1024701480605"]
[null,"Признак того, является ли организация юридическим лицом","08","Да",null,null,"Нет"]
[null,null,null,1]

{"sheet":"Раздел2","index":2,"n_rows":249,"n_cols":32,"rows_kept":249,"cut":false,"hidden":false,"merged":[[0,0,203,0],[2,1,5,1],[2,2,5,2],[1,16,1,19],[2,5,2,19],[3,5,3,19],[4,5,5,5],[4,6,4,10],[0,1,0,19],[4,16,5,16],[2,3,4,4],[4,19,5,19],[4,11,4,15],[0,20,203,20],[4,17,5,17],[4,18,5,18]]}
[null,"Раздел II. Численность занимающихся"]
[null,null,null,null,null,null,null,null,null,null,null,null,null,null,null,null,"Коды по ОКЕИ: человек - 792, единица - 642 "]
[null,"Виды спорта","№ строки","Число отделений по видам спорта",null,"Число занимающихся на 31 декабря отчетного года"]
[null,null,null,null,null,"из них:"]
[null,null,null,null,null,"всего","по этапам подготовки",null,null,null,null,"по возрастам",null,null,null,null,"женщин","спортсменов, спортсменов – инструкторов","в платных группах","обучающихся по предпрофессио-нальным программам в области физической куль-туры и спорта"]
[null,null,null,"всего","в том числе отделения ФСО и ОУ, имеющие право использовать в наименовании слово \"Олимпийский\"",null,"спортивно-оздорови-тельный","начальной подготовки","трениро-вочный","совершен-ствования спортивного мастерства","высшего спортивного мастерства","до 5 лет","от 6 до 15 лет","от 16 до 21 года","от 22 до 30 лет","старше 30 лет"]
[null,1,2,3,4,5,6,7,8,9,10,11,12,13,14,15,16,17,18,19]
[null,"Авиамодельный спорт","01",null,0,{"$f":"SUM(G8:K8)*IF(D8>0,1,0)","v":0},null,null,null,null,null,null,null,null,null,null,null,null,null,null,null,{"$f":"Раздел3!D8","v":0},{"$f":"Раздел3!E8","v":0},{"$f":"Раздел3!F8","v":0},{"$f":"Раздел3!G8","v":0},{"$f":"Раздел3!H8","v":0},{"$f":"SUM(Раздел5!D7:O7)","v":0}]
[null,"Автомобильный спорт","02",null,null,{"$f":"SUM(G9:K9)*IF(D9>0,1,0)","v":0},null,null,null,null,null,null,null,null,null,null,null,null,null,null,null,{"$f":"Раздел3!D9","v":0},{"$f":"Раздел3!E9","v":0},{"$f":"Раздел3!F9","v":0},{"$f":"Раздел3!G9","v":0},{"$f":"Раздел3!H9","v":0},{"$f":"SUM(Раздел5!D8:O8)","v":0}]
[null,"Автомодельный спорт","03",null,null,0]
[null,"Айкидо","04",null,0,0,null,null,null,null,null,null,null,null,null,null,null,null,null,null,null,{"$f":"Раздел3!D10","v":0},{"$f":"Раздел3!E10","v":0},{"$f":"Раздел3!F10","v":0},{"$f":"Раздел3!G10","v":0},{"$f":"Раздел3!H10","v":0},{"$f":"SUM(Раздел5!D9:O9)","v":0}]
[null,"Айсшток","05",null,null,0]
[null,"Акробатический рок-н-ролл","06",null,0,0,null,null,null,null,null,null,null,null,null,null,null,0,0,0,null,{"$f":"Раздел3!D11","v":0},{"$f":"Раздел3!E11","v":0},{"$f":"Раздел3!F11","v":0},{"$f":"Раздел3!G11","v":0},{"$f":"Раздел3!H11","v":0},{"$f":"SUM(Раздел5!D10:O10)","v":0}]
[null,"Альпинизм","07",null,0,0,0,0,0,0,0,0,0,0,0,0,0,0,0,0,null,{"$f":"Раздел3!D12","v":0},{"$f":"Раздел3!E12","v":0},{"$f":"Раздел3!F12","v":0},{"$f":"Раздел3!G12","v":0},{"$f":"Раздел3!H12","v":0},{"$f":"SUM(Раздел5!D11:O11)","v":0}]
[null,"Американский футбол","08",null,0,0,0,0,0,0,0,0,0,0,0,0,0,0,0,0,null,{"$f":"Раздел3!D13","v":0},{"$f":"Раздел3!E13","v":0},{"$f":"Раздел3!F13","v":0},{"$f":"Раздел3!G13","v":0},{"$f":"Раздел3!H13","v":0},{"$f":"SUM(Раздел5!D12:O12)","v":0}]
[null,"Армейский рукопашный бой","09",null,null,0]
[null,"Армрестлинг","10",null,0,0,0,0,0,0,0,0,0,0,0,0,0,0,0,0,null,{"$f":"Раздел3!D14","v":0},{"$f":"Раздел3!E14","v":0},{"$f":"Раздел3!F14","v":0},{"$f":"Раздел3!G14","v":0},{"$f":"Раздел3!H14","v":0},{"$f":"SUM(Раздел5!D13:O13)","v":0}]
[null,"Бадминтон","11",null,0,0,0,0,0,0,0,0,0,0,0,0,0,0,0,0,null,{"$f":"Раздел3!D15","v":0},{"$f":"Раздел3!E15","v":0},{"$f":"Раздел3!F15","v":0},{"$f":"Раздел3!G15","v":0},{"$f":"Раздел3!H15","v":0},{"$f":"SUM(Раздел5!D14:O14)","v":0}]
[null,"Баскетбол - всего","12",{"$f":"IF(SUM(D20:D21)>=1,1,0)","v":1},{"$f":"IF(SUM(E20:E21)>=1,1,0)","v":0},134,{"$f":"SUM(G20:G21)","v":92},27,15,0,0,0,111,23,0,0,41,0,0,42,null,{"$f":"Раздел3!D16","v":0},{"$f":"Раздел3!E16","v":0},{"$f":"Раздел3!F16","v":0},{"$f":"Раздел3!G16","v":0},{"$f":"Раздел3!H16","v":0},{"$f":"SUM(Раздел5!D15:O15)","v":0}]
[null,"в том числе:\nБаскетбол (муж.)","13",1,0,93,72,12,9,0,0,0,73,20,0,0,0,0,0,21,null,{"$f":"Раздел3!D17","v":0},{"$f":"Раздел3!E17","v":0},{"$f":"Раздел3!F17","v":0},{"$f":"Раздел3!G17","v":0},{"$f":"Раздел3!H17","v":0},{"$f":"SUM(Раздел5!D16:O16)","v":0}]
[null,"Баскетбол (жен.)","14",1,0,41,20,15,6,null,null,null,38,3,null,null,41,0,0,21,null,{"$f":"Раздел3!D18","v":0},{"$f":"Раздел3!E18","v":0},{"$f":"Раздел3!F18","v":0},{"$f":"Раздел3!G18","v":0},{"$f":"Раздел3!H18","v":0},{"$f":"SUM(Раздел5!D17:O17)","v":0}]
[null,"Бейсбол","15",null,0,0,0,0,0,0,0,0,0,0,0,0,0,0,0,0,null,{"$f":"Раздел3!D19","v":0},{"$f":"Раздел3!E19","v":0},{"$f":"Раздел3!F19","v":0},{"$f":"Раздел3!G19","v":0},{"$f":"Раздел3!H19","v":0},{"$f":"SUM(Раздел5!D18:O18)","v":0}]
[null,"Биатлон","16",null,0,0,0,0,0,0,0,0,0,0,0,0,0,0,0,0,null,{"$f":"Раздел3!D20","v":0},{"$f":"Раздел3!E20","v":0},{"$f":"Раздел3!F20","v":0},{"$f":"Раздел3!G20","v":0},{"$f":"Раздел3!H20","v":0},{"$f":"SUM(Раздел5!D19:O19)","v":0}]
[null,"Бильярдный спорт","17",null,0,0,0,0,0,0,0,0,0,0,0,0,0,0,0,0,null,{"$f":"Раздел3!D21","v":0},{"$f":"Раздел3!E21","v":0},{"$f":"Раздел3!F21","v":0},{"$f":"Раздел3!G21","v":0},{"$f":"Раздел3!H21","v":0},{"$f":"SUM(Раздел5!D20:O20)","v":0}]
[null,"Бобслей - всего","18",{"$f":"IF(SUM(D26:D27)>=1,1,0)","v":0},{"$f":"IF(SUM(E26:E27)>=1,1,0)","v":0},0,{"$f":"SUM(G26:G27)","v":0},0,0,0,0,0,0,0,0,0,0,0,0,0,null,{"$f":"Раздел3!D22","v":0},{"$f":"Раздел3!E22","v":0},{"$f":"Раздел3!F22","v":0},{"$f":"Раздел3!G22","v":0},{"$f":"Раздел3!H22","v":0},{"$f":"SUM(Раздел5!D21:O21)","v":0}]
[null,"в том числе:\nБобслей","19",null,0,0,0,0,0,0,0,0,0,0,0,0,0,0,0,0,null,{"$f":"Раздел3!D23","v":0},{"$f":"Раздел3!E23","v":0},{"$f":"Раздел3!F23","v":0},{"$f":"Раздел3!G23","v":0},{"$f":"Раздел3!H23","v":0},{"$f":"SUM(Раздел5!D22:O22)","v":0}]
[null,"Скелетон","20",0,0,0,0,0,0,0,0,0,0,0,0,0,0,0,0,0,null,{"$f":"Раздел3!D24","v":0},{"$f":"Раздел3!E24","v":0},{"$f":"Раздел3!F24","v":0},{"$f":"Раздел3!G24","v":0},{"$f":"Раздел3!H24","v":0},{"$f":"SUM(Раздел5!D23:O23)","v":0}]
[null,"Бодибилдинг","21",0,0,0,0,0,0,0,0,0,0,0,0,0,0,0,0,0,null,{"$f":"Раздел3!D25","v":0},{"$f":"Раздел3!E25","v":0},{"$f":"Раздел3!F25","v":0},{"$f":"Раздел3!G25","v":0},{"$f":"Раздел3!H25","v":0},{"$f":"SUM(Раздел5!D24:O24)","v":0}]
[null,"Бокс","22",1,0,90,90,0,0,0,0,0,87,3,0,0,3,0,0,0,null,{"$f":"Раздел3!D26","v":0},{"$f":"Раздел3!E26","v":0},{"$f":"Раздел3!F26","v":0},{"$f":"Раздел3!G26","v":0},{"$f":"Раздел3!H26","v":0},{"$f":"SUM(Раздел5!D25:O25)","v":0}]
[null,"Борьба на поясах","23",0,0,0,0,0,0,0,0,0,0,0,0,0,0,0,0,0,null,{"$f":"Раздел3!D27","v":0},{"$f":"Раздел3!E27","v":0},{"$f":"Раздел3!F27","v":0},{"$f":"Раздел3!G27","v":0},{"$f":"Раздел3!H27","v":0},{"$f":"SUM(Раздел5!D26:O26)","v":0}]
[null,"Боулинг","24",0,0,0,0,0,0,0,0,0,0,0,0,0,0,0,0,0,null,{"$f":"Раздел3!D28","v":0},{"$f":"Раздел3!E28","v":0},{"$f":"Раздел3!F28","v":0},{"$f":"Раздел3!G28","v":0},{"$f":"Раздел3!H28","v":0},{"$f":"SUM(Раздел5!D27:O27)","v":0}]
[null,"Велоспорт ВМХ","25",0,0,0,0,0,0,0,0,0,0,0,0,0,0,0,0,0,null,{"$f":"Раздел3!D29","v":0},{"$f":"Раздел3!E29","v":0},{"$f":"Раздел3!F29","v":0},{"$f":"Раздел3!G29","v":0},{"$f":"Раздел3!H29","v":0},{"$f":"SUM(Раздел5!D28:O28)","v":0}]
[null,"Велоспорт – маунтинбайк","26",0,0,0,0,0,0,0,0,0,0,0,0,0,0,0,0,0,null,{"$f":"Раздел3!D30","v":0},{"$f":"Раздел3!E30","v":0},{"$f":"Раздел3!F30","v":0},{"$f":"Раздел3!G30","v":0},{"$f":"Раздел3!H30","v":0},{"$f":"SUM(Раздел5!D29:O29)","v":0}]
[null,"Велоспорт – трек","27",0,0,0,0,0,0,0,0,0,0,0,0,0,0,0,0,0,null,{"$f":"Раздел3!D31","v":0},{"$f":"Раздел3!E31","v":0},{"$f":"Раздел3!F31","v":0},{"$f":"Раздел3!G31","v":0},{"$f":"Раздел3!H31","v":0},{"$f":"SUM(Раздел5!D30:O30)","v":0}]
[null,"Велоспорт – шоссе","28",0,0,0,0,0,0,0,0,0,0,0,0,0,0,0,0,0,null,{"$f":"Раздел3!D32","v":0},{"$f":"Раздел3!E32","v":0},{"$f":"Раздел3!F32","v":0},{"$f":"Раздел3!G32","v":0},{"$f":"Раздел3!H32","v":0},{"$f":"SUM(Раздел5!D31:O31)","v":0}]
[null,"Вертолетный спорт","29",0,0,0,0,0,0,0,0,0,0,0,0,0,0,0,0,0,null,{"$f":"Раздел3!D33","v":0},{"$f":"Раздел3!E33","v":0},{"$f":"Раздел3!F33","v":0},{"$f":"Раздел3!G33","v":0},{"$f":"Раздел3!H33","v":0},{"$f":"SUM(Раздел5!D32:O32)","v":0}]
[null,"Водно-моторный спорт","30",0,0,0,0,0,0,0,0,0,0,0,0,0,0,0,0,0,null,{"$f":"Раздел3!D34","v":0},{"$f":"Раздел3!E34","v":0},{"$f":"Раздел3!F34","v":0},{"$f":"Раздел3!G34","v":0},{"$f":"Раздел3!H34","v":0},{"$f":"SUM(Раздел5!D33:O33)","v":0}]
[null,"Водное поло - всего ","31",{"$f":"IF(SUM(D39:D40)>=1,1,0)","v":0},{"$f":"IF(SUM(E39:E40)>=1,1,0)","v":0},{"$f":"SUM(G38:K38)*IF(D38>0,1,0)","v":0},{"$f":"SUM(G39:G40)","v":0},0,0,0,0,0,0,0,0,0,0,0,0,0,null,{"$f":"Раздел3!D35","v":0},{"$f":"Раздел3!E35","v":0},{"$f":"Раздел3!F35","v":0},{"$f":"Раздел3!G35","v":0},{"$f":"Раздел3!H35","v":0},{"$f":"SUM(Раздел5!D34:O34)","v":0}]
[null,"в том числе:\nВодное поло (муж.)","32",null,0,0,null,null,null,null,null,null,null,null,null,null,null,0,0,0,null,{"$f":"Раздел3!D36","v":0},{"$f":"Раздел3!E36","v":0},{"$f":"Раздел3!F36","v":0},{"$f":"Раздел3!G36","v":0},{"$f":"Раздел3!H36","v":0},{"$f":"SUM(Раздел5!D35:O35)","v":0}]
[null,"Водное поло (жен.)","33",null,0,0,null,null,null,null,null,null,null,null,null,null,null,0,0,0,null,{"$f":"Раздел3!D37","v":0},{"$f":"Раздел3!E37","v":0},{"$f":"Раздел3!F37","v":0},{"$f":"Раздел3!G37","v":0},{"$f":"Раздел3!H37","v":0},{"$f":"SUM(Раздел5!D36:O36)","v":0}]
[null,"Воднолыжный спорт","34",0,0,0,null,null,null,null,null,null,null,null,null,null,0,0,0,0,null,{"$f":"Раздел3!D38","v":0},{"$f":"Раздел3!E38","v":0},{"$f":"Раздел3!F38","v":0},{"$f":"Раздел3!G38","v":0},{"$f":"Раздел3!H38","v":0},{"$f":"SUM(Раздел5!D37:O37)","v":0}]
[null,"Военно-прикладной спорт","35",null,null,0]
[null,"Военно-спортивное многоборье","36",null,null,0]
[null,"Воздухоплавательный спорт","37",0,0,0,0,0,0,0,0,0,0,0,0,0,0,0,0,0,null,{"$f":"Раздел3!D39","v":0},{"$f":"Раздел3!E39","v":0},{"$f":"Раздел3!F39","v":0},{"$f":"Раздел3!G39","v":0},{"$f":"Раздел3!H39","v":0},{"$f":"SUM(Раздел5!D38:O38)","v":0}]
[null,"Волейбол - всего","38",{"$f":"IF(SUM(D46:D49)>=1,1,0)","v":1},{"$f":"IF(SUM(E46:E49)>=1,1,0)","v":0},80,{"$f":"SUM(G46:G49)","v":80},{"$f":"SUM(H46:H49)","v":0},0,0,0,0,64,16,0,0,59,0,0,0,null,{"$f":"Раздел3!D40","v":0},{"$f":"Раздел3!E40","v":0},{"$f":"Раздел3!F40","v":0},{"$f":"Раздел3!G40","v":0},{"$f":"Раздел3!H40","v":0},{"$f":"SUM(Раздел5!D39:O39)","v":0}]
[null,"в том числе:\nВолейбол (муж.)","39",1,0,21,21,0,0,0,0,0,13,8,0,0,0,0,0,0,null,{"$f":"Раздел3!D41","v":0},{"$f":"Раздел3!E41","v":0},{"$f":"Раздел3!F41","v":0},{"$f":"Раздел3!G41","v":0},{"$f":"Раздел3!H41","v":0},{"$f":"SUM(Раздел5!D40:O40)","v":0}]
[null,"Волейбол (жен.)","40",1,0,59,59,null,null,null,null,null,51,8,null,null,59,0,0,0,null,{"$f":"Раздел3!D42","v":0},{"$f":"Раздел3!E42","v":0},{"$f":"Раздел3!F42","v":0},{"$f":"Раздел3!G42","v":0},{"$f":"Раздел3!H42","v":0},{"$f":"SUM(Раздел5!D41:O41)","v":0}]
[null,"Пляжный волейбол (муж.)","41",0,0,0,0,0,0,0,0,0,0,0,0,0,0,0,0,0,null,{"$f":"Раздел3!D43","v":0},{"$f":"Раздел3!E43","v":0},{"$f":"Раздел3!F43","v":0},{"$f":"Раздел3!G43","v":0},{"$f":"Раздел3!H43","v":0},{"$f":"SUM(Раздел5!D42:O42)","v":0}]
[null,"Пляжный волейбол (жен.)","42",0,0,0,0,0,0,0,0,0,0,0,0,0,0,0,0,0,null,{"$f":"Раздел3!D44","v":0},{"$f":"Раздел3!E44","v":0},{"$f":"Раздел3!F44","v":0},{"$f":"Раздел3!G44","v":0},{"$f":"Раздел3!H44","v":0},{"$f":"SUM(Раздел5!D43:O43)","v":0}]
[null,"Восточное боевое единоборство","43",0,0,0,0,0,0,0,0,0,0,0,0,0,0,0,0,0,null,{"$f":"Раздел3!D45","v":0},{"$f":"Раздел3!E45","v":0},{"$f":"Раздел3!F45","v":0},{"$f":"Раздел3!G45","v":0},{"$f":"Раздел3!H45","v":0},{"$f":"SUM(Раздел5!D44:O44)","v":0}]
[null,"Всестилевое карате","44",0,0,0,0,0,0,0,0,0,0,0,0,0,0,0,0,0,null,{"$f":"Раздел3!D46","v":0},{"$f":"Раздел3!E46","v":0},{"$f":"Раздел3!F46","v":0},{"$f":"Раздел3!G46","v":0},{"$f":"Раздел3!H46","v":0},{"$f":"SUM(Раздел5!D45:O45)","v":0}]
[null,"Гандбол - всего","45",{"$f":"IF(SUM(D53:D55)>=1,1,0)","v":0},{"$f":"IF(SUM(E53:E55)>=1,1,0)","v":0},{"$f":"SUM(G52:K52)*IF(D52>0,1,0)","v":0},{"$f":"SUM(G53:G55)","v":0},{"$f":"SUM(H53:H55)","v":0},0,0,0,0,0,0,0,0,0,0,0,0,null,{"$f":"Раздел3!D47","v":0},{"$f":"Раздел3!E47","v":0},{"$f":"Раздел3!F47","v":0},{"$f":"Раздел3!G47","v":0},{"$f":"Раздел3!H47","v":0},{"$f":"SUM(Раздел5!D46:O46)","v":0}]
[null,"в том числе:\nГандбол (муж.)","46",0,0,0,0,0,0,0,0,0,0,0,0,0,0,0,0,0,null,{"$f":"Раздел3!D48","v":0},{"$f":"Раздел3!E48","v":0},{"$f":"Раздел3!F48","v":0},{"$f":"Раздел3!G48","v":0},{"$f":"Раздел3!H48","v":0},{"$f":"SUM(Раздел5!D47:O47)","v":0}]
[null,"Гандбол (жен.)","47",0,0,0,0,0,0,0,0,0,0,0,0,0,0,0,0,0,null,{"$f":"Раздел3!D49","v":0},{"$f":"Раздел3!E49","v":0},{"$f":"Раздел3!F49","v":0},{"$f":"Раздел3!G49","v":0},{"$f":"Раздел3!H49","v":0},{"$f":"SUM(Раздел5!D48:O48)","v":0}]
[null,"Пляжный гандбол","48",null,null,0]
[null,"Гиревой спорт","49",0,0,0,0,0,0,0,0,0,0,0,0,0,0,0,0,0,null,{"$f":"Раздел3!D50","v":0},{"$f":"Раздел3!E50","v":0},{"$f":"Раздел3!F50","v":0},{"$f":"Раздел3!G50","v":0},{"$f":"Раздел3!H50","v":0},{"$f":"SUM(Раздел5!D49:O49)","v":0}]
[null,"Го","50",0,0,0,0,0,0,0,0,0,0,0,0,0,0,0,0,0,null,{"$f":"Раздел3!D51","v":0},{"$f":"Раздел3!E51","v":0},{"$f":"Раздел3!F51","v":0},{"$f":"Раздел3!G51","v":0},{"$f":"Раздел3!H51","v":0},{"$f":"SUM(Раздел5!D50:O50)","v":0}]
[null,"Гольф","51",0,0,0,0,0,0,0,0,0,0,0,0,0,0,0,0,0,null,{"$f":"Раздел3!D52","v":0},{"$f":"Раздел3!E52","v":0},{"$f":"Раздел3!F52","v":0},{"$f":"Раздел3!G52","v":0},{"$f":"Раздел3!H52","v":0},{"$f":"SUM(Раздел5!D51:O51)","v":0}]
[null,"Горнолыжный спорт","52",0,0,0,0,0,0,0,0,0,0,0,0,0,0,0,0,0,null,{"$f":"Раздел3!D53","v":0},{"$f":"Раздел3!E53","v":0},{"$f":"Раздел3!F53","v":0},{"$f":"Раздел3!G53","v":0},{"$f":"Раздел3!H53","v":0},{"$f":"SUM(Раздел5!D52:O52)","v":0}]
[null,"Городошный спорт","53",0,0,0,0,0,0,0,0,0,0,0,0,0,0,0,0,0,null,{"$f":"Раздел3!D54","v":0},{"$f":"Раздел3!E54","v":0},{"$f":"Раздел3!F54","v":0},{"$f":"Раздел3!G54","v":0},{"$f":"Раздел3!H54","v":0},{"$f":"SUM(Раздел5!D53:O53)","v":0}]
[null,"Гребля на байдарках и каноэ","54",0,0,0,0,0,0,0,0,0,0,0,0,0,0,0,0,0,null,{"$f":"Раздел3!D55","v":0},{"$f":"Раздел3!E55","v":0},{"$f":"Раздел3!F55","v":0},{"$f":"Раздел3!G55","v":0},{"$f":"Раздел3!H55","v":0},{"$f":"SUM(Раздел5!D54:O54)","v":0}]
[null,"Гребля на шлюпках","55",null,null,0]
[null,"Гребной слалом","56",0,0,0,0,0,0,0,0,0,0,0,0,0,0,0,0,0,null,{"$f":"Раздел3!D56","v":0},{"$f":"Раздел3!E56","v":0},{"$f":"Раздел3!F56","v":0},{"$f":"Раздел3!G56","v":0},{"$f":"Раздел3!H56","v":0},{"$f":"SUM(Раздел5!D55:O55)","v":0}]
[null,"Гребной спорт - всего","57",{"$f":"IF(SUM(D65:D68)>=1,1,0)","v":0},{"$f":"IF(SUM(E65:E68)>=1,1,0)","v":0},0,{"$f":"SUM(G65:G68)","v":0},{"$f":"SUM(H65:H68)","v":0},0,0,0,0,0,0,0,0,0,0,0,0,null,{"$f":"Раздел3!D57","v":0},{"$f":"Раздел3!E57","v":0},{"$f":"Раздел3!F57","v":0},{"$f":"Раздел3!G57","v":0},{"$f":"Раздел3!H57","v":0},{"$f":"SUM(Раздел5!D56:O56)","v":0}]
[null,"в том числе:\nАкадемическая гребля","58",0,0,0,0,0,0,0,0,0,0,0,0,0,0,0,0,0,null,{"$f":"Раздел3!D58","v":0},{"$f":"Раздел3!E58","v":0},{"$f":"Раздел3!F58","v":0},{"$f":"Раздел3!G58","v":0},{"$f":"Раздел3!H58","v":0},{"$f":"SUM(Раздел5!D57:O57)","v":0}]
[null,"Гребля-индор","59",0,0,0,0,0,0,0,0,0,0,0,0,0,0,0,0,0,null,{"$f":"Раздел3!D59","v":0},{"$f":"Раздел3!E59","v":0},{"$f":"Раздел3!F59","v":0},{"$f":"Раздел3!G59","v":0},{"$f":"Раздел3!H59","v":0},{"$f":"SUM(Раздел5!D58:O58)","v":0}]
[null,"Народная гребля","60",0,0,0,0,0,0,0,0,0,0,0,0,0,0,0,0,0,null,{"$f":"Раздел3!D60","v":0},{"$f":"Раздел3!E60","v":0},{"$f":"Раздел3!F60","v":0},{"$f":"Раздел3!G60","v":0},{"$f":"Раздел3!H60","v":0},{"$f":"SUM(Раздел5!D59:O59)","v":0}]
[null,"Прибрежная гребля","61",0,0,0,0,0,0,0,0,0,0,0,0,0,0,0,0,0,null,{"$f":"Раздел3!D61","v":0},{"$f":"Раздел3!E61","v":0},{"$f":"Раздел3!F61","v":0},{"$f":"Раздел3!G61","v":0},{"$f":"Раздел3!H61","v":0},{"$f":"SUM(Раздел5!D60:O60)","v":0}]
[null,"Гребно-парусное двоеборье","62",0,0,0,0,0,0,0,0,0,0,0,0,0,0,0,0,0,null,{"$f":"Раздел3!D62","v":0},{"$f":"Раздел3!E62","v":0},{"$f":"Раздел3!F62","v":0},{"$f":"Раздел3!G62","v":0},{"$f":"Раздел3!H62","v":0},{"$f":"SUM(Раздел5!D61:O61)","v":0}]
[null,"Дартс","63",0,0,0,0,0,0,0,0,0,0,0,0,0,0,0,0,0,null,{"$f":"Раздел3!D63","v":0},{"$f":"Раздел3!E63","v":0},{"$f":"Раздел3!F63","v":0},{"$f":"Раздел3!G63","v":0},{"$f":"Раздел3!H63","v":0},{"$f":"SUM(Раздел5!D62:O62)","v":0}]
[null,"Джиу-джитсу","64",0,0,0,0,0,0,0,0,0,0,0,0,0,0,0,0,0,null,{"$f":"Раздел3!D64","v":0},{"$f":"Раздел3!E64","v":0},{"$f":"Раздел3!F64","v":0},{"$f":"Раздел3!G64","v":0},{"$f":"Раздел3!H64","v":0},{"$f":"SUM(Раздел5!D63:O63)","v":0}]
[null,"Дзюдо","65",1,0,282,151,64,67,0,0,0,267,15,0,0,37,0,0,131,null,{"$f":"Раздел3!D65","v":0},{"$f":"Раздел3!E65","v":0},{"$f":"Раздел3!F65","v":0},{"$f":"Раздел3!G65","v":0},{"$f":"Раздел3!H65","v":0},{"$f":"SUM(Раздел5!D64:O64)","v":0}]
[null,"Ездовой спорт","66",0,0,{"$f":"SUM(G73:K73)*IF(D73>0,1,0)","v":0},0,0,0,0,0,0,0,0,0,0,0,0,0,0,null,{"$f":"Раздел3!D66","v":0},{"$f":"Раздел3!E66","v":0},{"$f":"Раздел3!F66","v":0},{"$f":"Раздел3!G66","v":0},{"$f":"Раздел3!H66","v":0},{"$f":"SUM(Раздел5!D65:O65)","v":0}]
[null,"Капоэйра","67",0,0,0,0,0,0,0,0,0,0,0,0,0,0,0,0,0,null,{"$f":"Раздел3!D67","v":0},{"$f":"Раздел3!E67","v":0},{"$f":"Раздел3!F67","v":0},{"$f":"Раздел3!G67","v":0},{"$f":"Раздел3!H67","v":0},{"$f":"SUM(Раздел5!D66:O66)","v":0}]
[null,"Каратэ","68",0,0,0,0,0,0,0,0,0,0,0,0,0,0,0,0,0,null,{"$f":"Раздел3!D68","v":0},{"$f":"Раздел3!E68","v":0},{"$f":"Раздел3!F68","v":0},{"$f":"Раздел3!G68","v":0},{"$f":"Раздел3!H68","v":0},{"$f":"SUM(Раздел5!D67:O67)","v":0}]
[null,"Кендо","69",0,0,0,0,0,0,0,0,0,0,0,0,0,0,0,0,0,null,{"$f":"Раздел3!D69","v":0},{"$f":"Раздел3!E69","v":0},{"$f":"Раздел3!F69","v":0},{"$f":"Раздел3!G69","v":0},{"$f":"Раздел3!H69","v":0},{"$f":"SUM(Раздел5!D68:O68)","v":0}]
[null,"Керешу","70",0,0,0,0,0,0,0,0,0,0,0,0,0,0,0,0,0,null,{"$f":"Раздел3!D70","v":0},{"$f":"Раздел3!E70","v":0},{"$f":"Раздел3!F70","v":0},{"$f":"Раздел3!G70","v":0},{"$f":"Раздел3!H70","v":0},{"$f":"SUM(Раздел5!D69:O69)","v":0}]
[null,"Керлинг - всего","71",{"$f":"IF(SUM(D79:D80)>=1,1,0)","v":0},{"$f":"IF(SUM(E79:E80)>=1,1,0)","v":0},{"$f":"SUM(G78:K78)*IF(D78>0,1,0)","v":0},{"$f":"SUM(G79:G80)","v":0},0,0,0,0,0,0,0,0,0,0,0,0,0,null,{"$f":"Раздел3!D71","v":0},{"$f":"Раздел3!E71","v":0},{"$f":"Раздел3!F71","v":0},{"$f":"Раздел3!G71","v":0},{"$f":"Раздел3!H71","v":0},{"$f":"SUM(Раздел5!D70:O70)","v":0}]
[null,"в том числе:\nКерлинг (муж.)","72",0,0,0,0,0,0,0,0,0,0,0,0,0,0,0,0,0,null,{"$f":"Раздел3!D72","v":0},{"$f":"Раздел3!E72","v":0},{"$f":"Раздел3!F72","v":0},{"$f":"Раздел3!G72","v":0},{"$f":"Раздел3!H72","v":0},{"$f":"SUM(Раздел5!D71:O71)","v":0}]
[null,"Керлинг (жен.)","73",0,0,0,0,0,0,0,0,0,0,0,0,0,0,0,0,0,null,{"$f":"Раздел3!D73","v":0},{"$f":"Раздел3!E73","v":0},{"$f":"Раздел3!F73","v":0},{"$f":"Раздел3!G73","v":0},{"$f":"Раздел3!H73","v":0},{"$f":"SUM(Раздел5!D72:O72)","v":0}]
[null,"Кикбоксинг","74",0,0,0,0,0,0,0,0,0,0,0,0,0,0,0,0,0,null,{"$f":"Раздел3!D74","v":0},{"$f":"Раздел3!E74","v":0},{"$f":"Раздел3!F74","v":0},{"$f":"Раздел3!G74","v":0},{"$f":"Раздел3!H74","v":0},{"$f":"SUM(Раздел5!D73:O73)","v":0}]
[null,"Кинологический спорт","75",0,0,0,0,0,0,0,0,0,0,0,0,0,0,0,0,0,null,{"$f":"Раздел3!D75","v":0},{"$f":"Раздел3!E75","v":0},{"$f":"Раздел3!F75","v":0},{"$f":"Раздел3!G75","v":0},{"$f":"Раздел3!H75","v":0},{"$f":"SUM(Раздел5!D74:O74)","v":0}]
[null,"Киокусинкай","76",0,0,0,0,0,0,0,0,0,0,0,0,0,0,0,0,0,null,{"$f":"Раздел3!D76","v":0},{"$f":"Раздел3!E76","v":0},{"$f":"Раздел3!F76","v":0},{"$f":"Раздел3!G76","v":0},{"$f":"Раздел3!H76","v":0},{"$f":"SUM(Раздел5!D75:O75)","v":0}]
[null,"Комплексное единоборство","77",0,0,0,0,0,0,0,0,0,0,0,0,0,0,0,0,0,null,{"$f":"Раздел3!D77","v":0},{"$f":"Раздел3!E77","v":0},{"$f":"Раздел3!F77","v":0},{"$f":"Раздел3!G77","v":0},{"$f":"Раздел3!H77","v":0},{"$f":"SUM(Раздел5!D76:O76)","v":0}]
[null,"Компьютерный спорт","78",0,0,0,0,0,0,0,0,0,0,0,0,0,0,0,0,0,null,{"$f":"Раздел3!D78","v":0},{"$f":"Раздел3!E78","v":0},{"$f":"Раздел3!F78","v":0},{"$f":"Раздел3!G78","v":0},{"$f":"Раздел3!H78","v":0},{"$f":"SUM(Раздел5!D77:O77)","v":0}]
[null,"Конный спорт","79",0,0,0,0,0,0,0,0,0,0,0,0,0,0,0,0,0,null,{"$f":"Раздел3!D79","v":0},{"$f":"Раздел3!E79","v":0},{"$f":"Раздел3!F79","v":0},{"$f":"Раздел3!G79","v":0},{"$f":"Раздел3!H79","v":0},{"$f":"SUM(Раздел5!D78:O78)","v":0}]
[null,"Конькобежный спорт - всего","80",{"$f":"IF(SUM(D88:D89)>=1,1,0)","v":0},{"$f":"IF(SUM(E88:E89)>=1,1,0)","v":0},{"$f":"SUM(G87:K87)*IF(D87>0,1,0)","v":0},{"$f":"SUM(G88:G89)","v":0},0,0,0,0,0,0,0,0,0,0,0,0,0,null,{"$f":"Раздел3!D80","v":0},{"$f":"Раздел3!E80","v":0},{"$f":"Раздел3!F80","v":0},{"$f":"Раздел3!G80","v":0},{"$f":"Раздел3!H80","v":0},{"$f":"SUM(Раздел5!D79:O79)","v":0}]
[null,"в том числе:\nКонькобежный спорт","81",0,0,0,0,0,0,0,0,0,0,0,0,0,0,0,0,0,null,{"$f":"Раздел3!D81","v":0},{"$f":"Раздел3!E81","v":0},{"$f":"Раздел3!F81","v":0},{"$f":"Раздел3!G81","v":0},{"$f":"Раздел3!H81","v":0},{"$f":"SUM(Раздел5!D80:O80)","v":0}]
[null,"Шорт-трек","82",0,0,0,0,0,0,0,0,0,0,0,0,0,0,0,0,0,null,{"$f":"Раздел3!D82","v":0},{"$f":"Раздел3!E82","v":0},{"$f":"Раздел3!F82","v":0},{"$f":"Раздел3!G82","v":0},{"$f":"Раздел3!H82","v":0},{"$f":"SUM(Раздел5!D81:O81)","v":0}]
[null,"Корэш","83",0,0,0,0,0,0,0,0,0,0,0,0,0,0,0,0,0,null,{"$f":"Раздел3!D83","v":0},{"$f":"Раздел3!E83","v":0},{"$f":"Раздел3!F83","v":0},{"$f":"Раздел3!G83","v":0},{"$f":"Раздел3!H83","v":0},{"$f":"SUM(Раздел5!D82:O82)","v":0}]
[null,"Корфбол","84",0,0,0,0,0,0,0,0,0,0,0,0,0,0,0,0,0,null,{"$f":"Раздел3!D84","v":0},{"$f":"Раздел3!E84","v":0},{"$f":"Раздел3!F84","v":0},{"$f":"Раздел3!G84","v":0},{"$f":"Раздел3!H84","v":0},{"$f":"SUM(Раздел5!D83:O83)","v":0}]
[null,"Лапта","85",0,0,0,0,0,0,0,0,0,0,0,0,0,0,0,0,0,null,{"$f":"Раздел3!D85","v":0},{"$f":"Раздел3!E85","v":0},{"$f":"Раздел3!F85","v":0},{"$f":"Раздел3!G85","v":0},{"$f":"Раздел3!H85","v":0},{"$f":"SUM(Раздел5!D84:O84)","v":0}]
[null,"Легкая атлетика - всего","86",{"$f":"IF(SUM(D94:D100)>=1,1,0)","v":1},{"$f":"IF(SUM(E94:E100)>=1,1,0)","v":0},{"$f":"SUM(G93:K93)*IF(D93>0,1,0)","v":187},{"$f":"SUM(G94:G100)","v":187},{"$f":"SUM(H94:H100)","v":0},0,0,0,0,187,0,0,0,98,0,0,0,null,{"$f":"Раздел3!D86","v":0},{"$f":"Раздел3!E86","v":0},{"$f":"Раздел3!F86","v":0},{"$f":"Раздел3!G86","v":0},{"$f":"Раздел3!H86","v":0},{"$f":"SUM(Раздел5!D85:O85)","v":0}]
[null,"в том числе:\nСпринтерский и барьерный бег","87",0,0,0,0,0,0,0,0,0,0,0,0,0,0,0,0,0,null,{"$f":"Раздел3!D87","v":0},{"$f":"Раздел3!E87","v":0},{"$f":"Раздел3!F87","v":0},{"$f":"Раздел3!G87","v":0},{"$f":"Раздел3!H87","v":0},{"$f":"SUM(Раздел5!D86:O86)","v":0}]
[null,"Бег на средние дистанции и бег с препятствиями","88",0,0,0,0,0,0,0,0,0,0,0,0,0,0,0,0,0,null,{"$f":"Раздел3!D88","v":0},{"$f":"Раздел3!E88","v":0},{"$f":"Раздел3!F88","v":0},{"$f":"Раздел3!G88","v":0},{"$f":"Раздел3!H88","v":0},{"$f":"SUM(Раздел5!D87:O87)","v":0}]
[null,"Бег на длинные и сверхдлинные дистанции","89",0,0,0,0,0,0,0,0,0,0,0,0,0,0,0,0,0,null,{"$f":"Раздел3!D89","v":0},{"$f":"Раздел3!E89","v":0},{"$f":"Раздел3!F89","v":0},{"$f":"Раздел3!G89","v":0},{"$f":"Раздел3!H89","v":0},{"$f":"SUM(Раздел5!D88:O88)","v":0}]
[null,"Многоборья","90",1,0,187,187,0,0,0,0,0,187,0,0,0,98,0,0,0,null,{"$f":"Раздел3!D90","v":0},{"$f":"Раздел3!E90","v":0},{"$f":"Раздел3!F90","v":0},{"$f":"Раздел3!G90","v":0},{"$f":"Раздел3!H90","v":0},{"$f":"SUM(Раздел5!D89:O89)","v":0}]
[null,"Прыжки","91",0,0,0,0,0,0,0,0,0,0,0,0,0,0,0,0,0,null,{"$f":"Раздел3!D91","v":0},{"$f":"Раздел3!E91","v":0},{"$f":"Раздел3!F91","v":0},{"$f":"Раздел3!G91","v":0},{"$f":"Раздел3!H91","v":0},{"$f":"SUM(Раздел5!D90:O90)","v":0}]
[null,"Метания","92",0,0,0,0,0,0,0,0,0,0,0,0,0,0,0,0,0,null,{"$f":"Раздел3!D92","v":0},{"$f":"Раздел3!E92","v":0},{"$f":"Раздел3!F92","v":0},{"$f":"Раздел3!G92","v":0},{"$f":"Раздел3!H92","v":0},{"$f":"SUM(Раздел5!D91:O91)","v":0}]
[null,"Спортивная ходьба","93",0,0,0,0,0,0,0,0,0,0,0,0,0,0,0,0,0,null,{"$f":"Раздел3!D93","v":0},{"$f":"Раздел3!E93","v":0},{"$f":"Раздел3!F93","v":0},{"$f":"Раздел3!G93","v":0},{"$f":"Раздел3!H93","v":0},{"$f":"SUM(Раздел5!D92:O92)","v":0}]
[null,"Лыжное двоеборье","94",0,0,0,0,0,0,0,0,0,0,0,0,0,0,0,0,0,null,{"$f":"Раздел3!D94","v":0},{"$f":"Раздел3!E94","v":0},{"$f":"Раздел3!F94","v":0},{"$f":"Раздел3!G94","v":0},{"$f":"Раздел3!H94","v":0},{"$f":"SUM(Раздел5!D93:O93)","v":0}]
[null,"Лыжные гонки","95",0,0,0,0,0,0,0,0,0,0,0,0,0,0,0,0,0,null,{"$f":"Раздел3!D95","v":0},{"$f":"Раздел3!E95","v":0},{"$f":"Раздел3!F95","v":0},{"$f":"Раздел3!G95","v":0},{"$f":"Раздел3!H95","v":0},{"$f":"SUM(Раздел5!D94:O94)","v":0}]
[null,"Мас-рестлинг","96",0,0,0,0,0,0,0,0,0,0,0,0,0,0,0,0,0,null,{"$f":"Раздел3!D96","v":0},{"$f":"Раздел3!E96","v":0},{"$f":"Раздел3!F96","v":0},{"$f":"Раздел3!G96","v":0},{"$f":"Раздел3!H96","v":0},{"$f":"SUM(Раздел5!D95:O95)","v":0}]
[null,"Международное военно-спортивное многоборье","97",0,0,0,0,0,0,0,0,0,0,0,0,0,0,0,0,0,null,{"$f":"Раздел3!D97","v":0},{"$f":"Раздел3!E97","v":0},{"$f":"Раздел3!F97","v":0},{"$f":"Раздел3!G97","v":0},{"$f":"Раздел3!H97","v":0},{"$f":"SUM(Раздел5!D96:O96)","v":0}]
[null,"Многоборье кинологов","98",0,0,0,0,0,0,0,0,0,0,0,0,0,0,0,0,0,null,{"$f":"Раздел3!D98","v":0},{"$f":"Раздел3!E98","v":0},{"$f":"Раздел3!F98","v":0},{"$f":"Раздел3!G98","v":0},{"$f":"Раздел3!H98","v":0},{"$f":"SUM(Раздел5!D97:O97)","v":0}]
[null,"Многоборье спасателей МЧС России","99",0,0,0,0,0,0,0,0,0,0,0,0,0,0,0,0,0,null,{"$f":"Раздел3!D99","v":0},{"$f":"Раздел3!E99","v":0},{"$f":"Раздел3!F99","v":0},{"$f":"Раздел3!G99","v":0},{"$f":"Раздел3!H99","v":0},{"$f":"SUM(Раздел5!D98:O98)","v":0}]
[null,"Морское многоборье","100",0,0,0,0,0,0,0,0,0,0,0,0,0,0,0,0,0,null,{"$f":"Раздел3!D100","v":0},{"$f":"Раздел3!E100","v":0},{"$f":"Раздел3!F100","v":0},{"$f":"Раздел3!G100","v":0},{"$f":"Раздел3!H100","v":0},{"$f":"SUM(Раздел5!D99:O99)","v":0}]
[null,"Мотоциклетный спорт","101",0,0,0,0,0,0,0,0,0,0,0,0,0,0,0,0,0,null,{"$f":"Раздел3!D101","v":0},{"$f":"Раздел3!E101","v":0},{"$f":"Раздел3!F101","v":0},{"$f":"Раздел3!G101","v":0},{"$f":"Раздел3!H101","v":0},{"$f":"SUM(Раздел5!D100:O100)","v":0}]
[null,"Настольный теннис","102",0,0,0,0,0,0,0,0,0,0,0,0,0,0,0,0,0,null,{"$f":"Раздел3!D102","v":0},{"$f":"Раздел3!E102","v":0},{"$f":"Раздел3!F102","v":0},{"$f":"Раздел3!G102","v":0},{"$f":"Раздел3!H102","v":0},{"$f":"SUM(Раздел5!D101:O101)","v":0}]
[null,"Парашютный спорт","103",0,0,0,0,0,0,0,0,0,0,0,0,0,0,0,0,0,null,{"$f":"Раздел3!D103","v":0},{"$f":"Раздел3!E103","v":0},{"$f":"Раздел3!F103","v":0},{"$f":"Раздел3!G103","v":0},{"$f":"Раздел3!H103","v":0},{"$f":"SUM(Раздел5!D102:O102)","v":0}]
[null,"Парусный спорт","104",0,0,0,0,0,0,0,0,0,0,0,0,0,0,0,0,0,null,{"$f":"Раздел3!D104","v":0},{"$f":"Раздел3!E104","v":0},{"$f":"Раздел3!F104","v":0},{"$f":"Раздел3!G104","v":0},{"$f":"Раздел3!H104","v":0},{"$f":"SUM(Раздел5!D103:O103)","v":0}]
[null,"Пауэрлифтинг","105",0,0,0,0,0,0,0,0,0,0,0,0,0,0,0,0,0,null,{"$f":"Раздел3!D105","v":0},{"$f":"Раздел3!E105","v":0},{"$f":"Раздел3!F105","v":0},{"$f":"Раздел3!G105","v":0},{"$f":"Раздел3!H105","v":0},{"$f":"SUM(Раздел5!D104:O104)","v":0}]
[null,"Перетягивание каната","106",0,0,0,0,0,0,0,0,0,0,0,0,0,0,0,0,0,null,{"$f":"Раздел3!D106","v":0},{"$f":"Раздел3!E106","v":0},{"$f":"Раздел3!F106","v":0},{"$f":"Раздел3!G106","v":0},{"$f":"Раздел3!H106","v":0},{"$f":"SUM(Раздел5!D105:O105)","v":0}]
[null,"Петанк","107",0,0,0,0,0,0,0,0,0,0,0,0,0,0,0,0,0,null,{"$f":"Раздел3!D107","v":0},{"$f":"Раздел3!E107","v":0},{"$f":"Раздел3!F107","v":0},{"$f":"Раздел3!G107","v":0},{"$f":"Раздел3!H107","v":0},{"$f":"SUM(Раздел5!D106:O106)","v":0}]
[null,"Плавание - всего","108",{"$f":"IF(SUM(D116:D117)>=1,1,0)","v":0},{"$f":"IF(SUM(E116:E117)>=1,1,0)","v":0},{"$f":"SUM(G115:K115)*IF(D115>0,1,0)","v":0},{"$f":"SUM(G116:G117)","v":0},0,0,0,0,0,0,0,0,0,0,0,0,0,null,{"$f":"Раздел3!D108","v":0},{"$f":"Раздел3!E108","v":0},{"$f":"Раздел3!F108","v":0},{"$f":"Раздел3!G108","v":0},{"$f":"Раздел3!H108","v":0},{"$f":"SUM(Раздел5!D107:O107)","v":0}]
[null,"в том числе:\nПлавание ","109",0,0,0,0,0,0,0,0,0,0,0,0,0,0,0,0,0,null,{"$f":"Раздел3!D109","v":0},{"$f":"Раздел3!E109","v":0},{"$f":"Раздел3!F109","v":0},{"$f":"Раздел3!G109","v":0},{"$f":"Раздел3!H109","v":0},{"$f":"SUM(Раздел5!D108:O108)","v":0}]
[null,"Открытая вода","110",0,0,0,0,0,0,0,0,0,0,0,0,0,0,0,0,0,null,{"$f":"Раздел3!D110","v":0},{"$f":"Раздел3!E110","v":0},{"$f":"Раздел3!F110","v":0},{"$f":"Раздел3!G110","v":0},{"$f":"Раздел3!H110","v":0},{"$f":"SUM(Раздел5!D109:O109)","v":0}]
[null,"Планерный спорт","111",0,0,0,0,0,0,0,0,0,0,0,0,0,0,0,0,0,null,{"$f":"Раздел3!D111","v":0},{"$f":"Раздел3!E111","v":0},{"$f":"Раздел3!F111","v":0},{"$f":"Раздел3!G111","v":0},{"$f":"Раздел3!H111","v":0},{"$f":"SUM(Раздел5!D110:O110)","v":0}]
[null,"Подводный спорт","112",0,0,0,0,0,0,0,0,0,0,0,0,0,0,0,0,0,null,{"$f":"Раздел3!D112","v":0},{"$f":"Раздел3!E112","v":0},{"$f":"Раздел3!F112","v":0},{"$f":"Раздел3!G112","v":0},{"$f":"Раздел3!H112","v":0},{"$f":"SUM(Раздел5!D111:O111)","v":0}]
[null,"Пожарно-прикладной спорт","113",0,0,0,0,0,0,0,0,0,0,0,0,0,0,0,0,0,null,{"$f":"Раздел3!D113","v":0},{"$f":"Раздел3!E113","v":0},{"$f":"Раздел3!F113","v":0},{"$f":"Раздел3!G113","v":0},{"$f":"Раздел3!H113","v":0},{"$f":"SUM(Раздел5!D112:O112)","v":0}]
[null,"Полиатлон","114",0,0,0,0,0,0,0,0,0,0,0,0,0,0,0,0,0,null,{"$f":"Раздел3!D114","v":0},{"$f":"Раздел3!E114","v":0},{"$f":"Раздел3!F114","v":0},{"$f":"Раздел3!G114","v":0},{"$f":"Раздел3!H114","v":0},{"$f":"SUM(Раздел5!D113:O113)","v":0}]
[null,"Практическая стрельба","115",0,0,0,0,0,0,0,0,0,0,0,0,0,0,0,0,0,null,{"$f":"Раздел3!D115","v":0},{"$f":"Раздел3!E115","v":0},{"$f":"Раздел3!F115","v":0},{"$f":"Раздел3!G115","v":0},{"$f":"Раздел3!H115","v":0},{"$f":"SUM(Раздел5!D114:O114)","v":0}]
[null,"Прыжки в воду - всего","116",{"$f":"IF(SUM(D124:D125)>=1,1,0)","v":0},{"$f":"IF(SUM(E124:E125)>=1,1,0)","v":0},{"$f":"SUM(G123:K123)*IF(D123>0,1,0)","v":0},{"$f":"SUM(G124:G125)","v":0},0,0,0,0,0,0,0,0,0,0,0,0,0,null,{"$f":"Раздел3!D116","v":0},{"$f":"Раздел3!E116","v":0},{"$f":"Раздел3!F116","v":0},{"$f":"Раздел3!G116","v":0},{"$f":"Раздел3!H116","v":0},{"$f":"SUM(Раздел5!D115:O115)","v":0}]
[null,"в том числе:\nПрыжки в воду","117",0,0,0,0,0,0,0,0,0,0,0,0,0,0,0,0,0,null,{"$f":"Раздел3!D117","v":0},{"$f":"Раздел3!E117","v":0},{"$f":"Раздел3!F117","v":0},{"$f":"Раздел3!G117","v":0},{"$f":"Раздел3!H117","v":0},{"$f":"SUM(Раздел5!D116:O116)","v":0}]
[null,"Прыжки в открытый водоем","118",0,0,0,0,0,0,0,0,0,0,0,0,0,0,0,0,0,null,{"$f":"Раздел3!D118","v":0},{"$f":"Раздел3!E118","v":0},{"$f":"Раздел3!F118","v":0},{"$f":"Раздел3!G118","v":0},{"$f":"Раздел3!H118","v":0},{"$f":"SUM(Раздел5!D117:O117)","v":0}]
[null,"Прыжки на батуте - всего","119",{"$f":"IF(SUM(D127:D130)>=1,1,0)","v":0},{"$f":"IF(SUM(E127:E130)>=1,1,0)","v":0},{"$f":"SUM(G126:K126)*IF(D126>0,1,0)","v":0},{"$f":"SUM(G127:G130)","v":0},{"$f":"SUM(H127:H130)","v":0},0,0,0,0,0,0,0,0,0,0,0,0,null,{"$f":"Раздел3!D119","v":0},{"$f":"Раздел3!E119","v":0},{"$f":"Раздел3!F119","v":0},{"$f":"Раздел3!G119","v":0},{"$f":"Раздел3!H119","v":0},{"$f":"SUM(Раздел5!D118:O118)","v":0}]
[null,"в том числе:\nАкробатическая дорожка","120",0,0,0,0,0,0,0,0,0,0,0,0,0,0,0,0,0,null,{"$f":"Раздел3!D120","v":0},{"$f":"Раздел3!E120","v":0},{"$f":"Раздел3!F120","v":0},{"$f":"Раздел3!G120","v":0},{"$f":"Раздел3!H120","v":0},{"$f":"SUM(Раздел5!D119:O119)","v":0}]
[null,"Двойной минитрамп","121",0,0,0,0,0,0,0,0,0,0,0,0,0,0,0,0,0,null,{"$f":"Раздел3!D121","v":0},{"$f":"Раздел3!E121","v":0},{"$f":"Раздел3!F121","v":0},{"$f":"Раздел3!G121","v":0},{"$f":"Раздел3!H121","v":0},{"$f":"SUM(Раздел5!D120:O120)","v":0}]
[null,"Индивидуальные прыжки","122",0,0,0,0,0,0,0,0,0,0,0,0,0,0,0,0,0,null,{"$f":"Раздел3!D122","v":0},{"$f":"Раздел3!E122","v":0},{"$f":"Раздел3!F122","v":0},{"$f":"Раздел3!G122","v":0},{"$f":"Раздел3!H122","v":0},{"$f":"SUM(Раздел5!D121:O121)","v":0}]
[null,"Синхронные прыжки","123",0,0,0,0,0,0,0,0,0,0,0,0,0,0,0,0,0,null,{"$f":"Раздел3!D123","v":0},{"$f":"Раздел3!E123","v":0},{"$f":"Раздел3!F123","v":0},{"$f":"Раздел3!G123","v":0},{"$f":"Раздел3!H123","v":0},{"$f":"SUM(Раздел5!D122:O122)","v":0}]
[null,"Прыжки на лыжах с трамплина","124",0,0,0,0,0,0,0,0,0,0,0,0,0,0,0,0,0,null,{"$f":"Раздел3!D124","v":0},{"$f":"Раздел3!E124","v":0},{"$f":"Раздел3!F124","v":0},{"$f":"Раздел3!G124","v":0},{"$f":"Раздел3!H124","v":0},{"$f":"SUM(Раздел5!D123:O123)","v":0}]
[null,"Пулевая стрельба - всего","125",{"$f":"IF(SUM(D133:D137)>=1,1,0)","v":0},{"$f":"IF(SUM(E133:E137)>=1,1,0)","v":0},{"$f":"SUM(G132:K132)*IF(D132>0,1,0)","v":0},{"$f":"SUM(G133:G137)","v":0},{"$f":"SUM(H133:H137)","v":0},0,0,0,0,0,0,0,0,0,0,0,0,null,{"$f":"Раздел3!D125","v":0},{"$f":"Раздел3!E125","v":0},{"$f":"Раздел3!F125","v":0},{"$f":"Раздел3!G125","v":0},{"$f":"Раздел3!H125","v":0},{"$f":"SUM(Раздел5!D124:O124)","v":0}]
[null,"в том числе:\nПневматическая винтовка","126",0,0,0,0,0,0,0,0,0,0,0,0,0,0,0,0,0,null,{"$f":"Раздел3!D126","v":0},{"$f":"Раздел3!E126","v":0},{"$f":"Раздел3!F126","v":0},{"$f":"Раздел3!G126","v":0},{"$f":"Раздел3!H126","v":0},{"$f":"SUM(Раздел5!D125:O125)","v":0}]
[null,"Пневматический пистолет","127",0,0,0,0,0,0,0,0,0,0,0,0,0,0,0,0,0,null,{"$f":"Раздел3!D127","v":0},{"$f":"Раздел3!E127","v":0},{"$f":"Раздел3!F127","v":0},{"$f":"Раздел3!G127","v":0},{"$f":"Раздел3!H127","v":0},{"$f":"SUM(Раздел5!D126:O126)","v":0}]
[null,"Малокалиберная винтовка","128",0,0,0,0,0,0,0,0,0,0,0,0,0,0,0,0,0,null,{"$f":"Раздел3!D128","v":0},{"$f":"Раздел3!E128","v":0},{"$f":"Раздел3!F128","v":0},{"$f":"Раздел3!G128","v":0},{"$f":"Раздел3!H128","v":0},{"$f":"SUM(Раздел5!D127:O127)","v":0}]
[null,"Малокалиберный пистолет","129",0,0,0,0,0,0,0,0,0,0,0,0,0,0,0,0,0,null,{"$f":"Раздел3!D129","v":0},{"$f":"Раздел3!E129","v":0},{"$f":"Раздел3!F129","v":0},{"$f":"Раздел3!G129","v":0},{"$f":"Раздел3!H129","v":0},{"$f":"SUM(Раздел5!D128:O128)","v":0}]
[null,"Движущаяся мишень","130",0,0,{"$f":"SUM(G137:K137)*IF(D137>0,1,0)","v":0},0,0,0,0,0,0,0,0,0,0,0,0,0,0,null,{"$f":"Раздел3!D130","v":0},{"$f":"Раздел3!E130","v":0},{"$f":"Раздел3!F130","v":0},{"$f":"Раздел3!G130","v":0},{"$f":"Раздел3!H130","v":0},{"$f":"SUM(Раздел5!D129:O129)","v":0}]
[null,"Пэйнтбол","131",0,0,0,0,0,0,0,0,0,0,0,0,0,0,0,0,0,null,{"$f":"Раздел3!D131","v":0},{"$f":"Раздел3!E131","v":0},{"$f":"Раздел3!F131","v":0},{"$f":"Раздел3!G131","v":0},{"$f":"Раздел3!H131","v":0},{"$f":"SUM(Раздел5!D130:O130)","v":0}]
[null,"Радиоспорт","132",0,0,0,0,0,0,0,0,0,0,0,0,0,0,0,0,0,null,{"$f":"Раздел3!D132","v":0},{"$f":"Раздел3!E132","v":0},{"$f":"Раздел3!F132","v":0},{"$f":"Раздел3!G132","v":0},{"$f":"Раздел3!H132","v":0},{"$f":"SUM(Раздел5!D131:O131)","v":0}]
[null,"Рафтинг","133",0,0,0,0,0,0,0,0,0,0,0,0,0,0,0,0,0,null,{"$f":"Раздел3!D133","v":0},{"$f":"Раздел3!E133","v":0},{"$f":"Раздел3!F133","v":0},{"$f":"Раздел3!G133","v":0},{"$f":"Раздел3!H133","v":0},{"$f":"SUM(Раздел5!D132:O132)","v":0}]
[null,"Регби - всего","134",{"$f":"IF(SUM(D142:D145)>=1,1,0)","v":0},{"$f":"IF(SUM(E142:E145)>=1,1,0)","v":0},{"$f":"SUM(G141:K141)*IF(D141>0,1,0)","v":0},{"$f":"SUM(G142:G145)","v":0},{"$f":"SUM(H142:H145)","v":0},0,0,0,0,0,0,0,0,0,0,0,0,null,{"$f":"Раздел3!D134","v":0},{"$f":"Раздел3!E134","v":0},{"$f":"Раздел3!F134","v":0},{"$f":"Раздел3!G134","v":0},{"$f":"Раздел3!H134","v":0},{"$f":"SUM(Раздел5!D133:O133)","v":0}]
[null,"в том числе:\nРегби","135",0,0,0,0,0,0,0,0,0,0,0,0,0,0,0,0,0,null,{"$f":"Раздел3!D135","v":0},{"$f":"Раздел3!E135","v":0},{"$f":"Раздел3!F135","v":0},{"$f":"Раздел3!G135","v":0},{"$f":"Раздел3!H135","v":0},{"$f":"SUM(Раздел5!D134:O134)","v":0}]
[null,"Регби 7 (муж.)","136",0,0,0,0,0,0,0,0,0,0,0,0,0,0,0,0,0,null,{"$f":"Раздел3!D136","v":0},{"$f":"Раздел3!E136","v":0},{"$f":"Раздел3!F136","v":0},{"$f":"Раздел3!G136","v":0},{"$f":"Раздел3!H136","v":0},{"$f":"SUM(Раздел5!D135:O135)","v":0}]
[null,"Регби 7 (жен.)","137",0,0,0,0,0,0,0,0,0,0,0,0,0,0,0,0,0,null,{"$f":"Раздел3!D137","v":0},{"$f":"Раздел3!E137","v":0},{"$f":"Раздел3!F137","v":0},{"$f":"Раздел3!G137","v":0},{"$f":"Раздел3!H137","v":0},{"$f":"SUM(Раздел5!D136:O136)","v":0}]
[null,"Регби - пляжное","138",0,0,0,0,0,0,0,0,0,0,0,0,0,0,0,0,0,null,{"$f":"Раздел3!D138","v":0},{"$f":"Раздел3!E138","v":0},{"$f":"Раздел3!F138","v":0},{"$f":"Раздел3!G138","v":0},{"$f":"Раздел3!H138","v":0},{"$f":"SUM(Раздел5!D137:O137)","v":0}]
[null,"Регбол","139",0,0,0,0,0,0,0,0,0,0,0,0,0,0,0,0,0,null,{"$f":"Раздел3!D139","v":0},{"$f":"Раздел3!E139","v":0},{"$f":"Раздел3!F139","v":0},{"$f":"Раздел3!G139","v":0},{"$f":"Раздел3!H139","v":0},{"$f":"SUM(Раздел5!D138:O138)","v":0}]
[null,"Роллер спорт","140",0,0,0,0,0,0,0,0,0,0,0,0,0,0,0,0,0,null,{"$f":"Раздел3!D140","v":0},{"$f":"Раздел3!E140","v":0},{"$f":"Раздел3!F140","v":0},{"$f":"Раздел3!G140","v":0},{"$f":"Раздел3!H140","v":0},{"$f":"SUM(Раздел5!D139:O139)","v":0}]
[null,"Рукопашный бой","141",0,0,0,0,0,0,0,0,0,0,0,0,0,0,0,0,0,null,{"$f":"Раздел3!D141","v":0},{"$f":"Раздел3!E141","v":0},{"$f":"Раздел3!F141","v":0},{"$f":"Раздел3!G141","v":0},{"$f":"Раздел3!H141","v":0},{"$f":"SUM(Раздел5!D140:O140)","v":0}]
[null,"Рыболовный спорт","142",0,0,0,0,0,0,0,0,0,0,0,0,0,0,0,0,0,null,{"$f":"Раздел3!D142","v":0},{"$f":"Раздел3!E142","v":0},{"$f":"Раздел3!F142","v":0},{"$f":"Раздел3!G142","v":0},{"$f":"Раздел3!H142","v":0},{"$f":"SUM(Раздел5!D141:O141)","v":0}]
[null,"Сават","143",0,0,0,0,0,0,0,0,0,0,0,0,0,0,0,0,0,null,{"$f":"Раздел3!D143","v":0},{"$f":"Раздел3!E143","v":0},{"$f":"Раздел3!F143","v":0},{"$f":"Раздел3!G143","v":0},{"$f":"Раздел3!H143","v":0},{"$f":"SUM(Раздел5!D142:O142)","v":0}]
[null,"Самбо","144",0,0,0,0,0,0,0,0,0,0,0,0,0,0,0,0,0,null,{"$f":"Раздел3!D144","v":0},{"$f":"Раздел3!E144","v":0},{"$f":"Раздел3!F144","v":0},{"$f":"Раздел3!G144","v":0},{"$f":"Раздел3!H144","v":0},{"$f":"SUM(Раздел5!D143:O143)","v":0}]
[null,"Самолетный спорт","145",0,0,0,0,0,0,0,0,0,0,0,0,0,0,0,0,0,null,{"$f":"Раздел3!D145","v":0},{"$f":"Раздел3!E145","v":0},{"$f":"Раздел3!F145","v":0},{"$f":"Раздел3!G145","v":0},{"$f":"Раздел3!H145","v":0},{"$f":"SUM(Раздел5!D144:O144)","v":0}]
[null,"Санный спорт","146",0,0,0,0,0,0,0,0,0,0,0,0,0,0,0,0,0,null,{"$f":"Раздел3!D146","v":0},{"$f":"Раздел3!E146","v":0},{"$f":"Раздел3!F146","v":0},{"$f":"Раздел3!G146","v":0},{"$f":"Раздел3!H146","v":0},{"$f":"SUM(Раздел5!D145:O145)","v":0}]
[null,"Северное многоборье","147",0,0,0,0,0,0,0,0,0,0,0,0,0,0,0,0,0,null,{"$f":"Раздел3!D147","v":0},{"$f":"Раздел3!E147","v":0},{"$f":"Раздел3!F147","v":0},{"$f":"Раздел3!G147","v":0},{"$f":"Раздел3!H147","v":0},{"$f":"SUM(Раздел5!D146:O146)","v":0}]
[null,"Серфинг","148",0,0,0,0,0,0,0,0,0,0,0,0,0,0,0,0,0,null,{"$f":"Раздел3!D148","v":0},{"$f":"Раздел3!E148","v":0},{"$f":"Раздел3!F148","v":0},{"$f":"Раздел3!G148","v":0},{"$f":"Раздел3!H148","v":0},{"$f":"SUM(Раздел5!D147:O147)","v":0}]
[null,"Синхронное плавание","149",0,0,0,0,0,0,0,0,0,0,0,0,0,0,0,0,0,null,{"$f":"Раздел3!D149","v":0},{"$f":"Раздел3!E149","v":0},{"$f":"Раздел3!F149","v":0},{"$f":"Раздел3!G149","v":0},{"$f":"Раздел3!H149","v":0},{"$f":"SUM(Раздел5!D148:O148)","v":0}]
[null,"Скалолазание","150",0,0,0,0,0,0,0,0,0,0,0,0,0,0,0,0,0,null,{"$f":"Раздел3!D150","v":0},{"$f":"Раздел3!E150","v":0},{"$f":"Раздел3!F150","v":0},{"$f":"Раздел3!G150","v":0},{"$f":"Раздел3!H150","v":0},{"$f":"SUM(Раздел5!D149:O149)","v":0}]
[null,"Скейтбординг","151",0,0,0,0,0,0,0,0,0,0,0,0,0,0,0,0,0,null,{"$f":"Раздел3!D151","v":0},{"$f":"Раздел3!E151","v":0},{"$f":"Раздел3!F151","v":0},{"$f":"Раздел3!G151","v":0},{"$f":"Раздел3!H151","v":0},{"$f":"SUM(Раздел5!D150:O150)","v":0}]
[null,"Сквош","152",0,0,0,0,0,0,0,0,0,0,0,0,0,0,0,0,0,null,{"$f":"Раздел3!D152","v":0},{"$f":"Раздел3!E152","v":0},{"$f":"Раздел3!F152","v":0},{"$f":"Раздел3!G152","v":0},{"$f":"Раздел3!H152","v":0},{"$f":"SUM(Раздел5!D151:O151)","v":0}]
[null,"Служебно-прикладной спорт ФСО России","153",0,0,0,0,0,0,0,0,0,0,0,0,0,0,0,0,0,null,{"$f":"Раздел3!D153","v":0},{"$f":"Раздел3!E153","v":0},{"$f":"Раздел3!F153","v":0},{"$f":"Раздел3!G153","v":0},{"$f":"Раздел3!H153","v":0},{"$f":"SUM(Раздел5!D152:O152)","v":0}]
[null,"Служебно-прикладной спорт ГФС России","154",0,0,0,0,0,0,0,0,0,0,0,0,0,0,0,0,0,null,{"$f":"Раздел3!D154","v":0},{"$f":"Раздел3!E154","v":0},{"$f":"Раздел3!F154","v":0},{"$f":"Раздел3!G154","v":0},{"$f":"Раздел3!H154","v":0},{"$f":"SUM(Раздел5!D153:O153)","v":0}]
[null,"Служебно-прикладной спорт ФСКН России","155",0,0,0,0,0,0,0,0,0,0,0,0,0,0,0,0,0,null,{"$f":"Раздел3!D155","v":0},{"$f":"Раздел3!E155","v":0},{"$f":"Раздел3!F155","v":0},{"$f":"Раздел3!G155","v":0},{"$f":"Раздел3!H155","v":0},{"$f":"SUM(Раздел5!D154:O154)","v":0}]
[null,"Служебно-прикладной спорт ФТС России","156",0,0,0,0,0,0,0,0,0,0,0,0,0,0,0,0,0,null,{"$f":"Раздел3!D156","v":0},{"$f":"Раздел3!E156","v":0},{"$f":"Раздел3!F156","v":0},{"$f":"Раздел3!G156","v":0},{"$f":"Раздел3!H156","v":0},{"$f":"SUM(Раздел5!D155:O155)","v":0}]
[null,"Служебное двоеборье","157",0,0,0,0,0,0,0,0,0,0,0,0,0,0,0,0,0,null,{"$f":"Раздел3!D157","v":0},{"$f":"Раздел3!E157","v":0},{"$f":"Раздел3!F157","v":0},{"$f":"Раздел3!G157","v":0},{"$f":"Раздел3!H157","v":0},{"$f":"SUM(Раздел5!D156:O156)","v":0}]
[null,"Служебное единоборство","158",0,0,0,0,0,0,0,0,0,0,0,0,0,0,0,0,0,null,{"$f":"Раздел3!D158","v":0},{"$f":"Раздел3!E158","v":0},{"$f":"Раздел3!F158","v":0},{"$f":"Раздел3!G158","v":0},{"$f":"Раздел3!H158","v":0},{"$f":"SUM(Раздел5!D157:O157)","v":0}]
[null,"Служебное многоборье","159",0,0,0,0,0,0,0,0,0,0,0,0,0,0,0,0,0,null,{"$f":"Раздел3!D159","v":0},{"$f":"Раздел3!E159","v":0},{"$f":"Раздел3!F159","v":0},{"$f":"Раздел3!G159","v":0},{"$f":"Раздел3!H159","v":0},{"$f":"SUM(Раздел5!D158:O158)","v":0}]
[null,"Служебное собаководство","160",0,0,0,0,0,0,0,0,0,0,0,0,0,0,0,0,0,null,{"$f":"Раздел3!D160","v":0},{"$f":"Раздел3!E160","v":0},{"$f":"Раздел3!F160","v":0},{"$f":"Раздел3!G160","v":0},{"$f":"Раздел3!H160","v":0},{"$f":"SUM(Раздел5!D159:O159)","v":0}]
[null,"Служебный биатлон","161",0,0,0,0,0,0,0,0,0,0,0,0,0,0,0,0,0,null,{"$f":"Раздел3!D161","v":0},{"$f":"Раздел3!E161","v":0},{"$f":"Раздел3!F161","v":0},{"$f":"Раздел3!G161","v":0},{"$f":"Раздел3!H161","v":0},{"$f":"SUM(Раздел5!D160:O160)","v":0}]
[null,"Спасательный спорт","162",0,0,0,0,0,0,0,0,0,0,0,0,0,0,0,0,0,null,{"$f":"Раздел3!D162","v":0},{"$f":"Раздел3!E162","v":0},{"$f":"Раздел3!F162","v":0},{"$f":"Раздел3!G162","v":0},{"$f":"Раздел3!H162","v":0},{"$f":"SUM(Раздел5!D161:O161)","v":0}]
[null,"Стрельба из боевого ручного стрелкового оружия","163",0,0,0,0,0,0,0,0,0,0,0,0,0,0,0,0,0,null,{"$f":"Раздел3!D163","v":0},{"$f":"Раздел3!E163","v":0},{"$f":"Раздел3!F163","v":0},{"$f":"Раздел3!G163","v":0},{"$f":"Раздел3!H163","v":0},{"$f":"SUM(Раздел5!D162:O162)","v":0}]
[null,"Стрельба из штатного или табельного оружия","164",0,0,0,0,0,0,0,0,0,0,0,0,0,0,0,0,0,null,{"$f":"Раздел3!D164","v":0},{"$f":"Раздел3!E164","v":0},{"$f":"Раздел3!F164","v":0},{"$f":"Раздел3!G164","v":0},{"$f":"Раздел3!H164","v":0},{"$f":"SUM(Раздел5!D163:O163)","v":0}]
[null,"Смешанное боевое единоборство (ММА)","165",0,0,0,0,0,0,0,0,0,0,0,0,0,0,0,0,0,null,{"$f":"Раздел3!D165","v":0},{"$f":"Раздел3!E165","v":0},{"$f":"Раздел3!F165","v":0},{"$f":"Раздел3!G165","v":0},{"$f":"Раздел3!H165","v":0},{"$f":"SUM(Раздел5!D164:O164)","v":0}]
[null,"Сноуборд","166",0,0,0,0,0,0,0,0,0,0,0,0,0,0,0,0,0,null,{"$f":"Раздел3!D166","v":0},{"$f":"Раздел3!E166","v":0},{"$f":"Раздел3!F166","v":0},{"$f":"Раздел3!G166","v":0},{"$f":"Раздел3!H166","v":0},{"$f":"SUM(Раздел5!D165:O165)","v":0}]
[null,"Современное пятиборье","167",0,0,0,0,0,0,0,0,0,0,0,0,0,0,0,0,0,null,{"$f":"Раздел3!D167","v":0},{"$f":"Раздел3!E167","v":0},{"$f":"Раздел3!F167","v":0},{"$f":"Раздел3!G167","v":0},{"$f":"Раздел3!H167","v":0},{"$f":"SUM(Раздел5!D166:O166)","v":0}]
[null,"Софтбол","168",0,0,0,0,0,0,0,0,0,0,0,0,0,0,0,0,0,null,{"$f":"Раздел3!D168","v":0},{"$f":"Раздел3!E168","v":0},{"$f":"Раздел3!F168","v":0},{"$f":"Раздел3!G168","v":0},{"$f":"Раздел3!H168","v":0},{"$f":"SUM(Раздел5!D167:O167)","v":0}]
[null,"Спорт сверхлегкой авиации","169",0,0,0,0,0,0,0,0,0,0,0,0,0,0,0,0,0,null,{"$f":"Раздел3!D169","v":0},{"$f":"Раздел3!E169","v":0},{"$f":"Раздел3!F169","v":0},{"$f":"Раздел3!G169","v":0},{"$f":"Раздел3!H169","v":0},{"$f":"SUM(Раздел5!D168:O168)","v":0}]
[null,"Спортивная акробатика","170",0,0,0,0,0,0,0,0,0,0,0,0,0,0,0,0,0,null,{"$f":"Раздел3!D170","v":0},{"$f":"Раздел3!E170","v":0},{"$f":"Раздел3!F170","v":0},{"$f":"Раздел3!G170","v":0},{"$f":"Раздел3!H170","v":0},{"$f":"SUM(Раздел5!D169:O169)","v":0}]
[null,"Спортивная аэробика","171",1,0,297,258,28,11,0,0,0,291,6,0,0,149,0,0,39,null,{"$f":"Раздел3!D171","v":0},{"$f":"Раздел3!E171","v":0},{"$f":"Раздел3!F171","v":0},{"$f":"Раздел3!G171","v":0},{"$f":"Раздел3!H171","v":0},{"$f":"SUM(Раздел5!D170:O170)","v":0}]
[null,"Спортивная борьба - всего","172",{"$f":"IF(SUM(D180:D184)>=1,1,0)","v":0},{"$f":"IF(SUM(E180:E184)>=1,1,0)","v":0},{"$f":"SUM(G179:K179)*IF(D179>0,1,0)","v":0},{"$f":"SUM(G180:G184)","v":0},{"$f":"SUM(H180:H184)","v":0},0,0,0,0,0,0,0,0,0,0,0,0,null,{"$f":"Раздел3!D172","v":0},{"$f":"Раздел3!E172","v":0},{"$f":"Раздел3!F172","v":0},{"$f":"Раздел3!G172","v":0},{"$f":"Раздел3!H172","v":0},{"$f":"SUM(Раздел5!D171:O171)","v":0}]
[null,"в том числе:\nВольная борьба","173",0,0,0,0,0,0,0,0,0,0,0,0,0,0,0,0,0,null,{"$f":"Раздел3!D173","v":0},{"$f":"Раздел3!E173","v":0},{"$f":"Раздел3!F173","v":0},{"$f":"Раздел3!G173","v":0},{"$f":"Раздел3!H173","v":0},{"$f":"SUM(Раздел5!D172:O172)","v":0}]
[null,"Греко-римская борьба","174",null,null,0,null,null,null,null,null,null,null,null,null,null,0,0,0,0,null,{"$f":"Раздел3!D174","v":0},{"$f":"Раздел3!E174","v":0},{"$f":"Раздел3!F174","v":0},{"$f":"Раздел3!G174","v":0},{"$f":"Раздел3!H174","v":0},{"$f":"SUM(Раздел5!D173:O173)","v":0}]
[null,"Грэпплинг","175",0,0,0,0,0,0,0,0,0,0,0,0,0,0,0,0,0,null,{"$f":"Раздел3!D175","v":0},{"$f":"Раздел3!E175","v":0},{"$f":"Раздел3!F175","v":0},{"$f":"Раздел3!G175","v":0},{"$f":"Раздел3!H175","v":0},{"$f":"SUM(Раздел5!D174:O174)","v":0}]
[null,"Грэпплинг-ги","176",0,0,0,0,0,0,0,0,0,0,0,0,0,0,0,0,0,null,{"$f":"Раздел3!D176","v":0},{"$f":"Раздел3!E176","v":0},{"$f":"Раздел3!F176","v":0},{"$f":"Раздел3!G176","v":0},{"$f":"Раздел3!H176","v":0},{"$f":"SUM(Раздел5!D175:O175)","v":0}]
[null,"Панкратион","177",0,0,0,0,0,0,0,0,0,0,0,0,0,0,0,0,0,null,{"$f":"Раздел3!D177","v":0},{"$f":"Раздел3!E177","v":0},{"$f":"Раздел3!F177","v":0},{"$f":"Раздел3!G177","v":0},{"$f":"Раздел3!H177","v":0},{"$f":"SUM(Раздел5!D176:O176)","v":0}]
[null,"Спортивно-прикладное собаководство","178",0,0,0,0,0,0,0,0,0,0,0,0,0,0,0,0,0,null,{"$f":"Раздел3!D178","v":0},{"$f":"Раздел3!E178","v":0},{"$f":"Раздел3!F178","v":0},{"$f":"Раздел3!G178","v":0},{"$f":"Раздел3!H178","v":0},{"$f":"SUM(Раздел5!D177:O177)","v":0}]
[null,"Спортивная гимнастика","179",0,0,0,0,0,0,0,0,0,0,0,0,0,0,0,0,0,null,{"$f":"Раздел3!D179","v":0},{"$f":"Раздел3!E179","v":0},{"$f":"Раздел3!F179","v":0},{"$f":"Раздел3!G179","v":0},{"$f":"Раздел3!H179","v":0},{"$f":"SUM(Раздел5!D178:O178)","v":0}]
[null,"Спортивное ориентирование","180",0,0,0,0,0,0,0,0,0,0,0,0,0,0,0,0,0,null,{"$f":"Раздел3!D180","v":0},{"$f":"Раздел3!E180","v":0},{"$f":"Раздел3!F180","v":0},{"$f":"Раздел3!G180","v":0},{"$f":"Раздел3!H180","v":0},{"$f":"SUM(Раздел5!D179:O179)","v":0}]
[null,"Спортивный бридж","181",0,0,0,0,0,0,0,0,0,0,0,0,0,0,0,0,0,null,{"$f":"Раздел3!D181","v":0},{"$f":"Раздел3!E181","v":0},{"$f":"Раздел3!F181","v":0},{"$f":"Раздел3!G181","v":0},{"$f":"Раздел3!H181","v":0},{"$f":"SUM(Раздел5!D180:O180)","v":0}]
[null,"Спортивный туризм","182",0,0,0,0,0,0,0,0,0,0,0,0,0,0,0,0,0,null,{"$f":"Раздел3!D182","v":0},{"$f":"Раздел3!E182","v":0},{"$f":"Раздел3!F182","v":0},{"$f":"Раздел3!G182","v":0},{"$f":"Раздел3!H182","v":0},{"$f":"SUM(Раздел5!D181:O181)","v":0}]
[null,"Стендовая стрельба - всего","183",{"$f":"IF(SUM(D191:D194)>=1,1,0)","v":0},{"$f":"IF(SUM(E191:E194)>=1,1,0)","v":0},{"$f":"SUM(G190:K190)*IF(D190>0,1,0)","v":0},{"$f":"SUM(G191:G194)","v":0},{"$f":"SUM(H191:H194)","v":0},0,0,0,0,0,0,0,0,0,0,0,0,null,{"$f":"Раздел3!D183","v":0},{"$f":"Раздел3!E183","v":0},{"$f":"Раздел3!F183","v":0},{"$f":"Раздел3!G183","v":0},{"$f":"Раздел3!H183","v":0},{"$f":"SUM(Раздел5!D182:O182)","v":0}]
[null,"в том числе:\nТрап","184",0,0,0,0,0,0,0,0,0,0,0,0,0,0,0,0,0,null,{"$f":"Раздел3!D184","v":0},{"$f":"Раздел3!E184","v":0},{"$f":"Раздел3!F184","v":0},{"$f":"Раздел3!G184","v":0},{"$f":"Раздел3!H184","v":0},{"$f":"SUM(Раздел5!D183:O183)","v":0}]
[null,"Скит","185",0,0,0,0,0,0,0,0,0,0,0,0,0,0,0,0,0,null,{"$f":"Раздел3!D185","v":0},{"$f":"Раздел3!E185","v":0},{"$f":"Раздел3!F185","v":0},{"$f":"Раздел3!G185","v":0},{"$f":"Раздел3!H185","v":0},{"$f":"SUM(Раздел5!D184:O184)","v":0}]
[null,"Дубль-трап","186",0,0,0,0,0,0,0,0,0,0,0,0,0,0,0,0,0,null,{"$f":"Раздел3!D186","v":0},{"$f":"Раздел3!E186","v":0},{"$f":"Раздел3!F186","v":0},{"$f":"Раздел3!G186","v":0},{"$f":"Раздел3!H186","v":0},{"$f":"SUM(Раздел5!D185:O185)","v":0}]
[null,"Спортинг","187",0,0,0,0,0,0,0,0,0,0,0,0,0,0,0,0,0,null,{"$f":"Раздел3!D187","v":0},{"$f":"Раздел3!E187","v":0},{"$f":"Раздел3!F187","v":0},{"$f":"Раздел3!G187","v":0},{"$f":"Раздел3!H187","v":0},{"$f":"SUM(Раздел5!D186:O186)","v":0}]
[null,"Стрельба из арбалета","188",0,0,0,0,0,0,0,0,0,0,0,0,0,0,0,0,0,null,{"$f":"Раздел3!D188","v":0},{"$f":"Раздел3!E188","v":0},{"$f":"Раздел3!F188","v":0},{"$f":"Раздел3!G188","v":0},{"$f":"Раздел3!H188","v":0},{"$f":"SUM(Раздел5!D187:O187)","v":0}]
[null,"Стрельба из лука - всего","189",{"$f":"IF(SUM(D197:D199)>=1,1,0)","v":0},{"$f":"IF(SUM(E197:E199)>=1,1,0)","v":0},{"$f":"SUM(G196:K196)*IF(D196>0,1,0)","v":0},{"$f":"SUM(G197:G199)","v":0},{"$f":"SUM(H197:H199)","v":0},0,0,0,0,0,0,0,0,0,0,0,0,null,{"$f":"Раздел3!D189","v":0},{"$f":"Раздел3!E189","v":0},{"$f":"Раздел3!F189","v":0},{"$f":"Раздел3!G189","v":0},{"$f":"Раздел3!H189","v":0},{"$f":"SUM(Раздел5!D188:O188)","v":0}]
[null,"в том числе:\nКлассический лук","190",0,0,0,0,0,0,0,0,0,0,0,0,0,0,0,0,0,null,{"$f":"Раздел3!D190","v":0},{"$f":"Раздел3!E190","v":0},{"$f":"Раздел3!F190","v":0},{"$f":"Раздел3!G190","v":0},{"$f":"Раздел3!H190","v":0},{"$f":"SUM(Раздел5!D189:O189)","v":0}]
[null,"   Блочный лук","191",0,0,0,0,0,0,0,0,0,0,0,0,0,0,0,0,0,null,{"$f":"Раздел3!D191","v":0},{"$f":"Раздел3!E191","v":0},{"$f":"Раздел3!F191","v":0},{"$f":"Раздел3!G191","v":0},{"$f":"Раздел3!H191","v":0},{"$f":"SUM(Раздел5!D190:O190)","v":0}]
[null,"   Ачери ","192",0,0,0,0,0,0,0,0,0,0,0,0,0,0,0,0,0,null,{"$f":"Раздел3!D192","v":0},{"$f":"Раздел3!E192","v":0},{"$f":"Раздел3!F192","v":0},{"$f":"Раздел3!G192","v":0},{"$f":"Раздел3!H192","v":0},{"$f":"SUM(Раздел5!D191:O191)","v":0}]
[null,"Судомодельный спорт","193",0,0,0,0,0,0,0,0,0,0,0,0,0,0,0,0,0,null,{"$f":"Раздел3!D193","v":0},{"$f":"Раздел3!E193","v":0},{"$f":"Раздел3!F193","v":0},{"$f":"Раздел3!G193","v":0},{"$f":"Раздел3!H193","v":0},{"$f":"SUM(Раздел5!D192:O192)","v":0}]
[null,"Сумо","194",0,0,{"$f":"SUM(G201:K201)*IF(D201>0,1,0)","v":0},0,0,0,0,0,0,0,0,0,0,0,0,0,0,null,{"$f":"Раздел3!D194","v":0},{"$f":"Раздел3!E194","v":0},{"$f":"Раздел3!F194","v":0},{"$f":"Раздел3!G194","v":0},{"$f":"Раздел3!H194","v":0},{"$f":"SUM(Раздел5!D193:O193)","v":0}]
[null,"Тайский бокс","195",0,0,0,0,0,0,0,0,0,0,0,0,0,0,0,0,0,null,{"$f":"Раздел3!D195","v":0},{"$f":"Раздел3!E195","v":0},{"$f":"Раздел3!F195","v":0},{"$f":"Раздел3!G195","v":0},{"$f":"Раздел3!H195","v":0},{"$f":"SUM(Раздел5!D194:O194)","v":0}]
[null,"Танцевальный спорт","196",0,0,0,0,0,0,0,0,0,0,0,0,0,0,0,0,0,null,{"$f":"Раздел3!D196","v":0},{"$f":"Раздел3!E196","v":0},{"$f":"Раздел3!F196","v":0},{"$f":"Раздел3!G196","v":0},{"$f":"Раздел3!H196","v":0},{"$f":"SUM(Раздел5!D195:O195)","v":0}]
[null,"Теннис","197",0,0,0,0,0,0,0,0,0,0,0,0,0,0,0,0,0,null,{"$f":"Раздел3!D197","v":0},{"$f":"Раздел3!E197","v":0},{"$f":"Раздел3!F197","v":0},{"$f":"Раздел3!G197","v":0},{"$f":"Раздел3!H197","v":0},{"$f":"SUM(Раздел5!D196:O196)","v":0}]
[null,"Триатлон","198",0,0,0,0,0,0,0,0,0,0,0,0,0,0,0,0,0,null,{"$f":"Раздел3!D198","v":0},{"$f":"Раздел3!E198","v":0},{"$f":"Раздел3!F198","v":0},{"$f":"Раздел3!G198","v":0},{"$f":"Раздел3!H198","v":0},{"$f":"SUM(Раздел5!D197:O197)","v":0}]
[null,"Тхэквондо - всего","199",{"$f":"IF(SUM(D207:D208)>=1,1,0)","v":0},{"$f":"IF(SUM(E207:E208)>=1,1,0)","v":0},{"$f":"SUM(G206:K206)*IF(D206>0,1,0)","v":0},{"$f":"SUM(G207:G208)","v":0},{"$f":"SUM(H207:H208)","v":0},0,0,0,0,0,0,0,0,0,0,0,0,null,{"$f":"Раздел3!D199","v":0},{"$f":"Раздел3!E199","v":0},{"$f":"Раздел3!F199","v":0},{"$f":"Раздел3!G199","v":0},{"$f":"Раздел3!H199","v":0},{"$f":"SUM(Раздел5!D198:O198)","v":0}]
[null,"в том числе:\nТхэквондо (ГТФ, ИТФ, МФТ)","200",0,0,0,0,0,0,0,0,0,0,0,0,0,0,0,0,0,null,{"$f":"Раздел3!D200","v":0},{"$f":"Раздел3!E200","v":0},{"$f":"Раздел3!F200","v":0},{"$f":"Раздел3!G200","v":0},{"$f":"Раздел3!H200","v":0},{"$f":"SUM(Раздел5!D199:O199)","v":0}]
[null,"Тхэквондо (ВТФ)","201",0,0,0,0,0,0,0,0,0,0,0,0,0,0,0,0,0,null,{"$f":"Раздел3!D201","v":0},{"$f":"Раздел3!E201","v":0},{"$f":"Раздел3!F201","v":0},{"$f":"Раздел3!G201","v":0},{"$f":"Раздел3!H201","v":0},{"$f":"SUM(Раздел5!D200:O200)","v":0}]
[null,"Тяжелая атлетика","202",0,0,0,0,0,0,0,0,0,0,0,0,0,0,0,0,0,null,{"$f":"Раздел3!D202","v":0},{"$f":"Раздел3!E202","v":0},{"$f":"Раздел3!F202","v":0},{"$f":"Раздел3!G202","v":0},{"$f":"Раздел3!H202","v":0},{"$f":"SUM(Раздел5!D201:O201)","v":0}]
[null,"Универсальный бой","203",0,0,0,0,0,0,0,0,0,0,0,0,0,0,0,0,0,null,{"$f":"Раздел3!D203","v":0},{"$f":"Раздел3!E203","v":0},{"$f":"Раздел3!F203","v":0},{"$f":"Раздел3!G203","v":0},{"$f":"Раздел3!H203","v":0},{"$f":"SUM(Раздел5!D202:O202)","v":0}]
[null,"Ушу","204",0,0,0,0,0,0,0,0,0,0,0,0,0,0,0,0,0,null,{"$f":"Раздел3!D204","v":0},{"$f":"Раздел3!E204","v":0},{"$f":"Раздел3!F204","v":0},{"$f":"Раздел3!G204","v":0},{"$f":"Раздел3!H204","v":0},{"$f":"SUM(Раздел5!D203:O203)","v":0}]
[null,"Фехтование - всего","205",{"$f":"IF(SUM(D213:D216)>=1,1,0)","v":0},{"$f":"IF(SUM(E213:E216)>=1,1,0)","v":0},{"$f":"SUM(G212:K212)*IF(D212>0,1,0)","v":0},{"$f":"SUM(G213:G216)","v":0},{"$f":"SUM(H213:H216)","v":0},0,0,0,0,0,0,0,0,0,0,0,0,null,{"$f":"Раздел3!D205","v":0},{"$f":"Раздел3!E205","v":0},{"$f":"Раздел3!F205","v":0},{"$f":"Раздел3!G205","v":0},{"$f":"Раздел3!H205","v":0},{"$f":"SUM(Раздел5!D204:O204)","v":0}]
[null,"в том числе:\nРапира","206",0,0,0,0,0,0,0,0,0,0,0,0,0,0,0,0,0,null,{"$f":"Раздел3!D206","v":0},{"$f":"Раздел3!E206","v":0},{"$f":"Раздел3!F206","v":0},{"$f":"Раздел3!G206","v":0},{"$f":"Раздел3!H206","v":0},{"$f":"SUM(Раздел5!D205:O205)","v":0}]
[null,"Сабля","207",0,0,0,0,0,0,0,0,0,0,0,0,0,0,0,0,0,null,{"$f":"Раздел3!D207","v":0},{"$f":"Раздел3!E207","v":0},{"$f":"Раздел3!F207","v":0},{"$f":"Раздел3!G207","v":0},{"$f":"Раздел3!H207","v":0},{"$f":"SUM(Раздел5!D206:O206)","v":0},null,null,null,"Частично перешли",{"$f":"SUM(Раздел3!E208:H208)","v":0}]
[null,"Шпага","208",0,0,0,0,0,0,0,0,0,0,0,0,0,0,0,0,0,null,{"$f":"Раздел3!D208","v":0},{"$f":"Раздел3!E208","v":0},{"$f":"Раздел3!F208","v":0},{"$f":"Раздел3!G208","v":0},{"$f":"Раздел3!H208","v":0},{"$f":"SUM(Раздел5!D207:O207)","v":0},null,null,null,{"$f":"Раздел1!G18","v":0}]
[null,"Арт-фехтование","209",0,0,0,0,0,0,0,0,0,0,0,0,0,0,0,0,0,null,{"$f":"Раздел3!D209","v":0},{"$f":"Раздел3!E209","v":0},{"$f":"Раздел3!F209","v":0},{"$f":"Раздел3!G209","v":0},{"$f":"Раздел3!H209","v":0},null,null,null,null,"Перешли"]
[null,"Фигурное катание на коньках","210",0,0,0,0,0,0,0,0,0,0,0,0,0,0,0,0,0,null,{"$f":"Раздел3!D210","v":0},{"$f":"Раздел3!E210","v":0},{"$f":"Раздел3!F210","v":0},{"$f":"Раздел3!G210","v":0},{"$f":"Раздел3!H210","v":0},null,null,null,null,{"$f":"Раздел1!J18","v":0}]
[null,"Фитнес-аэробика","211",0,0,0,0,0,0,0,0,0,0,0,0,0,0,0,0,0,null,{"$f":"Раздел3!D211","v":0},{"$f":"Раздел3!E211","v":0},{"$f":"Раздел3!F211","v":0},{"$f":"Раздел3!G211","v":0},{"$f":"Раздел3!H211","v":0}]
[null,"Флаинг диск","212",0,0,0,0,0,0,0,0,0,0,0,0,0,0,0,0,0,null,{"$f":"Раздел3!D212","v":0},{"$f":"Раздел3!E212","v":0},{"$f":"Раздел3!F212","v":0},{"$f":"Раздел3!G212","v":0},{"$f":"Раздел3!H212","v":0}]
[null,"Флорбол","213",0,0,0,0,0,0,0,0,0,0,0,0,0,0,0,0,0,null,{"$f":"Раздел3!D213","v":0},{"$f":"Раздел3!E213","v":0},{"$f":"Раздел3!F213","v":0},{"$f":"Раздел3!G213","v":0},{"$f":"Раздел3!H213","v":0}]
[null,"Фристайл - всего","214",{"$f":"IF(SUM(D222:D226)>=1,1,0)","v":0},{"$f":"IF(SUM(E222:E226)>=1,1,0)","v":0},{"$f":"SUM(G221:K221)*IF(D221>0,1,0)","v":0},{"$f":"SUM(G222:G226)","v":0},{"$f":"SUM(H222:H226)","v":0},0,0,0,0,0,0,0,0,0,0,0,0,null,{"$f":"Раздел3!D214","v":0},{"$f":"Раздел3!E214","v":0},{"$f":"Раздел3!F214","v":0},{"$f":"Раздел3!G214","v":0},{"$f":"Раздел3!H214","v":0}]
[null,"в том числе:\nАкробатика","215",0,0,0,0,0,0,0,0,0,0,0,0,0,0,0,0,0,null,{"$f":"Раздел3!D215","v":0},{"$f":"Раздел3!E215","v":0},{"$f":"Раздел3!F215","v":0},{"$f":"Раздел3!G215","v":0},{"$f":"Раздел3!H215","v":0}]
[null,"Могул","216",0,0,0,0,0,0,0,0,0,0,0,0,0,0,0,0,0,null,{"$f":"Раздел3!D216","v":0},{"$f":"Раздел3!E216","v":0},{"$f":"Раздел3!F216","v":0},{"$f":"Раздел3!G216","v":0},{"$f":"Раздел3!H216","v":0}]
[null,"Ски-кросс","217",0,0,0,0,0,0,0,0,0,0,0,0,0,0,0,0,0,null,{"$f":"Раздел3!D217","v":0},{"$f":"Раздел3!E217","v":0},{"$f":"Раздел3!F217","v":0},{"$f":"Раздел3!G217","v":0},{"$f":"Раздел3!H217","v":0}]
[null,"Хаф-пайп","218",0,0,0,0,0,0,0,0,0,0,0,0,0,0,0,0,0,null,{"$f":"Раздел3!D218","v":0},{"$f":"Раздел3!E218","v":0},{"$f":"Раздел3!F218","v":0},{"$f":"Раздел3!G218","v":0},{"$f":"Раздел3!H218","v":0}]
[null,"Слоуп-стайл","219",0,0,0,0,0,0,0,0,0,0,0,0,0,0,0,0,0,null,{"$f":"Раздел3!D219","v":0},{"$f":"Раздел3!E219","v":0},{"$f":"Раздел3!F219","v":0},{"$f":"Раздел3!G219","v":0},{"$f":"Раздел3!H219","v":0}]
[null,"Футбол - всего","220",{"$f":"IF(SUM(D228:D231)>=1,1,0)","v":1},{"$f":"IF(SUM(E228:E231)>=1,1,0)","v":0},{"$f":"SUM(G227:K227)*IF(D227>0,1,0)","v":123},{"$f":"SUM(G228:G231)","v":123},{"$f":"SUM(H228:H231)","v":0},0,0,0,0,110,13,0,0,8,0,0,0,null,{"$f":"Раздел3!D220","v":0},{"$f":"Раздел3!E220","v":0},{"$f":"Раздел3!F220","v":0},{"$f":"Раздел3!G220","v":0},{"$f":"Раздел3!H220","v":0}]
[null,"в том числе:\nФутбол (муж.)","221",1,0,115,115,0,0,0,0,0,102,13,0,0,0,0,0,0,null,{"$f":"Раздел3!D221","v":0},{"$f":"Раздел3!E221","v":0},{"$f":"Раздел3!F221","v":0},{"$f":"Раздел3!G221","v":0},{"$f":"Раздел3!H221","v":0}]
[null,"Футбол (жен.)","222",1,0,8,8,0,0,0,0,0,8,0,0,0,8,0,0,0,null,{"$f":"Раздел3!D222","v":0},{"$f":"Раздел3!E222","v":0},{"$f":"Раздел3!F222","v":0},{"$f":"Раздел3!G222","v":0},{"$f":"Раздел3!H222","v":0}]
[null,"Мини-футбол (футзал)","223",0,0,0,0,0,0,0,0,0,0,0,0,0,0,0,0,0,null,{"$f":"Раздел3!D223","v":0},{"$f":"Раздел3!E223","v":0},{"$f":"Раздел3!F223","v":0},{"$f":"Раздел3!G223","v":0},{"$f":"Раздел3!H223","v":0}]
[null,"Пляжный футбол","224",0,0,0,0,0,0,0,0,0,0,0,0,0,0,0,0,0,null,{"$f":"Раздел3!D224","v":0},{"$f":"Раздел3!E224","v":0},{"$f":"Раздел3!F224","v":0},{"$f":"Раздел3!G224","v":0},{"$f":"Раздел3!H224","v":0}]
[null,"Хапсагай","225",0,0,0,0,0,0,0,0,0,0,0,0,0,0,0,0,0,null,{"$f":"Раздел3!D225","v":0},{"$f":"Раздел3!E225","v":0},{"$f":"Раздел3!F225","v":0},{"$f":"Раздел3!G225","v":0},{"$f":"Раздел3!H225","v":0}]
[null,"Хоккей - всего","226",{"$f":"IF(SUM(D234:D235)>=1,1,0)","v":0},{"$f":"IF(SUM(E234:E235)>=1,1,0)","v":0},{"$f":"SUM(G233:K233)*IF(D233>0,1,0)","v":0},{"$f":"SUM(G234:G235)","v":0},0,0,0,0,0,0,0,0,0,0,0,0,0,null,{"$f":"Раздел3!D226","v":0},{"$f":"Раздел3!E226","v":0},{"$f":"Раздел3!F226","v":0},{"$f":"Раздел3!G226","v":0},{"$f":"Раздел3!H226","v":0}]
[null,"в том числе:\nХоккей (муж.)","227",0,0,0,0,0,0,0,0,0,0,0,0,0,0,0,0,0,null,{"$f":"Раздел3!D227","v":0},{"$f":"Раздел3!E227","v":0},{"$f":"Раздел3!F227","v":0},{"$f":"Раздел3!G227","v":0},{"$f":"Раздел3!H227","v":0}]
[null,"Хоккей (жен.)","228",0,0,0,0,0,0,0,0,0,0,0,0,0,0,0,0,0,null,{"$f":"Раздел3!D228","v":0},{"$f":"Раздел3!E228","v":0},{"$f":"Раздел3!F228","v":0},{"$f":"Раздел3!G228","v":0},{"$f":"Раздел3!H228","v":0}]
[null,"Хоккей на траве - всего","229",{"$f":"IF(SUM(D237:D239)>=1,1,0)","v":0},{"$f":"IF(SUM(E237:E239)>=1,1,0)","v":0},{"$f":"SUM(G236:K236)*IF(D236>0,1,0)","v":0},{"$f":"SUM(G237:G239)","v":0},{"$f":"SUM(H237:H239)","v":0},0,0,0,0,0,0,0,0,0,0,0,0]
[null,"в том числе:\nХоккей на траве (муж.)","230",null,null,0]
[null,"Хоккей на траве (жен.)","231",null,null,0]
[null,"Индорхоккей","232",null,null,0]
[null,"Хоккей с мячом","233",null,null,0]
[null,"Художественная гимнастика","234",1,null,102,102,null,null,null,null,5,96,1,null,null,102]
[null,"Хуреш","235",null,null,0]
[null,"Черлидинг","236",null,null,0]
[null,"Чир спорт","237",null,null,0]
[null,"Шахматы","238",null,null,0]
[null,"Шашки","239",null,null,0]
[null,"Эстетическая гимнастика","240",null,null,0]
[null,"Якутские национальные прыжки","241",null,null,0]
[null,"ИТОГО","242",{"$f":"SUM(D8:D19,D22:D25,D28:D38,D41:D45,D50:D52,D56:D64,D69:D78,D81:D87,D90:D93,D101:D115,D118:D123,D126,D131,D132,D138:D141,D146:D179,D185:D190,D195,D196,D200:D206,D209:D212,D217:D221,D227,D232,D233,D236,D240:D248)","v":8},{"$f":"SUM(E8:E19,E22:E25,E28:E38,E41:E45,E50:E52,E56:E64,E69:E78,E81:E87,E90:E93,E101:E115,E118:E123,E126,E131,E132,E138:E141,E146:E179,E185:E190,E195,E196,E200:E206,E209:E212,E217:E221,E227,E232,E233,E236,E240:E248)","v":0},1295,{"$f":"SUM(G8:G19,G22:G25,G28:G38,G41:G45,G50:G52,G56:G64,G69:G78,G81:G87,G90:G93,G101:G115,G118:G123,G126,G131,G132,G138:G141,G146:G179,G185:G190,G195,G196,G200:G206,G209:G212,G217:G221,G227,G232,G233,G236,G240:G248)","v":1083},119,93,0,0,5,1213,77,0,0,497,0,0,212,null,null,{"$f":"Раздел9!D16","v":0}]

{"sheet":"Раздел3","index":3,"n_rows":249,"n_cols":31,"rows_kept":249,"cut":false,"hidden":false,"merged":[[2,21,5,21],[3,3,5,3],[2,8,2,12],[2,13,2,17],[3,8,5,8],[3,13,5,13],[2,19,5,19],[2,20,5,20],[0,18,118,18],[3,4,4,7],[0,0,118,0],[0,1,0,17],[2,1,5,1],[2,2,5,2],[1,13,1,17],[2,3,2,7],[3,9,4,12],[3,14,4,17]]}
[null,"Раздел III. Численность занимающихся по программам спортивной подготовки"]
[null,null,null,null,null,null,null,null,null,null,null,null,null,"Код по ОКЕИ: человек – 792"]
[null,"Виды спорта","№ строки","Число занимающихся по программам спортивной подготовки на 31 декабря отчетного года (из гр. 5 раздела II)",null,null,null,null,"Число занимающихся, зачисленных на программы \nспортивной подготовки в отчетном году",null,null,null,null,"Число занимающихся, отчисленных с программ \nспортивной подготовки в отчетном году",null,null,null,null,null,null,"Раздел2 графа3\nЧисло отделений","Раздел2 графа5\nЧисло отделений"]
[null,null,null,"всего","в том числе по этапам подготовки",null,null,null,"всего","в том числе по этапам подготовки",null,null,null,"всего","в том числе по этапам подготовки"]
[]
[null,null,null,null,"начальной подготовки","трениро-вочный","совершен-ствования спортивного мастерства","высшего спортивного мастерства",null,"начальной подготовки","трениро-вочный","совершен-ствования спортивного мастерства","высшего спортивного мастерства",null,"начальной подготовки","трениро-вочный","совершен-ствования спортивного мастерства","высшего спортивного мастерства",null,null,null,null,"2-7","2-8","2-9","2-10"]
[null,1,2,3,4,5,6,7,8,9,10,11,12,13,14,15,16,17]
[null,"Авиамодельный спорт","01",{"$f":"SUM(E8:H8)","v":0},null,null,null,null,{"$f":"SUM(J8:M8)","v":0},null,null,null,null,{"$f":"SUM(O8:R8)","v":0},null,null,null,null,null,null,{"$f":"Раздел2!F8","v":0},{"$f":"Раздел2!F8","v":0},{"$f":"Раздел2!H8","v":0},{"$f":"Раздел2!I8","v":0},{"$f":"Раздел2!J8","v":0},{"$f":"Раздел2!K8","v":0},null,null,0,{"$f":"Раздел1!D18","v":1}]
[null,"Автомобильный спорт","02",{"$f":"SUM(E9:H9)","v":0},null,null,null,null,{"$f":"SUM(J9:M9)","v":0},null,null,null,null,{"$f":"SUM(O9:R9)","v":0},null,null,null,null,null,null,{"$f":"Раздел2!F9","v":0},{"$f":"Раздел2!F9","v":0},{"$f":"Раздел2!H9","v":0},{"$f":"Раздел2!I9","v":0},{"$f":"Раздел2!J9","v":0},{"$f":"Раздел2!K9","v":0}]
[null,"Автомодельный спорт","03",0,null,null,null,null,0,null,null,null,null,0,null,null,null,null,null,null,{"$f":"Раздел2!F10","v":0},{"$f":"Раздел2!F10","v":0},{"$f":"Раздел2!H10","v":0},{"$f":"Раздел2!I10","v":0},{"$f":"Раздел2!J10","v":0},{"$f":"Раздел2!K10","v":0}]
[null,"Айкидо","04",0,null,null,null,null,0,null,null,null,null,0,null,null,null,null,null,null,{"$f":"Раздел2!F11","v":0},{"$f":"Раздел2!F11","v":0},{"$f":"Раздел2!H11","v":0},{"$f":"Раздел2!I11","v":0},{"$f":"Раздел2!J11","v":0},{"$f":"Раздел2!K11","v":0}]
[null,"Айсшток","05",0,null,null,null,null,0,null,null,null,null,0,null,null,null,null,null,null,{"$f":"Раздел2!F12","v":0},{"$f":"Раздел2!F12","v":0},{"$f":"Раздел2!H12","v":0},{"$f":"Раздел2!I12","v":0},{"$f":"Раздел2!J12","v":0},{"$f":"Раздел2!K12","v":0}]
[null,"Акробатический рок-н-ролл","06",0,null,null,null,null,0,null,null,null,null,0,null,null,null,null,null,null,{"$f":"Раздел2!F13","v":0},{"$f":"Раздел2!F13","v":0},{"$f":"Раздел2!H13","v":0},{"$f":"Раздел2!I13","v":0},{"$f":"Раздел2!J13","v":0},{"$f":"Раздел2!K13","v":0}]
[null,"Альпинизм","07",0,0,0,0,0,0,0,0,0,0,0,0,0,0,0,null,null,{"$f":"Раздел2!F14","v":0},{"$f":"Раздел2!F14","v":0},{"$f":"Раздел2!H14","v":0},{"$f":"Раздел2!I14","v":0},{"$f":"Раздел2!J14","v":0},{"$f":"Раздел2!K14","v":0}]
[null,"Американский футбол","08",0,0,0,0,0,0,0,0,0,0,0,0,0,0,0,null,null,{"$f":"Раздел2!F15","v":0},{"$f":"Раздел2!F15","v":0},{"$f":"Раздел2!H15","v":0},{"$f":"Раздел2!I15","v":0},{"$f":"Раздел2!J15","v":0},{"$f":"Раздел2!K15","v":0}]
[null,"Армейский рукопашный бой","09",0,null,null,null,null,0,null,null,null,null,0,null,null,null,null,null,null,{"$f":"Раздел2!F16","v":0},{"$f":"Раздел2!F16","v":0},{"$f":"Раздел2!H16","v":0},{"$f":"Раздел2!I16","v":0},{"$f":"Раздел2!J16","v":0},{"$f":"Раздел2!K16","v":0}]
[null,"Армрестлинг","10",0,0,0,0,0,0,0,0,0,0,0,0,0,0,0,null,null,{"$f":"Раздел2!F17","v":0},{"$f":"Раздел2!F17","v":0},{"$f":"Раздел2!H17","v":0},{"$f":"Раздел2!I17","v":0},{"$f":"Раздел2!J17","v":0},{"$f":"Раздел2!K17","v":0}]
[null,"Бадминтон","11",0,0,0,0,0,0,0,0,0,0,0,0,0,0,0,null,null,{"$f":"Раздел2!F18","v":0},{"$f":"Раздел2!F18","v":0},{"$f":"Раздел2!H18","v":0},{"$f":"Раздел2!I18","v":0},{"$f":"Раздел2!J18","v":0},{"$f":"Раздел2!K18","v":0}]
[null,"Баскетбол - всего","12",0,{"$f":"SUM(E20:E21)","v":0},{"$f":"SUM(F20:F21)","v":0},{"$f":"SUM(G20:G21)","v":0},{"$f":"SUM(H20:H21)","v":0},0,{"$f":"SUM(J20:J21)","v":0},{"$f":"SUM(K20:K21)","v":0},{"$f":"SUM(L20:L21)","v":0},{"$f":"SUM(M20:M21)","v":0},0,{"$f":"SUM(O20:O21)","v":0},{"$f":"SUM(P20:P21)","v":0},{"$f":"SUM(Q20:Q21)","v":0},{"$f":"SUM(R20:R21)","v":0},null,null,{"$f":"Раздел2!F19","v":134},{"$f":"Раздел2!F19","v":134},{"$f":"Раздел2!H19","v":27},{"$f":"Раздел2!I19","v":15},{"$f":"Раздел2!J19","v":0},{"$f":"Раздел2!K19","v":0}]
[null,"в том числе:\nБаскетбол (муж.)","13",0,0,0,0,0,0,0,0,0,0,0,0,0,0,0,null,null,{"$f":"Раздел2!F20","v":93},{"$f":"Раздел2!F20","v":93},{"$f":"Раздел2!H20","v":12},{"$f":"Раздел2!I20","v":9},{"$f":"Раздел2!J20","v":0},{"$f":"Раздел2!K20","v":0}]
[null,"Баскетбол (жен.)","14",0,null,null,null,null,0,null,null,null,null,0,null,null,null,null,null,null,{"$f":"Раздел2!F21","v":41},{"$f":"Раздел2!F21","v":41},{"$f":"Раздел2!H21","v":15},{"$f":"Раздел2!I21","v":6},{"$f":"Раздел2!J21","v":0},{"$f":"Раздел2!K21","v":0}]
[null,"Бейсбол","15",0,0,0,0,0,0,0,0,0,0,0,0,0,0,0,null,null,{"$f":"Раздел2!F22","v":0},{"$f":"Раздел2!F22","v":0},{"$f":"Раздел2!H22","v":0},{"$f":"Раздел2!I22","v":0},{"$f":"Раздел2!J22","v":0},{"$f":"Раздел2!K22","v":0}]
[null,"Биатлон","16",0,0,0,0,0,0,0,0,0,0,0,0,0,0,0,null,null,{"$f":"Раздел2!F23","v":0},{"$f":"Раздел2!F23","v":0},{"$f":"Раздел2!H23","v":0},{"$f":"Раздел2!I23","v":0},{"$f":"Раздел2!J23","v":0},{"$f":"Раздел2!K23","v":0}]
[null,"Бильярдный спорт","17",0,0,0,0,0,0,0,0,0,0,0,0,0,0,0,null,null,{"$f":"Раздел2!F24","v":0},{"$f":"Раздел2!F24","v":0},{"$f":"Раздел2!H24","v":0},{"$f":"Раздел2!I24","v":0},{"$f":"Раздел2!J24","v":0},{"$f":"Раздел2!K24","v":0}]
[null,"Бобслей - всего","18",0,{"$f":"SUM(E26:E27)","v":0},{"$f":"SUM(F26:F27)","v":0},{"$f":"SUM(G26:G27)","v":0},{"$f":"SUM(H26:H27)","v":0},0,{"$f":"SUM(J26:J27)","v":0},{"$f":"SUM(K26:K27)","v":0},{"$f":"SUM(L26:L27)","v":0},{"$f":"SUM(M26:M27)","v":0},0,{"$f":"SUM(O26:O27)","v":0},{"$f":"SUM(P26:P27)","v":0},{"$f":"SUM(Q26:Q27)","v":0},{"$f":"SUM(R26:R27)","v":0},null,null,{"$f":"Раздел2!F25","v":0},{"$f":"Раздел2!F25","v":0},{"$f":"Раздел2!H25","v":0},{"$f":"Раздел2!I25","v":0},{"$f":"Раздел2!J25","v":0},{"$f":"Раздел2!K25","v":0}]
[null,"в том числе:\nБобслей","19",0,0,0,0,0,0,0,0,0,0,0,0,0,0,0,null,null,{"$f":"Раздел2!F26","v":0},{"$f":"Раздел2!F26","v":0},{"$f":"Раздел2!H26","v":0},{"$f":"Раздел2!I26","v":0},{"$f":"Раздел2!J26","v":0},{"$f":"Раздел2!K26","v":0}]
[null,"Скелетон","20",0,0,0,0,0,0,0,0,0,0,0,0,0,0,0,null,null,{"$f":"Раздел2!F27","v":0},{"$f":"Раздел2!F27","v":0},{"$f":"Раздел2!H27","v":0},{"$f":"Раздел2!I27","v":0},{"$f":"Раздел2!J27","v":0},{"$f":"Раздел2!K27","v":0}]
[null,"Бодибилдинг","21",0,0,0,0,0,0,0,0,0,0,0,0,0,0,0,null,null,{"$f":"Раздел2!F28","v":0},{"$f":"Раздел2!F28","v":0},{"$f":"Раздел2!H28","v":0},{"$f":"Раздел2!I28","v":0},{"$f":"Раздел2!J28","v":0},{"$f":"Раздел2!K28","v":0}]
[null,"Бокс","22",0,0,0,0,0,0,0,0,0,0,0,0,0,0,0,null,null,{"$f":"Раздел2!F29","v":90},{"$f":"Раздел2!F29","v":90},{"$f":"Раздел2!H29","v":0},{"$f":"Раздел2!I29","v":0},{"$f":"Раздел2!J29","v":0},{"$f":"Раздел2!K29","v":0}]
[null,"Борьба на поясах","23",0,0,0,0,0,0,0,0,0,0,0,0,0,0,0,null,null,{"$f":"Раздел2!F30","v":0},{"$f":"Раздел2!F30","v":0},{"$f":"Раздел2!H30","v":0},{"$f":"Раздел2!I30","v":0},{"$f":"Раздел2!J30","v":0},{"$f":"Раздел2!K30","v":0}]
[null,"Боулинг","24",0,0,0,0,0,0,0,0,0,0,0,0,0,0,0,null,null,{"$f":"Раздел2!F31","v":0},{"$f":"Раздел2!F31","v":0},{"$f":"Раздел2!H31","v":0},{"$f":"Раздел2!I31","v":0},{"$f":"Раздел2!J31","v":0},{"$f":"Раздел2!K31","v":0}]
[null,"Велоспорт ВМХ","25",0,0,0,0,0,0,0,0,0,0,0,0,0,0,0,null,null,{"$f":"Раздел2!F32","v":0},{"$f":"Раздел2!F32","v":0},{"$f":"Раздел2!H32","v":0},{"$f":"Раздел2!I32","v":0},{"$f":"Раздел2!J32","v":0},{"$f":"Раздел2!K32","v":0}]
[null,"Велоспорт – маунтинбайк","26",0,0,0,0,0,0,0,0,0,0,0,0,0,0,0,null,null,{"$f":"Раздел2!F33","v":0},{"$f":"Раздел2!F33","v":0},{"$f":"Раздел2!H33","v":0},{"$f":"Раздел2!I33","v":0},{"$f":"Раздел2!J33","v":0},{"$f":"Раздел2!K33","v":0}]
[null,"Велоспорт – трек","27",0,0,0,0,0,0,0,0,0,0,0,0,0,0,0,null,null,{"$f":"Раздел2!F34","v":0},{"$f":"Раздел2!F34","v":0},{"$f":"Раздел2!H34","v":0},{"$f":"Раздел2!I34","v":0},{"$f":"Раздел2!J34","v":0},{"$f":"Раздел2!K34","v":0}]
[null,"Велоспорт – шоссе","28",0,0,0,0,0,0,0,0,0,0,0,0,0,0,0,null,null,{"$f":"Раздел2!F35","v":0},{"$f":"Раздел2!F35","v":0},{"$f":"Раздел2!H35","v":0},{"$f":"Раздел2!I35","v":0},{"$f":"Раздел2!J35","v":0},{"$f":"Раздел2!K35","v":0}]
[null,"Вертолетный спорт","29",0,0,0,0,0,0,0,0,0,0,0,0,0,0,0,null,null,{"$f":"Раздел2!F36","v":0},{"$f":"Раздел2!F36","v":0},{"$f":"Раздел2!H36","v":0},{"$f":"Раздел2!I36","v":0},{"$f":"Раздел2!J36","v":0},{"$f":"Раздел2!K36","v":0}]
[null,"Водно-моторный спорт","30",0,0,0,0,0,0,0,0,0,0,0,0,0,0,0,null,null,{"$f":"Раздел2!F37","v":0},{"$f":"Раздел2!F37","v":0},{"$f":"Раздел2!H37","v":0},{"$f":"Раздел2!I37","v":0},{"$f":"Раздел2!J37","v":0},{"$f":"Раздел2!K37","v":0}]
[null,"Водное поло - всего ","31",0,{"$f":"SUM(E39:E40)","v":0},{"$f":"SUM(F39:F40)","v":0},{"$f":"SUM(G39:G40)","v":0},{"$f":"SUM(H39:H40)","v":0},0,{"$f":"SUM(J39:J40)","v":0},{"$f":"SUM(K39:K40)","v":0},{"$f":"SUM(L39:L40)","v":0},{"$f":"SUM(M39:M40)","v":0},0,{"$f":"SUM(O39:O40)","v":0},{"$f":"SUM(P39:P40)","v":0},{"$f":"SUM(Q39:Q40)","v":0},{"$f":"SUM(R39:R40)","v":0},null,null,{"$f":"Раздел2!F38","v":0},{"$f":"Раздел2!F38","v":0},{"$f":"Раздел2!H38","v":0},{"$f":"Раздел2!I38","v":0},{"$f":"Раздел2!J38","v":0},{"$f":"Раздел2!K38","v":0}]
[null,"в том числе:\nВодное поло (муж.)","32",0,null,null,null,null,0,null,null,null,null,0,null,null,null,null,null,null,{"$f":"Раздел2!F39","v":0},{"$f":"Раздел2!F39","v":0},{"$f":"Раздел2!H39","v":0},{"$f":"Раздел2!I39","v":0},{"$f":"Раздел2!J39","v":0},{"$f":"Раздел2!K39","v":0}]
[null,"Водное поло (жен.)","33",0,null,null,null,null,0,null,null,null,null,0,null,null,null,null,null,null,{"$f":"Раздел2!F40","v":0},{"$f":"Раздел2!F40","v":0},{"$f":"Раздел2!H40","v":0},{"$f":"Раздел2!I40","v":0},{"$f":"Раздел2!J40","v":0},{"$f":"Раздел2!K40","v":0}]
[null,"Воднолыжный спорт","34",0,null,null,null,null,0,null,null,null,null,0,null,null,null,null,null,null,{"$f":"Раздел2!F41","v":0},{"$f":"Раздел2!F41","v":0},{"$f":"Раздел2!H41","v":0},{"$f":"Раздел2!I41","v":0},{"$f":"Раздел2!J41","v":0},{"$f":"Раздел2!K41","v":0}]
[null,"Военно-прикладной спорт","35",0,null,null,null,null,0,null,null,null,null,0,null,null,null,null,null,null,{"$f":"Раздел2!F42","v":0},{"$f":"Раздел2!F42","v":0},{"$f":"Раздел2!H42","v":0},{"$f":"Раздел2!I42","v":0},{"$f":"Раздел2!J42","v":0},{"$f":"Раздел2!K42","v":0}]
[null,"Военно-спортивное многоборье","36",0,null,null,null,null,0,null,null,null,null,0,null,null,null,null,null,null,{"$f":"Раздел2!F43","v":0},{"$f":"Раздел2!F43","v":0},{"$f":"Раздел2!H43","v":0},{"$f":"Раздел2!I43","v":0},{"$f":"Раздел2!J43","v":0},{"$f":"Раздел2!K43","v":0}]
[null,"Воздухоплавательный спорт","37",0,0,0,0,0,0,0,0,0,0,0,0,0,0,0,null,null,{"$f":"Раздел2!F44","v":0},{"$f":"Раздел2!F44","v":0},{"$f":"Раздел2!H44","v":0},{"$f":"Раздел2!I44","v":0},{"$f":"Раздел2!J44","v":0},{"$f":"Раздел2!K44","v":0}]
[null,"Волейбол - всего","38",0,{"$f":"SUM(E46:E49)","v":0},{"$f":"SUM(F46:F49)","v":0},{"$f":"SUM(G46:G49)","v":0},{"$f":"SUM(H46:H49)","v":0},0,{"$f":"SUM(J46:J49)","v":0},{"$f":"SUM(K46:K49)","v":0},{"$f":"SUM(L46:L49)","v":0},{"$f":"SUM(M46:M49)","v":0},0,{"$f":"SUM(O46:O49)","v":0},{"$f":"SUM(P46:P49)","v":0},{"$f":"SUM(Q46:Q49)","v":0},{"$f":"SUM(R46:R49)","v":0},null,null,{"$f":"Раздел2!F45","v":80},{"$f":"Раздел2!F45","v":80},{"$f":"Раздел2!H45","v":0},{"$f":"Раздел2!I45","v":0},{"$f":"Раздел2!J45","v":0},{"$f":"Раздел2!K45","v":0}]
[null,"в том числе:\nВолейбол (муж.)","39",0,0,0,0,0,0,0,0,0,0,0,0,0,0,0,null,null,{"$f":"Раздел2!F46","v":21},{"$f":"Раздел2!F46","v":21},{"$f":"Раздел2!H46","v":0},{"$f":"Раздел2!I46","v":0},{"$f":"Раздел2!J46","v":0},{"$f":"Раздел2!K46","v":0}]
[null,"Волейбол (жен.)","40",0,null,null,null,null,0,null,null,null,null,0,null,null,null,null,null,null,{"$f":"Раздел2!F47","v":59},{"$f":"Раздел2!F47","v":59},{"$f":"Раздел2!H47","v":0},{"$f":"Раздел2!I47","v":0},{"$f":"Раздел2!J47","v":0},{"$f":"Раздел2!K47","v":0}]
[null,"Пляжный волейбол (муж.)","41",0,0,0,0,0,0,0,0,0,0,0,0,0,0,0,null,null,{"$f":"Раздел2!F48","v":0},{"$f":"Раздел2!F48","v":0},{"$f":"Раздел2!H48","v":0},{"$f":"Раздел2!I48","v":0},{"$f":"Раздел2!J48","v":0},{"$f":"Раздел2!K48","v":0}]
[null,"Пляжный волейбол (жен.)","42",0,0,0,0,0,0,0,0,0,0,0,0,0,0,0,null,null,{"$f":"Раздел2!F49","v":0},{"$f":"Раздел2!F49","v":0},{"$f":"Раздел2!H49","v":0},{"$f":"Раздел2!I49","v":0},{"$f":"Раздел2!J49","v":0},{"$f":"Раздел2!K49","v":0}]
[null,"Восточное боевое единоборство","43",0,0,0,0,0,0,0,0,0,0,0,0,0,0,0,null,null,{"$f":"Раздел2!F50","v":0},{"$f":"Раздел2!F50","v":0},{"$f":"Раздел2!H50","v":0},{"$f":"Раздел2!I50","v":0},{"$f":"Раздел2!J50","v":0},{"$f":"Раздел2!K50","v":0}]
[null,"Всестилевое карате","44",0,0,0,0,0,0,0,0,0,0,0,0,0,0,0,null,null,{"$f":"Раздел2!F51","v":0},{"$f":"Раздел2!F51","v":0},{"$f":"Раздел2!H51","v":0},{"$f":"Раздел2!I51","v":0},{"$f":"Раздел2!J51","v":0},{"$f":"Раздел2!K51","v":0}]
[null,"Гандбол - всего","45",0,{"$f":"SUM(E53:E55)","v":0},{"$f":"SUM(F53:F55)","v":0},{"$f":"SUM(G53:G55)","v":0},{"$f":"SUM(H53:H55)","v":0},0,{"$f":"SUM(J53:J55)","v":0},{"$f":"SUM(K53:K55)","v":0},{"$f":"SUM(L53:L55)","v":0},{"$f":"SUM(M53:M55)","v":0},0,{"$f":"SUM(O53:O55)","v":0},{"$f":"SUM(P53:P55)","v":0},{"$f":"SUM(Q53:Q55)","v":0},{"$f":"SUM(R53:R55)","v":0},null,null,{"$f":"Раздел2!F52","v":0},{"$f":"Раздел2!F52","v":0},{"$f":"Раздел2!H52","v":0},{"$f":"Раздел2!I52","v":0},{"$f":"Раздел2!J52","v":0},{"$f":"Раздел2!K52","v":0}]
[null,"в том числе:\nГандбол (муж.)","46",0,0,0,0,0,0,0,0,0,0,0,0,0,0,0,null,null,{"$f":"Раздел2!F53","v":0},{"$f":"Раздел2!F53","v":0},{"$f":"Раздел2!H53","v":0},{"$f":"Раздел2!I53","v":0},{"$f":"Раздел2!J53","v":0},{"$f":"Раздел2!K53","v":0}]
[null,"Гандбол (жен.)","47",0,0,0,0,0,0,0,0,0,0,0,0,0,0,0,null,null,{"$f":"Раздел2!F54","v":0},{"$f":"Раздел2!F54","v":0},{"$f":"Раздел2!H54","v":0},{"$f":"Раздел2!I54","v":0},{"$f":"Раздел2!J54","v":0},{"$f":"Раздел2!K54","v":0}]
[null,"Пляжный гандбол","48",0,null,null,null,null,0,null,null,null,null,0,null,null,null,null,null,null,{"$f":"Раздел2!F55","v":0},{"$f":"Раздел2!F55","v":0},{"$f":"Раздел2!H55","v":0},{"$f":"Раздел2!I55","v":0},{"$f":"Раздел2!J55","v":0},{"$f":"Раздел2!K55","v":0}]
[null,"Гиревой спорт","49",0,0,0,0,0,0,0,0,0,0,0,0,0,0,0,null,null,{"$f":"Раздел2!F56","v":0},{"$f":"Раздел2!F56","v":0},{"$f":"Раздел2!H56","v":0},{"$f":"Раздел2!I56","v":0},{"$f":"Раздел2!J56","v":0},{"$f":"Раздел2!K56","v":0}]
[null,"Го","50",0,0,0,0,0,0,0,0,0,0,0,0,0,0,0,null,null,{"$f":"Раздел2!F57","v":0},{"$f":"Раздел2!F57","v":0},{"$f":"Раздел2!H57","v":0},{"$f":"Раздел2!I57","v":0},{"$f":"Раздел2!J57","v":0},{"$f":"Раздел2!K57","v":0}]
[null,"Гольф","51",0,0,0,0,0,0,0,0,0,0,0,0,0,0,0,null,null,{"$f":"Раздел2!F58","v":0},{"$f":"Раздел2!F58","v":0},{"$f":"Раздел2!H58","v":0},{"$f":"Раздел2!I58","v":0},{"$f":"Раздел2!J58","v":0},{"$f":"Раздел2!K58","v":0}]
[null,"Горнолыжный спорт","52",0,0,0,0,0,0,0,0,0,0,0,0,0,0,0,null,null,{"$f":"Раздел2!F59","v":0},{"$f":"Раздел2!F59","v":0},{"$f":"Раздел2!H59","v":0},{"$f":"Раздел2!I59","v":0},{"$f":"Раздел2!J59","v":0},{"$f":"Раздел2!K59","v":0}]
[null,"Городошный спорт","53",0,0,0,0,0,0,0,0,0,0,0,0,0,0,0,null,null,{"$f":"Раздел2!F60","v":0},{"$f":"Раздел2!F60","v":0},{"$f":"Раздел2!H60","v":0},{"$f":"Раздел2!I60","v":0},{"$f":"Раздел2!J60","v":0},{"$f":"Раздел2!K60","v":0}]
[null,"Гребля на байдарках и каноэ","54",0,0,0,0,0,0,0,0,0,0,0,0,0,0,0,null,null,{"$f":"Раздел2!F61","v":0},{"$f":"Раздел2!F61","v":0},{"$f":"Раздел2!H61","v":0},{"$f":"Раздел2!I61","v":0},{"$f":"Раздел2!J61","v":0},{"$f":"Раздел2!K61","v":0}]
[null,"Гребля на шлюпках","55",0,null,null,null,null,0,null,null,null,null,0,null,null,null,null,null,null,{"$f":"Раздел2!F62","v":0},{"$f":"Раздел2!F62","v":0},{"$f":"Раздел2!H62","v":0},{"$f":"Раздел2!I62","v":0},{"$f":"Раздел2!J62","v":0},{"$f":"Раздел2!K62","v":0}]
[null,"Гребной слалом","56",0,0,0,0,0,0,0,0,0,0,0,0,0,0,0,null,null,{"$f":"Раздел2!F63","v":0},{"$f":"Раздел2!F63","v":0},{"$f":"Раздел2!H63","v":0},{"$f":"Раздел2!I63","v":0},{"$f":"Раздел2!J63","v":0},{"$f":"Раздел2!K63","v":0}]
[null,"Гребной спорт - всего","57",0,{"$f":"SUM(E65:E68)","v":0},{"$f":"SUM(F65:F68)","v":0},{"$f":"SUM(G65:G68)","v":0},{"$f":"SUM(H65:H68)","v":0},0,{"$f":"SUM(J65:J68)","v":0},{"$f":"SUM(K65:K68)","v":0},{"$f":"SUM(L65:L68)","v":0},{"$f":"SUM(M65:M68)","v":0},0,{"$f":"SUM(O65:O68)","v":0},{"$f":"SUM(P65:P68)","v":0},{"$f":"SUM(Q65:Q68)","v":0},{"$f":"SUM(R65:R68)","v":0},null,null,{"$f":"Раздел2!F64","v":0},{"$f":"Раздел2!F64","v":0},{"$f":"Раздел2!H64","v":0},{"$f":"Раздел2!I64","v":0},{"$f":"Раздел2!J64","v":0},{"$f":"Раздел2!K64","v":0}]
[null,"в том числе:\nАкадемическая гребля","58",0,0,0,0,0,0,0,0,0,0,0,0,0,0,0,null,null,{"$f":"Раздел2!F65","v":0},{"$f":"Раздел2!F65","v":0},{"$f":"Раздел2!H65","v":0},{"$f":"Раздел2!I65","v":0},{"$f":"Раздел2!J65","v":0},{"$f":"Раздел2!K65","v":0}]
[null,"Гребля-индор","59",0,0,0,0,0,0,0,0,0,0,0,0,0,0,0,null,null,{"$f":"Раздел2!F66","v":0},{"$f":"Раздел2!F66","v":0},{"$f":"Раздел2!H66","v":0},{"$f":"Раздел2!I66","v":0},{"$f":"Раздел2!J66","v":0},{"$f":"Раздел2!K66","v":0}]
[null,"Народная гребля","60",0,0,0,0,0,0,0,0,0,0,0,0,0,0,0,null,null,{"$f":"Раздел2!F67","v":0},{"$f":"Раздел2!F67","v":0},{"$f":"Раздел2!H67","v":0},{"$f":"Раздел2!I67","v":0},{"$f":"Раздел2!J67","v":0},{"$f":"Раздел2!K67","v":0}]
[null,"Прибрежная гребля","61",0,0,0,0,0,0,0,0,0,0,0,0,0,0,0,null,null,{"$f":"Раздел2!F68","v":0},{"$f":"Раздел2!F68","v":0},{"$f":"Раздел2!H68","v":0},{"$f":"Раздел2!I68","v":0},{"$f":"Раздел2!J68","v":0},{"$f":"Раздел2!K68","v":0}]
[null,"Гребно-парусное двоеборье","62",0,0,0,0,0,0,0,0,0,0,0,0,0,0,0,null,null,{"$f":"Раздел2!F69","v":0},{"$f":"Раздел2!F69","v":0},{"$f":"Раздел2!H69","v":0},{"$f":"Раздел2!I69","v":0},{"$f":"Раздел2!J69","v":0},{"$f":"Раздел2!K69","v":0}]
[null,"Дартс","63",0,0,0,0,0,0,0,0,0,0,0,0,0,0,0,null,null,{"$f":"Раздел2!F70","v":0},{"$f":"Раздел2!F70","v":0},{"$f":"Раздел2!H70","v":0},{"$f":"Раздел2!I70","v":0},{"$f":"Раздел2!J70","v":0},{"$f":"Раздел2!K70","v":0}]
[null,"Джиу-джитсу","64",0,0,0,0,0,0,0,0,0,0,0,0,0,0,0,null,null,{"$f":"Раздел2!F71","v":0},{"$f":"Раздел2!F71","v":0},{"$f":"Раздел2!H71","v":0},{"$f":"Раздел2!I71","v":0},{"$f":"Раздел2!J71","v":0},{"$f":"Раздел2!K71","v":0}]
[null,"Дзюдо","65",0,0,0,0,0,0,0,0,0,0,0,0,0,0,0,null,null,{"$f":"Раздел2!F72","v":282},{"$f":"Раздел2!F72","v":282},{"$f":"Раздел2!H72","v":64},{"$f":"Раздел2!I72","v":67},{"$f":"Раздел2!J72","v":0},{"$f":"Раздел2!K72","v":0}]
[null,"Ездовой спорт","66",{"$f":"SUM(E73:H73)","v":0},0,0,0,0,{"$f":"SUM(J73:M73)","v":0},0,0,0,0,{"$f":"SUM(O73:R73)","v":0},0,0,0,0,null,null,{"$f":"Раздел2!F73","v":0},{"$f":"Раздел2!F73","v":0},{"$f":"Раздел2!H73","v":0},{"$f":"Раздел2!I73","v":0},{"$f":"Раздел2!J73","v":0},{"$f":"Раздел2!K73","v":0}]
[null,"Капоэйра","67",0,0,0,0,0,0,0,0,0,0,0,0,0,0,0,null,null,{"$f":"Раздел2!F74","v":0},{"$f":"Раздел2!F74","v":0},{"$f":"Раздел2!H74","v":0},{"$f":"Раздел2!I74","v":0},{"$f":"Раздел2!J74","v":0},{"$f":"Раздел2!K74","v":0}]
[null,"Каратэ","68",0,0,0,0,0,0,0,0,0,0,0,0,0,0,0,null,null,{"$f":"Раздел2!F75","v":0},{"$f":"Раздел2!F75","v":0},{"$f":"Раздел2!H75","v":0},{"$f":"Раздел2!I75","v":0},{"$f":"Раздел2!J75","v":0},{"$f":"Раздел2!K75","v":0}]
[null,"Кендо","69",0,0,0,0,0,0,0,0,0,0,0,0,0,0,0,null,null,{"$f":"Раздел2!F76","v":0},{"$f":"Раздел2!F76","v":0},{"$f":"Раздел2!H76","v":0},{"$f":"Раздел2!I76","v":0},{"$f":"Раздел2!J76","v":0},{"$f":"Раздел2!K76","v":0}]
[null,"Керешу","70",0,0,0,0,0,0,0,0,0,0,0,0,0,0,0,null,null,{"$f":"Раздел2!F77","v":0},{"$f":"Раздел2!F77","v":0},{"$f":"Раздел2!H77","v":0},{"$f":"Раздел2!I77","v":0},{"$f":"Раздел2!J77","v":0},{"$f":"Раздел2!K77","v":0}]
[null,"Керлинг - всего","71",0,{"$f":"SUM(E79:E80)","v":0},{"$f":"SUM(F79:F80)","v":0},{"$f":"SUM(G79:G80)","v":0},{"$f":"SUM(H79:H80)","v":0},0,{"$f":"SUM(J79:J80)","v":0},{"$f":"SUM(K79:K80)","v":0},{"$f":"SUM(L79:L80)","v":0},{"$f":"SUM(M79:M80)","v":0},0,{"$f":"SUM(O79:O80)","v":0},{"$f":"SUM(P79:P80)","v":0},{"$f":"SUM(Q79:Q80)","v":0},{"$f":"SUM(R79:R80)","v":0},null,null,{"$f":"Раздел2!F78","v":0},{"$f":"Раздел2!F78","v":0},{"$f":"Раздел2!H78","v":0},{"$f":"Раздел2!I78","v":0},{"$f":"Раздел2!J78","v":0},{"$f":"Раздел2!K78","v":0}]
[null,"в том числе:\nКерлинг (муж.)","72",0,0,0,0,0,0,0,0,0,0,0,0,0,0,0,null,null,{"$f":"Раздел2!F79","v":0},{"$f":"Раздел2!F79","v":0},{"$f":"Раздел2!H79","v":0},{"$f":"Раздел2!I79","v":0},{"$f":"Раздел2!J79","v":0},{"$f":"Раздел2!K79","v":0}]
[null,"Керлинг (жен.)","73",0,0,0,0,0,0,0,0,0,0,0,0,0,0,0,null,null,{"$f":"Раздел2!F80","v":0},{"$f":"Раздел2!F80","v":0},{"$f":"Раздел2!H80","v":0},{"$f":"Раздел2!I80","v":0},{"$f":"Раздел2!J80","v":0},{"$f":"Раздел2!K80","v":0}]
[null,"Кикбоксинг","74",0,0,0,0,0,0,0,0,0,0,0,0,0,0,0,null,null,{"$f":"Раздел2!F81","v":0},{"$f":"Раздел2!F81","v":0},{"$f":"Раздел2!H81","v":0},{"$f":"Раздел2!I81","v":0},{"$f":"Раздел2!J81","v":0},{"$f":"Раздел2!K81","v":0}]
[null,"Кинологический спорт","75",0,0,0,0,0,0,0,0,0,0,0,0,0,0,0,null,null,{"$f":"Раздел2!F82","v":0},{"$f":"Раздел2!F82","v":0},{"$f":"Раздел2!H82","v":0},{"$f":"Раздел2!I82","v":0},{"$f":"Раздел2!J82","v":0},{"$f":"Раздел2!K82","v":0}]
[null,"Киокусинкай","76",0,0,0,0,0,0,0,0,0,0,0,0,0,0,0,null,null,{"$f":"Раздел2!F83","v":0},{"$f":"Раздел2!F83","v":0},{"$f":"Раздел2!H83","v":0},{"$f":"Раздел2!I83","v":0},{"$f":"Раздел2!J83","v":0},{"$f":"Раздел2!K83","v":0}]
[null,"Комплексное единоборство","77",0,0,0,0,0,0,0,0,0,0,0,0,0,0,0,null,null,{"$f":"Раздел2!F84","v":0},{"$f":"Раздел2!F84","v":0},{"$f":"Раздел2!H84","v":0},{"$f":"Раздел2!I84","v":0},{"$f":"Раздел2!J84","v":0},{"$f":"Раздел2!K84","v":0}]
[null,"Компьютерный спорт","78",0,0,0,0,0,0,0,0,0,0,0,0,0,0,0,null,null,{"$f":"Раздел2!F85","v":0},{"$f":"Раздел2!F85","v":0},{"$f":"Раздел2!H85","v":0},{"$f":"Раздел2!I85","v":0},{"$f":"Раздел2!J85","v":0},{"$f":"Раздел2!K85","v":0}]
[null,"Конный спорт","79",0,0,0,0,0,0,0,0,0,0,0,0,0,0,0,null,null,{"$f":"Раздел2!F86","v":0},{"$f":"Раздел2!F86","v":0},{"$f":"Раздел2!H86","v":0},{"$f":"Раздел2!I86","v":0},{"$f":"Раздел2!J86","v":0},{"$f":"Раздел2!K86","v":0}]
[null,"Конькобежный спорт - всего","80",0,{"$f":"SUM(E88:E89)","v":0},{"$f":"SUM(F88:F89)","v":0},{"$f":"SUM(G88:G89)","v":0},{"$f":"SUM(H88:H89)","v":0},0,{"$f":"SUM(J88:J89)","v":0},{"$f":"SUM(K88:K89)","v":0},{"$f":"SUM(L88:L89)","v":0},{"$f":"SUM(M88:M89)","v":0},0,{"$f":"SUM(O88:O89)","v":0},{"$f":"SUM(P88:P89)","v":0},{"$f":"SUM(Q88:Q89)","v":0},{"$f":"SUM(R88:R89)","v":0},null,null,{"$f":"Раздел2!F87","v":0},{"$f":"Раздел2!F87","v":0},{"$f":"Раздел2!H87","v":0},{"$f":"Раздел2!I87","v":0},{"$f":"Раздел2!J87","v":0},{"$f":"Раздел2!K87","v":0}]
[null,"в том числе:\nКонькобежный спорт","81",0,0,0,0,0,0,0,0,0,0,0,0,0,0,0,null,null,{"$f":"Раздел2!F88","v":0},{"$f":"Раздел2!F88","v":0},{"$f":"Раздел2!H88","v":0},{"$f":"Раздел2!I88","v":0},{"$f":"Раздел2!J88","v":0},{"$f":"Раздел2!K88","v":0}]
[null,"Шорт-трек","82",0,0,0,0,0,0,0,0,0,0,0,0,0,0,0,null,null,{"$f":"Раздел2!F89","v":0},{"$f":"Раздел2!F89","v":0},{"$f":"Раздел2!H89","v":0},{"$f":"Раздел2!I89","v":0},{"$f":"Раздел2!J89","v":0},{"$f":"Раздел2!K89","v":0}]
[null,"Корэш","83",0,0,0,0,0,0,0,0,0,0,0,0,0,0,0,null,null,{"$f":"Раздел2!F90","v":0},{"$f":"Раздел2!F90","v":0},{"$f":"Раздел2!H90","v":0},{"$f":"Раздел2!I90","v":0},{"$f":"Раздел2!J90","v":0},{"$f":"Раздел2!K90","v":0}]
[null,"Корфбол","84",0,0,0,0,0,0,0,0,0,0,0,0,0,0,0,null,null,{"$f":"Раздел2!F91","v":0},{"$f":"Раздел2!F91","v":0},{"$f":"Раздел2!H91","v":0},{"$f":"Раздел2!I91","v":0},{"$f":"Раздел2!J91","v":0},{"$f":"Раздел2!K91","v":0}]
[null,"Лапта","85",0,0,0,0,0,0,0,0,0,0,0,0,0,0,0,null,null,{"$f":"Раздел2!F92","v":0},{"$f":"Раздел2!F92","v":0},{"$f":"Раздел2!H92","v":0},{"$f":"Раздел2!I92","v":0},{"$f":"Раздел2!J92","v":0},{"$f":"Раздел2!K92","v":0}]
[null,"Легкая атлетика - всего","86",0,{"$f":"SUM(E94:E100)","v":0},{"$f":"SUM(F94:F100)","v":0},{"$f":"SUM(G94:G100)","v":0},{"$f":"SUM(H94:H100)","v":0},0,{"$f":"SUM(J94:J100)","v":0},{"$f":"SUM(K94:K100)","v":0},{"$f":"SUM(L94:L100)","v":0},{"$f":"SUM(M94:M100)","v":0},0,{"$f":"SUM(O94:O100)","v":0},{"$f":"SUM(P94:P100)","v":0},{"$f":"SUM(Q94:Q100)","v":0},{"$f":"SUM(R94:R100)","v":0},null,null,{"$f":"Раздел2!F93","v":187},{"$f":"Раздел2!F93","v":187},{"$f":"Раздел2!H93","v":0},{"$f":"Раздел2!I93","v":0},{"$f":"Раздел2!J93","v":0},{"$f":"Раздел2!K93","v":0}]
[null,"в том числе:\nСпринтерский и барьерный бег","87",0,0,0,0,0,0,0,0,0,0,0,0,0,0,0,null,null,{"$f":"Раздел2!F94","v":0},{"$f":"Раздел2!F94","v":0},{"$f":"Раздел2!H94","v":0},{"$f":"Раздел2!I94","v":0},{"$f":"Раздел2!J94","v":0},{"$f":"Раздел2!K94","v":0}]
[null,"Бег на средние дистанции и бег с препятствиями","88",0,0,0,0,0,0,0,0,0,0,0,0,0,0,0,null,null,{"$f":"Раздел2!F95","v":0},{"$f":"Раздел2!F95","v":0},{"$f":"Раздел2!H95","v":0},{"$f":"Раздел2!I95","v":0},{"$f":"Раздел2!J95","v":0},{"$f":"Раздел2!K95","v":0}]
[null,"Бег на длинные и сверхдлинные дистанции","89",0,0,0,0,0,0,0,0,0,0,0,0,0,0,0,null,null,{"$f":"Раздел2!F96","v":0},{"$f":"Раздел2!F96","v":0},{"$f":"Раздел2!H96","v":0},{"$f":"Раздел2!I96","v":0},{"$f":"Раздел2!J96","v":0},{"$f":"Раздел2!K96","v":0}]
[null,"Многоборья","90",0,0,0,0,0,0,0,0,0,0,0,0,0,0,0,null,null,{"$f":"Раздел2!F97","v":187},{"$f":"Раздел2!F97","v":187},{"$f":"Раздел2!H97","v":0},{"$f":"Раздел2!I97","v":0},{"$f":"Раздел2!J97","v":0},{"$f":"Раздел2!K97","v":0}]
[null,"Прыжки","91",0,0,0,0,0,0,0,0,0,0,0,0,0,0,0,null,null,{"$f":"Раздел2!F98","v":0},{"$f":"Раздел2!F98","v":0},{"$f":"Раздел2!H98","v":0},{"$f":"Раздел2!I98","v":0},{"$f":"Раздел2!J98","v":0},{"$f":"Раздел2!K98","v":0}]
[null,"Метания","92",0,0,0,0,0,0,0,0,0,0,0,0,0,0,0,null,null,{"$f":"Раздел2!F99","v":0},{"$f":"Раздел2!F99","v":0},{"$f":"Раздел2!H99","v":0},{"$f":"Раздел2!I99","v":0},{"$f":"Раздел2!J99","v":0},{"$f":"Раздел2!K99","v":0}]
[null,"Спортивная ходьба","93",0,0,0,0,0,0,0,0,0,0,0,0,0,0,0,null,null,{"$f":"Раздел2!F100","v":0},{"$f":"Раздел2!F100","v":0},{"$f":"Раздел2!H100","v":0},{"$f":"Раздел2!I100","v":0},{"$f":"Раздел2!J100","v":0},{"$f":"Раздел2!K100","v":0}]
[null,"Лыжное двоеборье","94",0,0,0,0,0,0,0,0,0,0,0,0,0,0,0,null,null,{"$f":"Раздел2!F101","v":0},{"$f":"Раздел2!F101","v":0},{"$f":"Раздел2!H101","v":0},{"$f":"Раздел2!I101","v":0},{"$f":"Раздел2!J101","v":0},{"$f":"Раздел2!K101","v":0}]
[null,"Лыжные гонки","95",0,0,0,0,0,0,0,0,0,0,0,0,0,0,0,null,null,{"$f":"Раздел2!F102","v":0},{"$f":"Раздел2!F102","v":0},{"$f":"Раздел2!H102","v":0},{"$f":"Раздел2!I102","v":0},{"$f":"Раздел2!J102","v":0},{"$f":"Раздел2!K102","v":0}]
[null,"Мас-рестлинг","96",0,0,0,0,0,0,0,0,0,0,0,0,0,0,0,null,null,{"$f":"Раздел2!F103","v":0},{"$f":"Раздел2!F103","v":0},{"$f":"Раздел2!H103","v":0},{"$f":"Раздел2!I103","v":0},{"$f":"Раздел2!J103","v":0},{"$f":"Раздел2!K103","v":0}]
[null,"Международное военно-спортивное многоборье","97",0,0,0,0,0,0,0,0,0,0,0,0,0,0,0,null,null,{"$f":"Раздел2!F104","v":0},{"$f":"Раздел2!F104","v":0},{"$f":"Раздел2!H104","v":0},{"$f":"Раздел2!I104","v":0},{"$f":"Раздел2!J104","v":0},{"$f":"Раздел2!K104","v":0}]
[null,"Многоборье кинологов","98",0,0,0,0,0,0,0,0,0,0,0,0,0,0,0,null,null,{"$f":"Раздел2!F105","v":0},{"$f":"Раздел2!F105","v":0},{"$f":"Раздел2!H105","v":0},{"$f":"Раздел2!I105","v":0},{"$f":"Раздел2!J105","v":0},{"$f":"Раздел2!K105","v":0}]
[null,"Многоборье спасателей МЧС России","99",0,0,0,0,0,0,0,0,0,0,0,0,0,0,0,null,null,{"$f":"Раздел2!F106","v":0},{"$f":"Раздел2!F106","v":0},{"$f":"Раздел2!H106","v":0},{"$f":"Раздел2!I106","v":0},{"$f":"Раздел2!J106","v":0},{"$f":"Раздел2!K106","v":0}]
[null,"Морское многоборье","100",0,0,0,0,0,0,0,0,0,0,0,0,0,0,0,null,null,{"$f":"Раздел2!F107","v":0},{"$f":"Раздел2!F107","v":0},{"$f":"Раздел2!H107","v":0},{"$f":"Раздел2!I107","v":0},{"$f":"Раздел2!J107","v":0},{"$f":"Раздел2!K107","v":0}]
[null,"Мотоциклетный спорт","101",0,0,0,0,0,0,0,0,0,0,0,0,0,0,0,null,null,{"$f":"Раздел2!F108","v":0},{"$f":"Раздел2!F108","v":0},{"$f":"Раздел2!H108","v":0},{"$f":"Раздел2!I108","v":0},{"$f":"Раздел2!J108","v":0},{"$f":"Раздел2!K108","v":0}]
[null,"Настольный теннис","102",0,0,0,0,0,0,0,0,0,0,0,0,0,0,0,null,null,{"$f":"Раздел2!F109","v":0},{"$f":"Раздел2!F109","v":0},{"$f":"Раздел2!H109","v":0},{"$f":"Раздел2!I109","v":0},{"$f":"Раздел2!J109","v":0},{"$f":"Раздел2!K109","v":0}]
[null,"Парашютный спорт","103",0,0,0,0,0,0,0,0,0,0,0,0,0,0,0,null,null,{"$f":"Раздел2!F110","v":0},{"$f":"Раздел2!F110","v":0},{"$f":"Раздел2!H110","v":0},{"$f":"Раздел2!I110","v":0},{"$f":"Раздел2!J110","v":0},{"$f":"Раздел2!K110","v":0}]
[null,"Парусный спорт","104",0,0,0,0,0,0,0,0,0,0,0,0,0,0,0,null,null,{"$f":"Раздел2!F111","v":0},{"$f":"Раздел2!F111","v":0},{"$f":"Раздел2!H111","v":0},{"$f":"Раздел2!I111","v":0},{"$f":"Раздел2!J111","v":0},{"$f":"Раздел2!K111","v":0}]
[null,"Пауэрлифтинг","105",0,0,0,0,0,0,0,0,0,0,0,0,0,0,0,null,null,{"$f":"Раздел2!F112","v":0},{"$f":"Раздел2!F112","v":0},{"$f":"Раздел2!H112","v":0},{"$f":"Раздел2!I112","v":0},{"$f":"Раздел2!J112","v":0},{"$f":"Раздел2!K112","v":0}]
[null,"Перетягивание каната","106",0,0,0,0,0,0,0,0,0,0,0,0,0,0,0,null,null,{"$f":"Раздел2!F113","v":0},{"$f":"Раздел2!F113","v":0},{"$f":"Раздел2!H113","v":0},{"$f":"Раздел2!I113","v":0},{"$f":"Раздел2!J113","v":0},{"$f":"Раздел2!K113","v":0}]
[null,"Петанк","107",0,0,0,0,0,0,0,0,0,0,0,0,0,0,0,null,null,{"$f":"Раздел2!F114","v":0},{"$f":"Раздел2!F114","v":0},{"$f":"Раздел2!H114","v":0},{"$f":"Раздел2!I114","v":0},{"$f":"Раздел2!J114","v":0},{"$f":"Раздел2!K114","v":0}]
[null,"Плавание - всего","108",0,{"$f":"SUM(E116:E117)","v":0},{"$f":"SUM(F116:F117)","v":0},{"$f":"SUM(G116:G117)","v":0},{"$f":"SUM(H116:H117)","v":0},0,{"$f":"SUM(J116:J117)","v":0},{"$f":"SUM(K116:K117)","v":0},{"$f":"SUM(L116:L117)","v":0},{"$f":"SUM(M116:M117)","v":0},0,{"$f":"SUM(O116:O117)","v":0},{"$f":"SUM(P116:P117)","v":0},{"$f":"SUM(Q116:Q117)","v":0},{"$f":"SUM(R116:R117)","v":0},null,null,{"$f":"Раздел2!F115","v":0},{"$f":"Раздел2!F115","v":0},{"$f":"Раздел2!H115","v":0},{"$f":"Раздел2!I115","v":0},{"$f":"Раздел2!J115","v":0},{"$f":"Раздел2!K115","v":0}]
[null,"в том числе:\nПлавание ","109",0,0,0,0,0,0,0,0,0,0,0,0,0,0,0,null,null,{"$f":"Раздел2!F116","v":0},{"$f":"Раздел2!F116","v":0},{"$f":"Раздел2!H116","v":0},{"$f":"Раздел2!I116","v":0},{"$f":"Раздел2!J116","v":0},{"$f":"Раздел2!K116","v":0}]
[null,"Открытая вода","110",0,0,0,0,0,0,0,0,0,0,0,0,0,0,0,null,null,{"$f":"Раздел2!F117","v":0},{"$f":"Раздел2!F117","v":0},{"$f":"Раздел2!H117","v":0},{"$f":"Раздел2!I117","v":0},{"$f":"Раздел2!J117","v":0},{"$f":"Раздел2!K117","v":0}]
[null,"Планерный спорт","111",0,0,0,0,0,0,0,0,0,0,0,0,0,0,0,null,null,{"$f":"Раздел2!F118","v":0},{"$f":"Раздел2!F118","v":0},{"$f":"Раздел2!H118","v":0},{"$f":"Раздел2!I118","v":0},{"$f":"Раздел2!J118","v":0},{"$f":"Раздел2!K118","v":0}]
[null,"Подводный спорт","112",0,0,0,0,0,0,0,0,0,0,0,0,0,0,0,null,null,{"$f":"Раздел2!F119","v":0},{"$f":"Раздел2!F119","v":0},{"$f":"Раздел2!H119","v":0},{"$f":"Раздел2!I119","v":0},{"$f":"Раздел2!J119","v":0},{"$f":"Раздел2!K119","v":0}]
[null,"Пожарно-прикладной спорт","113",0,0,0,0,0,0,0,0,0,0,0,0,0,0,0,null,null,{"$f":"Раздел2!F120","v":0},{"$f":"Раздел2!F120","v":0},{"$f":"Раздел2!H120","v":0},{"$f":"Раздел2!I120","v":0},{"$f":"Раздел2!J120","v":0},{"$f":"Раздел2!K120","v":0}]
[null,"Полиатлон","114",0,0,0,0,0,0,0,0,0,0,0,0,0,0,0,null,null,{"$f":"Раздел2!F121","v":0},{"$f":"Раздел2!F121","v":0},{"$f":"Раздел2!H121","v":0},{"$f":"Раздел2!I121","v":0},{"$f":"Раздел2!J121","v":0},{"$f":"Раздел2!K121","v":0}]
[null,"Практическая стрельба","115",0,0,0,0,0,0,0,0,0,0,0,0,0,0,0,null,null,{"$f":"Раздел2!F122","v":0},{"$f":"Раздел2!F122","v":0},{"$f":"Раздел2!H122","v":0},{"$f":"Раздел2!I122","v":0},{"$f":"Раздел2!J122","v":0},{"$f":"Раздел2!K122","v":0}]
[null,"Прыжки в воду - всего","116",0,{"$f":"SUM(E124:E125)","v":0},{"$f":"SUM(F124:F125)","v":0},{"$f":"SUM(G124:G125)","v":0},{"$f":"SUM(H124:H125)","v":0},0,{"$f":"SUM(J124:J125)","v":0},{"$f":"SUM(K124:K125)","v":0},{"$f":"SUM(L124:L125)","v":0},{"$f":"SUM(M124:M125)","v":0},0,{"$f":"SUM(O124:O125)","v":0},{"$f":"SUM(P124:P125)","v":0},{"$f":"SUM(Q124:Q125)","v":0},{"$f":"SUM(R124:R125)","v":0},null,null,{"$f":"Раздел2!F123","v":0},{"$f":"Раздел2!F123","v":0},{"$f":"Раздел2!H123","v":0},{"$f":"Раздел2!I123","v":0},{"$f":"Раздел2!J123","v":0},{"$f":"Раздел2!K123","v":0}]
[null,"в том числе:\nПрыжки в воду","117",0,0,0,0,0,0,0,0,0,0,0,0,0,0,0,null,null,{"$f":"Раздел2!F124","v":0},{"$f":"Раздел2!F124","v":0},{"$f":"Раздел2!H124","v":0},{"$f":"Раздел2!I124","v":0},{"$f":"Раздел2!J124","v":0},{"$f":"Раздел2!K124","v":0}]
[null,"Прыжки в открытый водоем","118",0,0,0,0,0,0,0,0,0,0,0,0,0,0,0,null,null,{"$f":"Раздел2!F125","v":0},{"$f":"Раздел2!F125","v":0},{"$f":"Раздел2!H125","v":0},{"$f":"Раздел2!I125","v":0},{"$f":"Раздел2!J125","v":0},{"$f":"Раздел2!K125","v":0}]
[null,"Прыжки на батуте - всего","119",0,{"$f":"SUM(E127:E130)","v":0},{"$f":"SUM(F127:F130)","v":0},{"$f":"SUM(G127:G130)","v":0},{"$f":"SUM(H127:H130)","v":0},0,{"$f":"SUM(J127:J130)","v":0},{"$f":"SUM(K127:K130)","v":0},{"$f":"SUM(L127:L130)","v":0},{"$f":"SUM(M127:M130)","v":0},0,{"$f":"SUM(O127:O130)","v":0},{"$f":"SUM(P127:P130)","v":0},{"$f":"SUM(Q127:Q130)","v":0},{"$f":"SUM(R127:R130)","v":0},null,null,{"$f":"Раздел2!F126","v":0},{"$f":"Раздел2!F126","v":0},{"$f":"Раздел2!H126","v":0},{"$f":"Раздел2!I126","v":0},{"$f":"Раздел2!J126","v":0},{"$f":"Раздел2!K126","v":0}]
[null,"в том числе:\nАкробатическая дорожка","120",0,0,0,0,0,0,0,0,0,0,0,0,0,0,0,null,null,{"$f":"Раздел2!F127","v":0},{"$f":"Раздел2!F127","v":0},{"$f":"Раздел2!H127","v":0},{"$f":"Раздел2!I127","v":0},{"$f":"Раздел2!J127","v":0},{"$f":"Раздел2!K127","v":0}]
[null,"Двойной минитрамп","121",0,0,0,0,0,0,0,0,0,0,0,0,0,0,0,null,null,{"$f":"Раздел2!F128","v":0},{"$f":"Раздел2!F128","v":0},{"$f":"Раздел2!H128","v":0},{"$f":"Раздел2!I128","v":0},{"$f":"Раздел2!J128","v":0},{"$f":"Раздел2!K128","v":0}]
[null,"Индивидуальные прыжки","122",0,0,0,0,0,0,0,0,0,0,0,0,0,0,0,null,null,{"$f":"Раздел2!F129","v":0},{"$f":"Раздел2!F129","v":0},{"$f":"Раздел2!H129","v":0},{"$f":"Раздел2!I129","v":0},{"$f":"Раздел2!J129","v":0},{"$f":"Раздел2!K129","v":0}]
[null,"Синхронные прыжки","123",0,0,0,0,0,0,0,0,0,0,0,0,0,0,0,null,null,{"$f":"Раздел2!F130","v":0},{"$f":"Раздел2!F130","v":0},{"$f":"Раздел2!H130","v":0},{"$f":"Раздел2!I130","v":0},{"$f":"Раздел2!J130","v":0},{"$f":"Раздел2!K130","v":0}]
[null,"Прыжки на лыжах с трамплина","124",0,0,0,0,0,0,0,0,0,0,0,0,0,0,0,null,null,{"$f":"Раздел2!F131","v":0},{"$f":"Раздел2!F131","v":0},{"$f":"Раздел2!H131","v":0},{"$f":"Раздел2!I131","v":0},{"$f":"Раздел2!J131","v":0},{"$f":"Раздел2!K131","v":0}]
[null,"Пулевая стрельба - всего","125",0,{"$f":"SUM(E133:E137)","v":0},{"$f":"SUM(F133:F137)","v":0},{"$f":"SUM(G133:G137)","v":0},{"$f":"SUM(H133:H137)","v":0},0,{"$f":"SUM(J133:J137)","v":0},{"$f":"SUM(K133:K137)","v":0},{"$f":"SUM(L133:L137)","v":0},{"$f":"SUM(M133:M137)","v":0},0,{"$f":"SUM(O133:O137)","v":0},{"$f":"SUM(P133:P137)","v":0},{"$f":"SUM(Q133:Q137)","v":0},{"$f":"SUM(R133:R137)","v":0},null,null,{"$f":"Раздел2!F132","v":0},{"$f":"Раздел2!F132","v":0},{"$f":"Раздел2!H132","v":0},{"$f":"Раздел2!I132","v":0},{"$f":"Раздел2!J132","v":0},{"$f":"Раздел2!K132","v":0}]
[null,"в том числе:\nПневматическая винтовка","126",0,0,0,0,0,0,0,0,0,0,0,0,0,0,0,null,null,{"$f":"Раздел2!F133","v":0},{"$f":"Раздел2!F133","v":0},{"$f":"Раздел2!H133","v":0},{"$f":"Раздел2!I133","v":0},{"$f":"Раздел2!J133","v":0},{"$f":"Раздел2!K133","v":0}]
[null,"Пневматический пистолет","127",0,0,0,0,0,0,0,0,0,0,0,0,0,0,0,null,null,{"$f":"Раздел2!F134","v":0},{"$f":"Раздел2!F134","v":0},{"$f":"Раздел2!H134","v":0},{"$f":"Раздел2!I134","v":0},{"$f":"Раздел2!J134","v":0},{"$f":"Раздел2!K134","v":0}]
[null,"Малокалиберная винтовка","128",0,0,0,0,0,0,0,0,0,0,0,0,0,0,0,null,null,{"$f":"Раздел2!F135","v":0},{"$f":"Раздел2!F135","v":0},{"$f":"Раздел2!H135","v":0},{"$f":"Раздел2!I135","v":0},{"$f":"Раздел2!J135","v":0},{"$f":"Раздел2!K135","v":0}]
[null,"Малокалиберный пистолет","129",0,0,0,0,0,0,0,0,0,0,0,0,0,0,0,null,null,{"$f":"Раздел2!F136","v":0},{"$f":"Раздел2!F136","v":0},{"$f":"Раздел2!H136","v":0},{"$f":"Раздел2!I136","v":0},{"$f":"Раздел2!J136","v":0},{"$f":"Раздел2!K136","v":0}]
[null,"Движущаяся мишень","130",{"$f":"SUM(E137:H137)","v":0},0,0,0,0,{"$f":"SUM(J137:M137)","v":0},0,0,0,0,{"$f":"SUM(O137:R137)","v":0},0,0,0,0,null,null,{"$f":"Раздел2!F137","v":0},{"$f":"Раздел2!F137","v":0},{"$f":"Раздел2!H137","v":0},{"$f":"Раздел2!I137","v":0},{"$f":"Раздел2!J137","v":0},{"$f":"Раздел2!K137","v":0}]
[null,"Пэйнтбол","131",0,0,0,0,0,0,0,0,0,0,0,0,0,0,0,null,null,{"$f":"Раздел2!F138","v":0},{"$f":"Раздел2!F138","v":0},{"$f":"Раздел2!H138","v":0},{"$f":"Раздел2!I138","v":0},{"$f":"Раздел2!J138","v":0},{"$f":"Раздел2!K138","v":0}]
[null,"Радиоспорт","132",0,0,0,0,0,0,0,0,0,0,0,0,0,0,0,null,null,{"$f":"Раздел2!F139","v":0},{"$f":"Раздел2!F139","v":0},{"$f":"Раздел2!H139","v":0},{"$f":"Раздел2!I139","v":0},{"$f":"Раздел2!J139","v":0},{"$f":"Раздел2!K139","v":0}]
[null,"Рафтинг","133",0,0,0,0,0,0,0,0,0,0,0,0,0,0,0,null,null,{"$f":"Раздел2!F140","v":0},{"$f":"Раздел2!F140","v":0},{"$f":"Раздел2!H140","v":0},{"$f":"Раздел2!I140","v":0},{"$f":"Раздел2!J140","v":0},{"$f":"Раздел2!K140","v":0}]
[null,"Регби - всего","134",0,{"$f":"SUM(E142:E145)","v":0},{"$f":"SUM(F142:F145)","v":0},{"$f":"SUM(G142:G145)","v":0},{"$f":"SUM(H142:H145)","v":0},0,{"$f":"SUM(J142:J145)","v":0},{"$f":"SUM(K142:K145)","v":0},{"$f":"SUM(L142:L145)","v":0},{"$f":"SUM(M142:M145)","v":0},0,{"$f":"SUM(O142:O145)","v":0},{"$f":"SUM(P142:P145)","v":0},{"$f":"SUM(Q142:Q145)","v":0},{"$f":"SUM(R142:R145)","v":0},null,null,{"$f":"Раздел2!F141","v":0},{"$f":"Раздел2!F141","v":0},{"$f":"Раздел2!H141","v":0},{"$f":"Раздел2!I141","v":0},{"$f":"Раздел2!J141","v":0},{"$f":"Раздел2!K141","v":0}]
[null,"в том числе:\nРегби","135",0,0,0,0,0,0,0,0,0,0,0,0,0,0,0,null,null,{"$f":"Раздел2!F142","v":0},{"$f":"Раздел2!F142","v":0},{"$f":"Раздел2!H142","v":0},{"$f":"Раздел2!I142","v":0},{"$f":"Раздел2!J142","v":0},{"$f":"Раздел2!K142","v":0}]
[null,"Регби 7 (муж.)","136",0,0,0,0,0,0,0,0,0,0,0,0,0,0,0,null,null,{"$f":"Раздел2!F143","v":0},{"$f":"Раздел2!F143","v":0},{"$f":"Раздел2!H143","v":0},{"$f":"Раздел2!I143","v":0},{"$f":"Раздел2!J143","v":0},{"$f":"Раздел2!K143","v":0}]
[null,"Регби 7 (жен.)","137",0,0,0,0,0,0,0,0,0,0,0,0,0,0,0,null,null,{"$f":"Раздел2!F144","v":0},{"$f":"Раздел2!F144","v":0},{"$f":"Раздел2!H144","v":0},{"$f":"Раздел2!I144","v":0},{"$f":"Раздел2!J144","v":0},{"$f":"Раздел2!K144","v":0}]
[null,"Регби - пляжное","138",0,0,0,0,0,0,0,0,0,0,0,0,0,0,0,null,null,{"$f":"Раздел2!F145","v":0},{"$f":"Раздел2!F145","v":0},{"$f":"Раздел2!H145","v":0},{"$f":"Раздел2!I145","v":0},{"$f":"Раздел2!J145","v":0},{"$f":"Раздел2!K145","v":0}]
[null,"Регбол","139",0,0,0,0,0,0,0,0,0,0,0,0,0,0,0,null,null,{"$f":"Раздел2!F146","v":0},{"$f":"Раздел2!F146","v":0},{"$f":"Раздел2!H146","v":0},{"$f":"Раздел2!I146","v":0},{"$f":"Раздел2!J146","v":0},{"$f":"Раздел2!K146","v":0}]
[null,"Роллер спорт","140",0,0,0,0,0,0,0,0,0,0,0,0,0,0,0,null,null,{"$f":"Раздел2!F147","v":0},{"$f":"Раздел2!F147","v":0},{"$f":"Раздел2!H147","v":0},{"$f":"Раздел2!I147","v":0},{"$f":"Раздел2!J147","v":0},{"$f":"Раздел2!K147","v":0}]
[null,"Рукопашный бой","141",0,0,0,0,0,0,0,0,0,0,0,0,0,0,0,null,null,{"$f":"Раздел2!F148","v":0},{"$f":"Раздел2!F148","v":0},{"$f":"Раздел2!H148","v":0},{"$f":"Раздел2!I148","v":0},{"$f":"Раздел2!J148","v":0},{"$f":"Раздел2!K148","v":0}]
[null,"Рыболовный спорт","142",0,0,0,0,0,0,0,0,0,0,0,0,0,0,0,null,null,{"$f":"Раздел2!F149","v":0},{"$f":"Раздел2!F149","v":0},{"$f":"Раздел2!H149","v":0},{"$f":"Раздел2!I149","v":0},{"$f":"Раздел2!J149","v":0},{"$f":"Раздел2!K149","v":0}]
[null,"Сават","143",0,0,0,0,0,0,0,0,0,0,0,0,0,0,0,null,null,{"$f":"Раздел2!F150","v":0},{"$f":"Раздел2!F150","v":0},{"$f":"Раздел2!H150","v":0},{"$f":"Раздел2!I150","v":0},{"$f":"Раздел2!J150","v":0},{"$f":"Раздел2!K150","v":0}]
[null,"Самбо","144",0,0,0,0,0,0,0,0,0,0,0,0,0,0,0,null,null,{"$f":"Раздел2!F151","v":0},{"$f":"Раздел2!F151","v":0},{"$f":"Раздел2!H151","v":0},{"$f":"Раздел2!I151","v":0},{"$f":"Раздел2!J151","v":0},{"$f":"Раздел2!K151","v":0}]
[null,"Самолетный спорт","145",0,0,0,0,0,0,0,0,0,0,0,0,0,0,0,null,null,{"$f":"Раздел2!F152","v":0},{"$f":"Раздел2!F152","v":0},{"$f":"Раздел2!H152","v":0},{"$f":"Раздел2!I152","v":0},{"$f":"Раздел2!J152","v":0},{"$f":"Раздел2!K152","v":0}]
[null,"Санный спорт","146",0,0,0,0,0,0,0,0,0,0,0,0,0,0,0,null,null,{"$f":"Раздел2!F153","v":0},{"$f":"Раздел2!F153","v":0},{"$f":"Раздел2!H153","v":0},{"$f":"Раздел2!I153","v":0},{"$f":"Раздел2!J153","v":0},{"$f":"Раздел2!K153","v":0}]
[null,"Северное многоборье","147",0,0,0,0,0,0,0,0,0,0,0,0,0,0,0,null,null,{"$f":"Раздел2!F154","v":0},{"$f":"Раздел2!F154","v":0},{"$f":"Раздел2!H154","v":0},{"$f":"Раздел2!I154","v":0},{"$f":"Раздел2!J154","v":0},{"$f":"Раздел2!K154","v":0}]
[null,"Серфинг","148",0,0,0,0,0,0,0,0,0,0,0,0,0,0,0,null,null,{"$f":"Раздел2!F155","v":0},{"$f":"Раздел2!F155","v":0},{"$f":"Раздел2!H155","v":0},{"$f":"Раздел2!I155","v":0},{"$f":"Раздел2!J155","v":0},{"$f":"Раздел2!K155","v":0}]
[null,"Синхронное плавание","149",0,0,0,0,0,0,0,0,0,0,0,0,0,0,0,null,null,{"$f":"Раздел2!F156","v":0},{"$f":"Раздел2!F156","v":0},{"$f":"Раздел2!H156","v":0},{"$f":"Раздел2!I156","v":0},{"$f":"Раздел2!J156","v":0},{"$f":"Раздел2!K156","v":0}]
[null,"Скалолазание","150",0,0,0,0,0,0,0,0,0,0,0,0,0,0,0,null,null,{"$f":"Раздел2!F157","v":0},{"$f":"Раздел2!F157","v":0},{"$f":"Раздел2!H157","v":0},{"$f":"Раздел2!I157","v":0},{"$f":"Раздел2!J157","v":0},{"$f":"Раздел2!K157","v":0}]
[null,"Скейтбординг","151",0,0,0,0,0,0,0,0,0,0,0,0,0,0,0,null,null,{"$f":"Раздел2!F158","v":0},{"$f":"Раздел2!F158","v":0},{"$f":"Раздел2!H158","v":0},{"$f":"Раздел2!I158","v":0},{"$f":"Раздел2!J158","v":0},{"$f":"Раздел2!K158","v":0}]
[null,"Сквош","152",0,0,0,0,0,0,0,0,0,0,0,0,0,0,0,null,null,{"$f":"Раздел2!F159","v":0},{"$f":"Раздел2!F159","v":0},{"$f":"Раздел2!H159","v":0},{"$f":"Раздел2!I159","v":0},{"$f":"Раздел2!J159","v":0},{"$f":"Раздел2!K159","v":0}]
[null,"Служебно-прикладной спорт ФСО России","153",0,0,0,0,0,0,0,0,0,0,0,0,0,0,0,null,null,{"$f":"Раздел2!F160","v":0},{"$f":"Раздел2!F160","v":0},{"$f":"Раздел2!H160","v":0},{"$f":"Раздел2!I160","v":0},{"$f":"Раздел2!J160","v":0},{"$f":"Раздел2!K160","v":0}]
[null,"Служебно-прикладной спорт ГФС России","154",0,0,0,0,0,0,0,0,0,0,0,0,0,0,0,null,null,{"$f":"Раздел2!F161","v":0},{"$f":"Раздел2!F161","v":0},{"$f":"Раздел2!H161","v":0},{"$f":"Раздел2!I161","v":0},{"$f":"Раздел2!J161","v":0},{"$f":"Раздел2!K161","v":0}]
[null,"Служебно-прикладной спорт ФСКН России","155",0,0,0,0,0,0,0,0,0,0,0,0,0,0,0,null,null,{"$f":"Раздел2!F162","v":0},{"$f":"Раздел2!F162","v":0},{"$f":"Раздел2!H162","v":0},{"$f":"Раздел2!I162","v":0},{"$f":"Раздел2!J162","v":0},{"$f":"Раздел2!K162","v":0}]
[null,"Служебно-прикладной спорт ФТС России","156",0,0,0,0,0,0,0,0,0,0,0,0,0,0,0,null,null,{"$f":"Раздел2!F163","v":0},{"$f":"Раздел2!F163","v":0},{"$f":"Раздел2!H163","v":0},{"$f":"Раздел2!I163","v":0},{"$f":"Раздел2!J163","v":0},{"$f":"Раздел2!K163","v":0}]
[null,"Служебное двоеборье","157",0,0,0,0,0,0,0,0,0,0,0,0,0,0,0,null,null,{"$f":"Раздел2!F164","v":0},{"$f":"Раздел2!F164","v":0},{"$f":"Раздел2!H164","v":0},{"$f":"Раздел2!I164","v":0},{"$f":"Раздел2!J164","v":0},{"$f":"Раздел2!K164","v":0}]
[null,"Служебное единоборство","158",0,0,0,0,0,0,0,0,0,0,0,0,0,0,0,null,null,{"$f":"Раздел2!F165","v":0},{"$f":"Раздел2!F165","v":0},{"$f":"Раздел2!H165","v":0},{"$f":"Раздел2!I165","v":0},{"$f":"Раздел2!J165","v":0},{"$f":"Раздел2!K165","v":0}]
[null,"Служебное многоборье","159",0,0,0,0,0,0,0,0,0,0,0,0,0,0,0,null,null,{"$f":"Раздел2!F166","v":0},{"$f":"Раздел2!F166","v":0},{"$f":"Раздел2!H166","v":0},{"$f":"Раздел2!I166","v":0},{"$f":"Раздел2!J166","v":0},{"$f":"Раздел2!K166","v":0}]
[null,"Служебное собаководство","160",0,0,0,0,0,0,0,0,0,0,0,0,0,0,0,null,null,{"$f":"Раздел2!F167","v":0},{"$f":"Раздел2!F167","v":0},{"$f":"Раздел2!H167","v":0},{"$f":"Раздел2!I167","v":0},{"$f":"Раздел2!J167","v":0},{"$f":"Раздел2!K167","v":0}]
[null,"Служебный биатлон","161",0,0,0,0,0,0,0,0,0,0,0,0,0,0,0,null,null,{"$f":"Раздел2!F168","v":0},{"$f":"Раздел2!F168","v":0},{"$f":"Раздел2!H168","v":0},{"$f":"Раздел2!I168","v":0},{"$f":"Раздел2!J168","v":0},{"$f":"Раздел2!K168","v":0}]
[null,"Спасательный спорт","162",0,0,0,0,0,0,0,0,0,0,0,0,0,0,0,null,null,{"$f":"Раздел2!F169","v":0},{"$f":"Раздел2!F169","v":0},{"$f":"Раздел2!H169","v":0},{"$f":"Раздел2!I169","v":0},{"$f":"Раздел2!J169","v":0},{"$f":"Раздел2!K169","v":0}]
[null,"Стрельба из боевого ручного стрелкового оружия","163",0,0,0,0,0,0,0,0,0,0,0,0,0,0,0,null,null,{"$f":"Раздел2!F170","v":0},{"$f":"Раздел2!F170","v":0},{"$f":"Раздел2!H170","v":0},{"$f":"Раздел2!I170","v":0},{"$f":"Раздел2!J170","v":0},{"$f":"Раздел2!K170","v":0}]
[null,"Стрельба из штатного или табельного оружия","164",0,0,0,0,0,0,0,0,0,0,0,0,0,0,0,null,null,{"$f":"Раздел2!F171","v":0},{"$f":"Раздел2!F171","v":0},{"$f":"Раздел2!H171","v":0},{"$f":"Раздел2!I171","v":0},{"$f":"Раздел2!J171","v":0},{"$f":"Раздел2!K171","v":0}]
[null,"Смешанное боевое единоборство (ММА)","165",0,0,0,0,0,0,0,0,0,0,0,0,0,0,0,null,null,{"$f":"Раздел2!F172","v":0},{"$f":"Раздел2!F172","v":0},{"$f":"Раздел2!H172","v":0},{"$f":"Раздел2!I172","v":0},{"$f":"Раздел2!J172","v":0},{"$f":"Раздел2!K172","v":0}]
[null,"Сноуборд","166",0,0,0,0,0,0,0,0,0,0,0,0,0,0,0,null,null,{"$f":"Раздел2!F173","v":0},{"$f":"Раздел2!F173","v":0},{"$f":"Раздел2!H173","v":0},{"$f":"Раздел2!I173","v":0},{"$f":"Раздел2!J173","v":0},{"$f":"Раздел2!K173","v":0}]
[null,"Современное пятиборье","167",0,0,0,0,0,0,0,0,0,0,0,0,0,0,0,null,null,{"$f":"Раздел2!F174","v":0},{"$f":"Раздел2!F174","v":0},{"$f":"Раздел2!H174","v":0},{"$f":"Раздел2!I174","v":0},{"$f":"Раздел2!J174","v":0},{"$f":"Раздел2!K174","v":0}]
[null,"Софтбол","168",0,0,0,0,0,0,0,0,0,0,0,0,0,0,0,null,null,{"$f":"Раздел2!F175","v":0},{"$f":"Раздел2!F175","v":0},{"$f":"Раздел2!H175","v":0},{"$f":"Раздел2!I175","v":0},{"$f":"Раздел2!J175","v":0},{"$f":"Раздел2!K175","v":0}]
[null,"Спорт сверхлегкой авиации","169",0,0,0,0,0,0,0,0,0,0,0,0,0,0,0,null,null,{"$f":"Раздел2!F176","v":0},{"$f":"Раздел2!F176","v":0},{"$f":"Раздел2!H176","v":0},{"$f":"Раздел2!I176","v":0},{"$f":"Раздел2!J176","v":0},{"$f":"Раздел2!K176","v":0}]
[null,"Спортивная акробатика","170",0,0,0,0,0,0,0,0,0,0,0,0,0,0,0,null,null,{"$f":"Раздел2!F177","v":0},{"$f":"Раздел2!F177","v":0},{"$f":"Раздел2!H177","v":0},{"$f":"Раздел2!I177","v":0},{"$f":"Раздел2!J177","v":0},{"$f":"Раздел2!K177","v":0}]
[null,"Спортивная аэробика","171",0,0,0,0,0,0,0,0,0,0,0,0,0,0,0,null,null,{"$f":"Раздел2!F178","v":297},{"$f":"Раздел2!F178","v":297},{"$f":"Раздел2!H178","v":28},{"$f":"Раздел2!I178","v":11},{"$f":"Раздел2!J178","v":0},{"$f":"Раздел2!K178","v":0}]
[null,"Спортивная борьба - всего","172",0,{"$f":"SUM(E180:E184)","v":0},{"$f":"SUM(F180:F184)","v":0},{"$f":"SUM(G180:G184)","v":0},{"$f":"SUM(H180:H184)","v":0},0,{"$f":"SUM(J180:J184)","v":0},{"$f":"SUM(K180:K184)","v":0},{"$f":"SUM(L180:L184)","v":0},{"$f":"SUM(M180:M184)","v":0},0,{"$f":"SUM(O180:O184)","v":0},{"$f":"SUM(P180:P184)","v":0},{"$f":"SUM(Q180:Q184)","v":0},{"$f":"SUM(R180:R184)","v":0},null,null,{"$f":"Раздел2!F179","v":0},{"$f":"Раздел2!F179","v":0},{"$f":"Раздел2!H179","v":0},{"$f":"Раздел2!I179","v":0},{"$f":"Раздел2!J179","v":0},{"$f":"Раздел2!K179","v":0}]
[null,"в том числе:\nВольная борьба","173",0,0,0,0,0,0,0,0,0,0,0,0,0,0,0,null,null,{"$f":"Раздел2!F180","v":0},{"$f":"Раздел2!F180","v":0},{"$f":"Раздел2!H180","v":0},{"$f":"Раздел2!I180","v":0},{"$f":"Раздел2!J180","v":0},{"$f":"Раздел2!K180","v":0}]
[null,"Греко-римская борьба","174",0,0,0,0,0,0,0,0,0,0,0,0,0,0,0,null,null,{"$f":"Раздел2!F181","v":0},{"$f":"Раздел2!F181","v":0},{"$f":"Раздел2!H181","v":0},{"$f":"Раздел2!I181","v":0},{"$f":"Раздел2!J181","v":0},{"$f":"Раздел2!K181","v":0}]
[null,"Грэпплинг","175",0,0,0,0,0,0,0,0,0,0,0,0,0,0,0,null,null,{"$f":"Раздел2!F182","v":0},{"$f":"Раздел2!F182","v":0},{"$f":"Раздел2!H182","v":0},{"$f":"Раздел2!I182","v":0},{"$f":"Раздел2!J182","v":0},{"$f":"Раздел2!K182","v":0}]
[null,"Грэпплинг-ги","176",0,0,0,0,0,0,0,0,0,0,0,0,0,0,0,null,null,{"$f":"Раздел2!F183","v":0},{"$f":"Раздел2!F183","v":0},{"$f":"Раздел2!H183","v":0},{"$f":"Раздел2!I183","v":0},{"$f":"Раздел2!J183","v":0},{"$f":"Раздел2!K183","v":0}]
[null,"Панкратион","177",0,0,0,0,0,0,0,0,0,0,0,0,0,0,0,null,null,{"$f":"Раздел2!F184","v":0},{"$f":"Раздел2!F184","v":0},{"$f":"Раздел2!H184","v":0},{"$f":"Раздел2!I184","v":0},{"$f":"Раздел2!J184","v":0},{"$f":"Раздел2!K184","v":0}]
[null,"Спортивно-прикладное собаководство","178",0,0,0,0,0,0,0,0,0,0,0,0,0,0,0,null,null,{"$f":"Раздел2!F185","v":0},{"$f":"Раздел2!F185","v":0},{"$f":"Раздел2!H185","v":0},{"$f":"Раздел2!I185","v":0},{"$f":"Раздел2!J185","v":0},{"$f":"Раздел2!K185","v":0}]
[null,"Спортивная гимнастика","179",0,0,0,0,0,0,0,0,0,0,0,0,0,0,0,null,null,{"$f":"Раздел2!F186","v":0},{"$f":"Раздел2!F186","v":0},{"$f":"Раздел2!H186","v":0},{"$f":"Раздел2!I186","v":0},{"$f":"Раздел2!J186","v":0},{"$f":"Раздел2!K186","v":0}]
[null,"Спортивное ориентирование","180",0,0,0,0,0,0,0,0,0,0,0,0,0,0,0,null,null,{"$f":"Раздел2!F187","v":0},{"$f":"Раздел2!F187","v":0},{"$f":"Раздел2!H187","v":0},{"$f":"Раздел2!I187","v":0},{"$f":"Раздел2!J187","v":0},{"$f":"Раздел2!K187","v":0}]
[null,"Спортивный бридж","181",0,0,0,0,0,0,0,0,0,0,0,0,0,0,0,null,null,{"$f":"Раздел2!F188","v":0},{"$f":"Раздел2!F188","v":0},{"$f":"Раздел2!H188","v":0},{"$f":"Раздел2!I188","v":0},{"$f":"Раздел2!J188","v":0},{"$f":"Раздел2!K188","v":0}]
[null,"Спортивный туризм","182",0,0,0,0,0,0,0,0,0,0,0,0,0,0,0,null,null,{"$f":"Раздел2!F189","v":0},{"$f":"Раздел2!F189","v":0},{"$f":"Раздел2!H189","v":0},{"$f":"Раздел2!I189","v":0},{"$f":"Раздел2!J189","v":0},{"$f":"Раздел2!K189","v":0}]
[null,"Стендовая стрельба - всего","183",0,{"$f":"SUM(E191:E194)","v":0},{"$f":"SUM(F191:F194)","v":0},{"$f":"SUM(G191:G194)","v":0},{"$f":"SUM(H191:H194)","v":0},0,{"$f":"SUM(J191:J194)","v":0},{"$f":"SUM(K191:K194)","v":0},{"$f":"SUM(L191:L194)","v":0},{"$f":"SUM(M191:M194)","v":0},0,{"$f":"SUM(O191:O194)","v":0},{"$f":"SUM(P191:P194)","v":0},{"$f":"SUM(Q191:Q194)","v":0},{"$f":"SUM(R191:R194)","v":0},null,null,{"$f":"Раздел2!F190","v":0},{"$f":"Раздел2!F190","v":0},{"$f":"Раздел2!H190","v":0},{"$f":"Раздел2!I190","v":0},{"$f":"Раздел2!J190","v":0},{"$f":"Раздел2!K190","v":0}]
[null,"в том числе:\nТрап","184",0,0,0,0,0,0,0,0,0,0,0,0,0,0,0,null,null,{"$f":"Раздел2!F191","v":0},{"$f":"Раздел2!F191","v":0},{"$f":"Раздел2!H191","v":0},{"$f":"Раздел2!I191","v":0},{"$f":"Раздел2!J191","v":0},{"$f":"Раздел2!K191","v":0}]
[null,"Скит","185",0,0,0,0,0,0,0,0,0,0,0,0,0,0,0,null,null,{"$f":"Раздел2!F192","v":0},{"$f":"Раздел2!F192","v":0},{"$f":"Раздел2!H192","v":0},{"$f":"Раздел2!I192","v":0},{"$f":"Раздел2!J192","v":0},{"$f":"Раздел2!K192","v":0}]
[null,"Дубль-трап","186",0,0,0,0,0,0,0,0,0,0,0,0,0,0,0,null,null,{"$f":"Раздел2!F193","v":0},{"$f":"Раздел2!F193","v":0},{"$f":"Раздел2!H193","v":0},{"$f":"Раздел2!I193","v":0},{"$f":"Раздел2!J193","v":0},{"$f":"Раздел2!K193","v":0}]
[null,"Спортинг","187",0,0,0,0,0,0,0,0,0,0,0,0,0,0,0,null,null,{"$f":"Раздел2!F194","v":0},{"$f":"Раздел2!F194","v":0},{"$f":"Раздел2!H194","v":0},{"$f":"Раздел2!I194","v":0},{"$f":"Раздел2!J194","v":0},{"$f":"Раздел2!K194","v":0}]
[null,"Стрельба из арбалета","188",0,0,0,0,0,0,0,0,0,0,0,0,0,0,0,null,null,{"$f":"Раздел2!F195","v":0},{"$f":"Раздел2!F195","v":0},{"$f":"Раздел2!H195","v":0},{"$f":"Раздел2!I195","v":0},{"$f":"Раздел2!J195","v":0},{"$f":"Раздел2!K195","v":0}]
[null,"Стрельба из лука - всего","189",0,{"$f":"SUM(E197:E199)","v":0},{"$f":"SUM(F197:F199)","v":0},{"$f":"SUM(G197:G199)","v":0},{"$f":"SUM(H197:H199)","v":0},0,{"$f":"SUM(J197:J199)","v":0},{"$f":"SUM(K197:K199)","v":0},{"$f":"SUM(L197:L199)","v":0},{"$f":"SUM(M197:M199)","v":0},0,{"$f":"SUM(O197:O199)","v":0},{"$f":"SUM(P197:P199)","v":0},{"$f":"SUM(Q197:Q199)","v":0},{"$f":"SUM(R197:R199)","v":0},null,null,{"$f":"Раздел2!F196","v":0},{"$f":"Раздел2!F196","v":0},{"$f":"Раздел2!H196","v":0},{"$f":"Раздел2!I196","v":0},{"$f":"Раздел2!J196","v":0},{"$f":"Раздел2!K196","v":0}]
[null,"в том числе:\nКлассический лук","190",0,0,0,0,0,0,0,0,0,0,0,0,0,0,0,null,null,{"$f":"Раздел2!F197","v":0},{"$f":"Раздел2!F197","v":0},{"$f":"Раздел2!H197","v":0},{"$f":"Раздел2!I197","v":0},{"$f":"Раздел2!J197","v":0},{"$f":"Раздел2!K197","v":0}]
[null,"   Блочный лук","191",0,0,0,0,0,0,0,0,0,0,0,0,0,0,0,null,null,{"$f":"Раздел2!F198","v":0},{"$f":"Раздел2!F198","v":0},{"$f":"Раздел2!H198","v":0},{"$f":"Раздел2!I198","v":0},{"$f":"Раздел2!J198","v":0},{"$f":"Раздел2!K198","v":0}]
[null,"   Ачери ","192",0,0,0,0,0,0,0,0,0,0,0,0,0,0,0,null,null,{"$f":"Раздел2!F199","v":0},{"$f":"Раздел2!F199","v":0},{"$f":"Раздел2!H199","v":0},{"$f":"Раздел2!I199","v":0},{"$f":"Раздел2!J199","v":0},{"$f":"Раздел2!K199","v":0}]
[null,"Судомодельный спорт","193",0,0,0,0,0,0,0,0,0,0,0,0,0,0,0,null,null,{"$f":"Раздел2!F200","v":0},{"$f":"Раздел2!F200","v":0},{"$f":"Раздел2!H200","v":0},{"$f":"Раздел2!I200","v":0},{"$f":"Раздел2!J200","v":0},{"$f":"Раздел2!K200","v":0}]
[null,"Сумо","194",{"$f":"SUM(E201:H201)","v":0},0,0,0,0,{"$f":"SUM(J201:M201)","v":0},0,0,0,0,{"$f":"SUM(O201:R201)","v":0},0,0,0,0,null,null,{"$f":"Раздел2!F201","v":0},{"$f":"Раздел2!F201","v":0},{"$f":"Раздел2!H201","v":0},{"$f":"Раздел2!I201","v":0},{"$f":"Раздел2!J201","v":0},{"$f":"Раздел2!K201","v":0}]
[null,"Тайский бокс","195",0,0,0,0,0,0,0,0,0,0,0,0,0,0,0,null,null,{"$f":"Раздел2!F202","v":0},{"$f":"Раздел2!F202","v":0},{"$f":"Раздел2!H202","v":0},{"$f":"Раздел2!I202","v":0},{"$f":"Раздел2!J202","v":0},{"$f":"Раздел2!K202","v":0}]
[null,"Танцевальный спорт","196",0,0,0,0,0,0,0,0,0,0,0,0,0,0,0,null,null,{"$f":"Раздел2!F203","v":0},{"$f":"Раздел2!F203","v":0},{"$f":"Раздел2!H203","v":0},{"$f":"Раздел2!I203","v":0},{"$f":"Раздел2!J203","v":0},{"$f":"Раздел2!K203","v":0}]
[null,"Теннис","197",0,0,0,0,0,0,0,0,0,0,0,0,0,0,0,null,null,{"$f":"Раздел2!F204","v":0},{"$f":"Раздел2!F204","v":0},{"$f":"Раздел2!H204","v":0},{"$f":"Раздел2!I204","v":0},{"$f":"Раздел2!J204","v":0},{"$f":"Раздел2!K204","v":0}]
[null,"Триатлон","198",0,0,0,0,0,0,0,0,0,0,0,0,0,0,0,null,null,{"$f":"Раздел2!F205","v":0},{"$f":"Раздел2!F205","v":0},{"$f":"Раздел2!H205","v":0},{"$f":"Раздел2!I205","v":0},{"$f":"Раздел2!J205","v":0},{"$f":"Раздел2!K205","v":0}]
[null,"Тхэквондо - всего","199",0,{"$f":"SUM(E207:E208)","v":0},{"$f":"SUM(F207:F208)","v":0},{"$f":"SUM(G207:G208)","v":0},{"$f":"SUM(H207:H208)","v":0},0,{"$f":"SUM(J207:J208)","v":0},{"$f":"SUM(K207:K208)","v":0},{"$f":"SUM(L207:L208)","v":0},{"$f":"SUM(M207:M208)","v":0},0,{"$f":"SUM(O207:O208)","v":0},{"$f":"SUM(P207:P208)","v":0},{"$f":"SUM(Q207:Q208)","v":0},{"$f":"SUM(R207:R208)","v":0},null,null,{"$f":"Раздел2!F206","v":0},{"$f":"Раздел2!F206","v":0},{"$f":"Раздел2!H206","v":0},{"$f":"Раздел2!I206","v":0},{"$f":"Раздел2!J206","v":0},{"$f":"Раздел2!K206","v":0}]
[null,"в том числе:\nТхэквондо (ГТФ, ИТФ, МФТ)","200",0,0,0,0,0,0,0,0,0,0,0,0,0,0,0,null,null,{"$f":"Раздел2!F207","v":0},{"$f":"Раздел2!F207","v":0},{"$f":"Раздел2!H207","v":0},{"$f":"Раздел2!I207","v":0},{"$f":"Раздел2!J207","v":0},{"$f":"Раздел2!K207","v":0},null,null,null,"Частично перешли",{"$f":"SUM(Раздел2!H215:K215)","v":0}]
[null,"Тхэквондо (ВТФ)","201",0,0,0,0,0,0,0,0,0,0,0,0,0,0,0,null,null,{"$f":"Раздел2!F208","v":0},{"$f":"Раздел2!F208","v":0},{"$f":"Раздел2!H208","v":0},{"$f":"Раздел2!I208","v":0},{"$f":"Раздел2!J208","v":0},{"$f":"Раздел2!K208","v":0},null,null,null,{"$f":"Раздел1!G18","v":0}]
[null,"Тяжелая атлетика","202",0,0,0,0,0,0,0,0,0,0,0,0,0,0,0,null,null,{"$f":"Раздел2!F209","v":0},{"$f":"Раздел2!F209","v":0},{"$f":"Раздел2!H209","v":0},{"$f":"Раздел2!I209","v":0},{"$f":"Раздел2!J209","v":0},{"$f":"Раздел2!K209","v":0},null,null,null,"Полностью перешли"]
[null,"Универсальный бой","203",0,0,0,0,0,0,0,0,0,0,0,0,0,0,0,null,null,{"$f":"Раздел2!F210","v":0},{"$f":"Раздел2!F210","v":0},{"$f":"Раздел2!H210","v":0},{"$f":"Раздел2!I210","v":0},{"$f":"Раздел2!J210","v":0},{"$f":"Раздел2!K210","v":0},null,null,null,{"$f":"Раздел1!J18","v":0}]
[null,"Ушу","204",0,0,0,0,0,0,0,0,0,0,0,0,0,0,0,null,null,{"$f":"Раздел2!F211","v":0},{"$f":"Раздел2!F211","v":0},{"$f":"Раздел2!H211","v":0},{"$f":"Раздел2!I211","v":0},{"$f":"Раздел2!J211","v":0},{"$f":"Раздел2!K211","v":0}]
[null,"Фехтование - всего","205",0,{"$f":"SUM(E213:E216)","v":0},{"$f":"SUM(F213:F216)","v":0},{"$f":"SUM(G213:G216)","v":0},{"$f":"SUM(H213:H216)","v":0},0,{"$f":"SUM(J213:J216)","v":0},{"$f":"SUM(K213:K216)","v":0},{"$f":"SUM(L213:L216)","v":0},{"$f":"SUM(M213:M216)","v":0},0,{"$f":"SUM(O213:O216)","v":0},{"$f":"SUM(P213:P216)","v":0},{"$f":"SUM(Q213:Q216)","v":0},{"$f":"SUM(R213:R216)","v":0},null,null,{"$f":"Раздел2!F212","v":0},{"$f":"Раздел2!F212","v":0},{"$f":"Раздел2!H212","v":0},{"$f":"Раздел2!I212","v":0},{"$f":"Раздел2!J212","v":0},{"$f":"Раздел2!K212","v":0}]
[null,"в том числе:\nРапира","206",0,0,0,0,0,0,0,0,0,0,0,0,0,0,0,null,null,{"$f":"Раздел2!F213","v":0},{"$f":"Раздел2!F213","v":0},{"$f":"Раздел2!H213","v":0},{"$f":"Раздел2!I213","v":0},{"$f":"Раздел2!J213","v":0},{"$f":"Раздел2!K213","v":0}]
[null,"Сабля","207",0,0,0,0,0,0,0,0,0,0,0,0,0,0,0,null,null,{"$f":"Раздел2!F214","v":0},{"$f":"Раздел2!F214","v":0},{"$f":"Раздел2!H214","v":0},{"$f":"Раздел2!I214","v":0},{"$f":"Раздел2!J214","v":0},{"$f":"Раздел2!K214","v":0}]
[null,"Шпага","208",0,0,0,0,0,0,0,0,0,0,0,0,0,0,0,null,null,{"$f":"Раздел2!F215","v":0},{"$f":"Раздел2!F215","v":0},{"$f":"Раздел2!H215","v":0},{"$f":"Раздел2!I215","v":0},{"$f":"Раздел2!J215","v":0},{"$f":"Раздел2!K215","v":0}]
[null,"Арт-фехтование","209",0,0,0,0,0,0,0,0,0,0,0,0,0,0,0,null,null,{"$f":"Раздел2!F216","v":0},{"$f":"Раздел2!F216","v":0},{"$f":"Раздел2!H216","v":0},{"$f":"Раздел2!I216","v":0},{"$f":"Раздел2!J216","v":0},{"$f":"Раздел2!K216","v":0}]
[null,"Фигурное катание на коньках","210",0,0,0,0,0,0,0,0,0,0,0,0,0,0,0,null,null,{"$f":"Раздел2!F217","v":0},{"$f":"Раздел2!F217","v":0},{"$f":"Раздел2!H217","v":0},{"$f":"Раздел2!I217","v":0},{"$f":"Раздел2!J217","v":0},{"$f":"Раздел2!K217","v":0}]
[null,"Фитнес-аэробика","211",0,0,0,0,0,0,0,0,0,0,0,0,0,0,0,null,null,{"$f":"Раздел2!F218","v":0},{"$f":"Раздел2!F218","v":0},{"$f":"Раздел2!H218","v":0},{"$f":"Раздел2!I218","v":0},{"$f":"Раздел2!J218","v":0},{"$f":"Раздел2!K218","v":0}]
[null,"Флаинг диск","212",0,0,0,0,0,0,0,0,0,0,0,0,0,0,0,null,null,{"$f":"Раздел2!F219","v":0},{"$f":"Раздел2!F219","v":0},{"$f":"Раздел2!H219","v":0},{"$f":"Раздел2!I219","v":0},{"$f":"Раздел2!J219","v":0},{"$f":"Раздел2!K219","v":0}]
[null,"Флорбол","213",0,0,0,0,0,0,0,0,0,0,0,0,0,0,0,null,null,{"$f":"Раздел2!F220","v":0},{"$f":"Раздел2!F220","v":0},{"$f":"Раздел2!H220","v":0},{"$f":"Раздел2!I220","v":0},{"$f":"Раздел2!J220","v":0},{"$f":"Раздел2!K220","v":0}]
[null,"Фристайл - всего","214",0,{"$f":"SUM(E222:E226)","v":0},{"$f":"SUM(F222:F226)","v":0},{"$f":"SUM(G222:G226)","v":0},{"$f":"SUM(H222:H226)","v":0},0,{"$f":"SUM(J222:J226)","v":0},{"$f":"SUM(K222:K226)","v":0},{"$f":"SUM(L222:L226)","v":0},{"$f":"SUM(M222:M226)","v":0},0,{"$f":"SUM(O222:O226)","v":0},{"$f":"SUM(P222:P226)","v":0},{"$f":"SUM(Q222:Q226)","v":0},{"$f":"SUM(R222:R226)","v":0},null,null,{"$f":"Раздел2!F221","v":0},{"$f":"Раздел2!F221","v":0},{"$f":"Раздел2!H221","v":0},{"$f":"Раздел2!I221","v":0},{"$f":"Раздел2!J221","v":0},{"$f":"Раздел2!K221","v":0}]
[null,"в том числе:\nАкробатика","215",0,0,0,0,0,0,0,0,0,0,0,0,0,0,0,null,null,{"$f":"Раздел2!F222","v":0},{"$f":"Раздел2!F222","v":0},{"$f":"Раздел2!H222","v":0},{"$f":"Раздел2!I222","v":0},{"$f":"Раздел2!J222","v":0},{"$f":"Раздел2!K222","v":0}]
[null,"Могул","216",0,0,0,0,0,0,0,0,0,0,0,0,0,0,0,null,null,{"$f":"Раздел2!F223","v":0},{"$f":"Раздел2!F223","v":0},{"$f":"Раздел2!H223","v":0},{"$f":"Раздел2!I223","v":0},{"$f":"Раздел2!J223","v":0},{"$f":"Раздел2!K223","v":0}]
[null,"Ски-кросс","217",0,0,0,0,0,0,0,0,0,0,0,0,0,0,0,null,null,{"$f":"Раздел2!F224","v":0},{"$f":"Раздел2!F224","v":0},{"$f":"Раздел2!H224","v":0},{"$f":"Раздел2!I224","v":0},{"$f":"Раздел2!J224","v":0},{"$f":"Раздел2!K224","v":0}]
[null,"Хаф-пайп","218",0,0,0,0,0,0,0,0,0,0,0,0,0,0,0,null,null,{"$f":"Раздел2!F225","v":0},{"$f":"Раздел2!F225","v":0},{"$f":"Раздел2!H225","v":0},{"$f":"Раздел2!I225","v":0},{"$f":"Раздел2!J225","v":0},{"$f":"Раздел2!K225","v":0}]
[null,"Слоуп-стайл","219",0,0,0,0,0,0,0,0,0,0,0,0,0,0,0,null,null,{"$f":"Раздел2!F226","v":0},{"$f":"Раздел2!F226","v":0},{"$f":"Раздел2!H226","v":0},{"$f":"Раздел2!I226","v":0},{"$f":"Раздел2!J226","v":0},{"$f":"Раздел2!K226","v":0}]
[null,"Футбол - всего","220",0,{"$f":"SUM(E228:E231)","v":0},{"$f":"SUM(F228:F231)","v":0},{"$f":"SUM(G228:G231)","v":0},{"$f":"SUM(H228:H231)","v":0},0,{"$f":"SUM(J228:J231)","v":0},{"$f":"SUM(K228:K231)","v":0},{"$f":"SUM(L228:L231)","v":0},{"$f":"SUM(M228:M231)","v":0},0,{"$f":"SUM(O228:O231)","v":0},{"$f":"SUM(P228:P231)","v":0},{"$f":"SUM(Q228:Q231)","v":0},{"$f":"SUM(R228:R231)","v":0},null,null,{"$f":"Раздел2!F227","v":123},{"$f":"Раздел2!F227","v":123},{"$f":"Раздел2!H227","v":0},{"$f":"Раздел2!I227","v":0},{"$f":"Раздел2!J227","v":0},{"$f":"Раздел2!K227","v":0}]
[null,"в том числе:\nФутбол (муж.)","221",0,0,0,0,0,0,0,0,0,0,0,0,0,0,0,null,null,{"$f":"Раздел2!F228","v":115},{"$f":"Раздел2!F228","v":115},{"$f":"Раздел2!H228","v":0},{"$f":"Раздел2!I228","v":0},{"$f":"Раздел2!J228","v":0},{"$f":"Раздел2!K228","v":0}]
[null,"Футбол (жен.)","222",0,0,0,0,0,0,0,0,0,0,0,0,0,0,0,null,null,{"$f":"Раздел2!F229","v":8},{"$f":"Раздел2!F229","v":8},{"$f":"Раздел2!H229","v":0},{"$f":"Раздел2!I229","v":0},{"$f":"Раздел2!J229","v":0},{"$f":"Раздел2!K229","v":0}]
[null,"Мини-футбол (футзал)","223",0,0,0,0,0,0,0,0,0,0,0,0,0,0,0,null,null,{"$f":"Раздел2!F230","v":0},{"$f":"Раздел2!F230","v":0},{"$f":"Раздел2!H230","v":0},{"$f":"Раздел2!I230","v":0},{"$f":"Раздел2!J230","v":0},{"$f":"Раздел2!K230","v":0}]
[null,"Пляжный футбол","224",0,0,0,0,0,0,0,0,0,0,0,0,0,0,0,null,null,{"$f":"Раздел2!F231","v":0},{"$f":"Раздел2!F231","v":0},{"$f":"Раздел2!H231","v":0},{"$f":"Раздел2!I231","v":0},{"$f":"Раздел2!J231","v":0},{"$f":"Раздел2!K231","v":0}]
[null,"Хапсагай","225",0,0,0,0,0,0,0,0,0,0,0,0,0,0,0,null,null,{"$f":"Раздел2!F232","v":0},{"$f":"Раздел2!F232","v":0},{"$f":"Раздел2!H232","v":0},{"$f":"Раздел2!I232","v":0},{"$f":"Раздел2!J232","v":0},{"$f":"Раздел2!K232","v":0}]
[null,"Хоккей - всего","226",0,{"$f":"SUM(E234:E235)","v":0},{"$f":"SUM(F234:F235)","v":0},{"$f":"SUM(G234:G235)","v":0},{"$f":"SUM(H234:H235)","v":0},0,{"$f":"SUM(J234:J235)","v":0},{"$f":"SUM(K234:K235)","v":0},{"$f":"SUM(L234:L235)","v":0},{"$f":"SUM(M234:M235)","v":0},0,{"$f":"SUM(O234:O235)","v":0},{"$f":"SUM(P234:P235)","v":0},{"$f":"SUM(Q234:Q235)","v":0},{"$f":"SUM(R234:R235)","v":0},null,null,{"$f":"Раздел2!F233","v":0},{"$f":"Раздел2!F233","v":0},{"$f":"Раздел2!H233","v":0},{"$f":"Раздел2!I233","v":0},{"$f":"Раздел2!J233","v":0},{"$f":"Раздел2!K233","v":0}]
[null,"в том числе:\nХоккей (муж.)","227",0,0,0,0,0,0,0,0,0,0,0,0,0,0,0,null,null,{"$f":"Раздел2!F234","v":0},{"$f":"Раздел2!F234","v":0},{"$f":"Раздел2!H234","v":0},{"$f":"Раздел2!I234","v":0},{"$f":"Раздел2!J234","v":0},{"$f":"Раздел2!K234","v":0}]
[null,"Хоккей (жен.)","228",0,0,0,0,0,0,0,0,0,0,0,0,0,0,0,null,null,{"$f":"Раздел2!F235","v":0},{"$f":"Раздел2!F235","v":0},{"$f":"Раздел2!H235","v":0},{"$f":"Раздел2!I235","v":0},{"$f":"Раздел2!J235","v":0},{"$f":"Раздел2!K235","v":0}]
[null,"Хоккей на траве - всего","229",0,{"$f":"SUM(E237:E239)","v":0},{"$f":"SUM(F237:F239)","v":0},{"$f":"SUM(G237:G239)","v":0},{"$f":"SUM(H237:H239)","v":0},0,{"$f":"SUM(J237:J239)","v":0},{"$f":"SUM(K237:K239)","v":0},{"$f":"SUM(L237:L239)","v":0},{"$f":"SUM(M237:M239)","v":0},0,{"$f":"SUM(O237:O239)","v":0},{"$f":"SUM(P237:P239)","v":0},{"$f":"SUM(Q237:Q239)","v":0},{"$f":"SUM(R237:R239)","v":0},null,null,{"$f":"Раздел2!F236","v":0},{"$f":"Раздел2!F236","v":0},{"$f":"Раздел2!H236","v":0},{"$f":"Раздел2!I236","v":0},{"$f":"Раздел2!J236","v":0},{"$f":"Раздел2!K236","v":0}]
[null,"в том числе:\nХоккей на траве (муж.)","230",0,null,null,null,null,0,null,null,null,null,0,null,null,null,null,null,null,{"$f":"Раздел2!F237","v":0},{"$f":"Раздел2!F237","v":0},{"$f":"Раздел2!H237","v":0},{"$f":"Раздел2!I237","v":0},{"$f":"Раздел2!J237","v":0},{"$f":"Раздел2!K237","v":0}]
[null,"Хоккей на траве (жен.)","231",0,null,null,null,null,0,null,null,null,null,0,null,null,null,null,null,null,{"$f":"Раздел2!F238","v":0},{"$f":"Раздел2!F238","v":0},{"$f":"Раздел2!H238","v":0},{"$f":"Раздел2!I238","v":0},{"$f":"Раздел2!J238","v":0},{"$f":"Раздел2!K238","v":0}]
[null,"Индорхоккей","232",0,null,null,null,null,0,null,null,null,null,0,null,null,null,null,null,null,{"$f":"Раздел2!F239","v":0},{"$f":"Раздел2!F239","v":0},{"$f":"Раздел2!H239","v":0},{"$f":"Раздел2!I239","v":0},{"$f":"Раздел2!J239","v":0},{"$f":"Раздел2!K239","v":0}]
[null,"Хоккей с мячом","233",0,null,null,null,null,0,null,null,null,null,0,null,null,null,null,null,null,{"$f":"Раздел2!F240","v":0},{"$f":"Раздел2!F240","v":0},{"$f":"Раздел2!H240","v":0},{"$f":"Раздел2!I240","v":0},{"$f":"Раздел2!J240","v":0},{"$f":"Раздел2!K240","v":0}]
[null,"Художественная гимнастика","234",0,null,null,null,null,0,null,null,null,null,0,null,null,null,null,null,null,{"$f":"Раздел2!F241","v":102},{"$f":"Раздел2!F241","v":102},{"$f":"Раздел2!H241","v":0},{"$f":"Раздел2!I241","v":0},{"$f":"Раздел2!J241","v":0},{"$f":"Раздел2!K241","v":0}]
[null,"Хуреш","235",0,null,null,null,null,0,null,null,null,null,0,null,null,null,null,null,null,{"$f":"Раздел2!F242","v":0},{"$f":"Раздел2!F242","v":0},{"$f":"Раздел2!H242","v":0},{"$f":"Раздел2!I242","v":0},{"$f":"Раздел2!J242","v":0},{"$f":"Раздел2!K242","v":0}]
[null,"Черлидинг","236",0,null,null,null,null,0,null,null,null,null,0,null,null,null,null,null,null,{"$f":"Раздел2!F243","v":0},{"$f":"Раздел2!F243","v":0},{"$f":"Раздел2!H243","v":0},{"$f":"Раздел2!I243","v":0},{"$f":"Раздел2!J243","v":0},{"$f":"Раздел2!K243","v":0}]
[null,"Чир спорт","237",0,null,null,null,null,0,null,null,null,null,0,null,null,null,null,null,null,{"$f":"Раздел2!F244","v":0},{"$f":"Раздел2!F244","v":0},{"$f":"Раздел2!H244","v":0},{"$f":"Раздел2!I244","v":0},{"$f":"Раздел2!J244","v":0},{"$f":"Раздел2!K244","v":0}]
[null,"Шахматы","238",0,null,null,null,null,0,null,null,null,null,0,null,null,null,null,null,null,{"$f":"Раздел2!F245","v":0},{"$f":"Раздел2!F245","v":0},{"$f":"Раздел2!H245","v":0},{"$f":"Раздел2!I245","v":0},{"$f":"Раздел2!J245","v":0},{"$f":"Раздел2!K245","v":0}]
[null,"Шашки","239",0,null,null,null,null,0,null,null,null,null,0,null,null,null,null,null,null,{"$f":"Раздел2!F246","v":0},{"$f":"Раздел2!F246","v":0},{"$f":"Раздел2!H246","v":0},{"$f":"Раздел2!I246","v":0},{"$f":"Раздел2!J246","v":0},{"$f":"Раздел2!K246","v":0}]
[null,"Эстетическая гимнастика","240",0,null,null,null,null,0,null,null,null,null,0,null,null,null,null,null,null,{"$f":"Раздел2!F247","v":0},{"$f":"Раздел2!F247","v":0},{"$f":"Раздел2!H247","v":0},{"$f":"Раздел2!I247","v":0},{"$f":"Раздел2!J247","v":0},{"$f":"Раздел2!K247","v":0}]
[null,"Якутские национальные прыжки","241",0,null,null,null,null,0,null,null,null,null,0,null,null,null,null,null,null,{"$f":"Раздел2!F248","v":0},{"$f":"Раздел2!F248","v":0},{"$f":"Раздел2!H248","v":0},{"$f":"Раздел2!I248","v":0},{"$f":"Раздел2!J248","v":0},{"$f":"Раздел2!K248","v":0},"не перешли","Частично перешли","Полностью перешли"]
[null,"ИТОГО","242",0,{"$f":"SUM(E8:E19,E22:E25,E28:E38,E41:E45,E50:E52,E56:E64,E69:E78,E81:E87,E90:E93,E101:E115,E118:E123,E126,E131,E132,E138:E141,E146:E179,E185:E190,E195,E196,E200:E206,E209:E212,E217:E221,E227,E232,E233,E236,E240:E248)","v":0},{"$f":"SUM(F8:F19,F22:F25,F28:F38,F41:F45,F50:F52,F56:F64,F69:F78,F81:F87,F90:F93,F101:F115,F118:F123,F126,F131,F132,F138:F141,F146:F179,F185:F190,F195,F196,F200:F206,F209:F212,F217:F221,F227,F232,F233,F236,F240:F248)","v":0},{"$f":"SUM(G8:G19,G22:G25,G28:G38,G41:G45,G50:G52,G56:G64,G69:G78,G81:G87,G90:G93,G101:G115,G118:G123,G126,G131,G132,G138:G141,G146:G179,G185:G190,G195,G196,G200:G206,G209:G212,G217:G221,G227,G232,G233,G236,G240:G248)","v":0},{"$f":"SUM(H8:H19,H22:H25,H28:H38,H41:H45,H50:H52,H56:H64,H69:H78,H81:H87,H90:H93,H101:H115,H118:H123,H126,H131,H132,H138:H141,H146:H179,H185:H190,H195,H196,H200:H206,H209:H212,H217:H221,H227,H232,H233,H236,H240:H248)","v":0},0,{"$f":"SUM(J8:J19,J22:J25,J28:J38,J41:J45,J50:J52,J56:J64,J69:J78,J81:J87,J90:J93,J101:J115,J118:J123,J126,J131,J132,J138:J141,J146:J179,J185:J190,J195,J196,J200:J206,J209:J212,J217:J221,J227,J232,J233,J236,J240:J248)","v":0},{"$f":"SUM(K8:K19,K22:K25,K28:K38,K41:K45,K50:K52,K56:K64,K69:K78,K81:K87,K90:K93,K101:K115,K118:K123,K126,K131,K132,K138:K141,K146:K179,K185:K190,K195,K196,K200:K206,K209:K212,K217:K221,K227,K232,K233,K236,K240:K248)","v":0},{"$f":"SUM(L8:L19,L22:L25,L28:L38,L41:L45,L50:L52,L56:L64,L69:L78,L81:L87,L90:L93,L101:L115,L118:L123,L126,L131,L132,L138:L141,L146:L179,L185:L190,L195,L196,L200:L206,L209:L212,L217:L221,L227,L232,L233,L236,L240:L248)","v":0},{"$f":"SUM(M8:M19,M22:M25,M28:M38,M41:M45,M50:M52,M56:M64,M69:M78,M81:M87,M90:M93,M101:M115,M118:M123,M126,M131,M132,M138:M141,M146:M179,M185:M190,M195,M196,M200:M206,M209:M212,M217:M221,M227,M232,M233,M236,M240:M248)","v":0},0,{"$f":"SUM(O8:O19,O22:O25,O28:O38,O41:O45,O50:O52,O56:O64,O69:O78,O81:O87,O90:O93,O101:O115,O118:O123,O126,O131,O132,O138:O141,O146:O179,O185:O190,O195,O196,O200:O206,O209:O212,O217:O221,O227,O232,O233,O236,O240:O248)","v":0},{"$f":"SUM(P8:P19,P22:P25,P28:P38,P41:P45,P50:P52,P56:P64,P69:P78,P81:P87,P90:P93,P101:P115,P118:P123,P126,P131,P132,P138:P141,P146:P179,P185:P190,P195,P196,P200:P206,P209:P212,P217:P221,P227,P232,P233,P236,P240:P248)","v":0},{"$f":"SUM(Q8:Q19,Q22:Q25,Q28:Q38,Q41:Q45,Q50:Q52,Q56:Q64,Q69:Q78,Q81:Q87,Q90:Q93,Q101:Q115,Q118:Q123,Q126,Q131,Q132,Q138:Q141,Q146:Q179,Q185:Q190,Q195,Q196,Q200:Q206,Q209:Q212,Q217:Q221,Q227,Q232,Q233,Q236,Q240:Q248)","v":0},{"$f":"SUM(R8:R19,R22:R25,R28:R38,R41:R45,R50:R52,R56:R64,R69:R78,R81:R87,R90:R93,R101:R115,R118:R123,R126,R131,R132,R138:R141,R146:R179,R185:R190,R195,R196,R200:R206,R209:R212,R217:R221,R227,R232,R233,R236,R240:R248)","v":0},null,null,{"$f":"Раздел2!F249","v":1295},{"$f":"Раздел2!F249","v":1295},{"$f":"Раздел2!H249","v":119},{"$f":"Раздел2!I249","v":93},{"$f":"Раздел2!J249","v":0},{"$f":"Раздел2!K249","v":0},{"$f":"Раздел1!D18","v":1},{"$f":"Раздел1!F18","v":0},{"$f":"Раздел1!H18","v":0}]

{"sheet":"Раздел4","index":4,"n_rows":249,"n_cols":29,"rows_kept":249,"cut":false,"hidden":false,"merged":[[4,13,5,13],[2,12,2,24],[3,17,3,20],[4,17,5,17],[3,21,3,24],[4,14,4,16],[1,16,1,24],[4,9,4,11],[2,28,5,28],[2,3,2,11],[3,12,5,12],[4,22,4,24],[4,8,5,8],[3,13,3,16],[4,21,5,21],[3,4,3,7],[4,18,4,20],[2,27,5,27],[0,25,118,25],[0,1,0,24],[3,8,3,11],[4,5,4,7],[3,3,5,3],[0,0,118,0],[2,1,5,1],[2,2,5,2],[4,4,5,4]]}
[null,"Раздел IV. Спортивные разряды, спортивные звания"]
[null,null,null,null,null,null,null,null,null,null,null,null,null,null,null,null,"Код по ОКЕИ: человек – 792"]
[null,"Виды спорта","№ строки","Из числа занимающихся (гр. 5 раздела II)\nспортсменов, имеющих разряды, звания",null,null,null,null,null,null,null,null,"Разряды, звания, присвоенные и подтвержденные в отчетном году",null,null,null,null,null,null,null,null,null,null,null,null,null,null,"Раздел2 графа3\nЧисло отделений","Раздел2 графа5\nЧисло отделений"]
[null,null,null,"Всего","спортивные разряды",null,null,null,"спортивные звания",null,null,null,"Всего","спортивные разряды присвоенные",null,null,null,"спортивные разряды подтвержденные",null,null,null,"спортивные звания присвоенные"]
[null,null,null,null,"Всего","в том числе:",null,null,"Всего","в том числе:",null,null,null,"Всего","в том числе:",null,null,"Всего","в том числе:",null,null,"Всего","в том числе:"]
[null,null,null,null,null,"КМС","1 разряд","другие разряды",null,"ЗМС","МСМК","МС",null,null,"КМС","1 разряд","другие разряды",null,"КМС","1 разряд","другие разряды",null,"ЗМС","МСМК","МС"]
[null,1,2,3,4,5,6,7,8,9,10,11,12,13,14,15,16,17,18,19,20,21,22,23,24]
[null,"Авиамодельный спорт","01",{"$f":"E8+I8","v":0},{"$f":"SUM(F8:H8)","v":0},null,null,null,{"$f":"SUM(J8:L8)","v":0},null,null,null,{"$f":"N8+V8","v":0},{"$f":"SUM(O8:Q8)","v":0},null,null,null,{"$f":"SUM(S8:U8)","v":0},null,null,null,{"$f":"SUM(W8:Y8)","v":0},null,null,null,null,null,{"$f":"Раздел2!#REF!","v":{"$error":"#REF!"}},{"$f":"Раздел2!F8","v":0}]
[null,"Автомобильный спорт","02",{"$f":"E9+I9","v":0},{"$f":"SUM(F9:H9)","v":0},null,null,null,{"$f":"SUM(J9:L9)","v":0},null,null,null,{"$f":"N9+V9","v":0},{"$f":"SUM(O9:Q9)","v":0},null,null,null,{"$f":"SUM(S9:U9)","v":0},null,null,null,{"$f":"SUM(W9:Y9)","v":0},null,null,null,null,null,{"$f":"Раздел2!#REF!","v":{"$error":"#REF!"}},{"$f":"Раздел2!F9","v":0}]
[null,"Автомодельный спорт","03",0,0,null,null,null,0,null,null,null,0,0,null,null,null,0,null,null,null,0,null,null,null,null,null,{"$f":"Раздел2!#REF!","v":{"$error":"#REF!"}},{"$f":"Раздел2!F10","v":0}]
[null,"Айкидо","04",0,0,null,null,null,0,null,null,null,0,0,null,null,null,0,null,null,null,0,null,null,null,null,null,{"$f":"Раздел2!#REF!","v":{"$error":"#REF!"}},{"$f":"Раздел2!F11","v":0}]
[null,"Айсшток","05",0,0,null,null,null,0,null,null,null,0,0,null,null,null,0,null,null,null,0,null,null,null,null,null,{"$f":"Раздел2!#REF!","v":{"$error":"#REF!"}},{"$f":"Раздел2!F12","v":0}]
[null,"Акробатический рок-н-ролл","06",0,0,null,null,null,0,null,null,null,0,0,null,null,null,0,null,null,null,0,null,null,null,null,null,{"$f":"Раздел2!#REF!","v":{"$error":"#REF!"}},{"$f":"Раздел2!F13","v":0}]
[null,"Альпинизм","07",0,0,0,0,0,0,0,0,0,0,0,0,0,0,0,0,0,0,0,0,0,0,null,null,{"$f":"Раздел2!#REF!","v":{"$error":"#REF!"}},{"$f":"Раздел2!F14","v":0}]
[null,"Американский футбол","08",0,0,0,0,0,0,0,0,0,0,0,0,0,0,0,0,0,0,0,0,0,0,null,null,{"$f":"Раздел2!#REF!","v":{"$error":"#REF!"}},{"$f":"Раздел2!F15","v":0}]
[null,"Армейский рукопашный бой","09",0,0,null,null,null,0,null,null,null,0,0,null,null,null,0,null,null,null,0,null,null,null,null,null,{"$f":"Раздел2!#REF!","v":{"$error":"#REF!"}},{"$f":"Раздел2!F16","v":0}]
[null,"Армрестлинг","10",0,0,0,0,0,0,0,0,0,0,0,0,0,0,0,0,0,0,0,0,0,0,null,null,{"$f":"Раздел2!#REF!","v":{"$error":"#REF!"}},{"$f":"Раздел2!F17","v":0}]
[null,"Бадминтон","11",0,0,0,0,0,0,0,0,0,0,0,0,0,0,0,0,0,0,0,0,0,0,null,null,{"$f":"Раздел2!#REF!","v":{"$error":"#REF!"}},{"$f":"Раздел2!F18","v":0}]
[null,"Баскетбол - всего","12",6,6,{"$f":"SUM(F20:F21)","v":0},{"$f":"SUM(G20:G21)","v":0},{"$f":"SUM(H20:H21)","v":6},0,{"$f":"SUM(J20:J21)","v":0},{"$f":"SUM(K20:K21)","v":0},{"$f":"SUM(L20:L21)","v":0},6,6,{"$f":"SUM(O20:O21)","v":0},{"$f":"SUM(P20:P21)","v":0},{"$f":"SUM(Q20:Q21)","v":6},0,{"$f":"SUM(S20:S21)","v":0},{"$f":"SUM(T20:T21)","v":0},{"$f":"SUM(U20:U21)","v":0},0,{"$f":"SUM(W20:W21)","v":0},{"$f":"SUM(X20:X21)","v":0},{"$f":"SUM(Y20:Y21)","v":0},null,null,{"$f":"Раздел2!#REF!","v":{"$error":"#REF!"}},{"$f":"Раздел2!F19","v":134}]
[null,"в том числе:\nБаскетбол (муж.)","13",6,6,0,0,6,0,0,0,0,6,6,0,0,6,0,0,0,0,0,0,0,0,null,null,{"$f":"Раздел2!#REF!","v":{"$error":"#REF!"}},{"$f":"Раздел2!F20","v":93}]
[null,"Баскетбол (жен.)","14",0,0,null,null,null,0,null,null,null,0,0,null,null,null,0,null,null,null,0,null,null,null,null,null,{"$f":"Раздел2!#REF!","v":{"$error":"#REF!"}},{"$f":"Раздел2!F21","v":41}]
[null,"Бейсбол","15",0,0,0,0,0,0,0,0,0,0,0,0,0,0,0,0,0,0,0,0,0,0,null,null,{"$f":"Раздел2!#REF!","v":{"$error":"#REF!"}},{"$f":"Раздел2!F22","v":0}]
[null,"Биатлон","16",0,0,0,0,0,0,0,0,0,0,0,0,0,0,0,0,0,0,0,0,0,0,null,null,{"$f":"Раздел2!#REF!","v":{"$error":"#REF!"}},{"$f":"Раздел2!F23","v":0}]
[null,"Бильярдный спорт","17",0,0,0,0,0,0,0,0,0,0,0,0,0,0,0,0,0,0,0,0,0,0,null,null,{"$f":"Раздел2!#REF!","v":{"$error":"#REF!"}},{"$f":"Раздел2!F24","v":0}]
[null,"Бобслей - всего","18",0,0,{"$f":"SUM(F26:F27)","v":0},{"$f":"SUM(G26:G27)","v":0},{"$f":"SUM(H26:H27)","v":0},0,{"$f":"SUM(J26:J27)","v":0},{"$f":"SUM(K26:K27)","v":0},{"$f":"SUM(L26:L27)","v":0},0,0,{"$f":"SUM(O26:O27)","v":0},{"$f":"SUM(P26:P27)","v":0},{"$f":"SUM(Q26:Q27)","v":0},0,{"$f":"SUM(S26:S27)","v":0},{"$f":"SUM(T26:T27)","v":0},{"$f":"SUM(U26:U27)","v":0},0,{"$f":"SUM(W26:W27)","v":0},{"$f":"SUM(X26:X27)","v":0},{"$f":"SUM(Y26:Y27)","v":0},null,null,{"$f":"Раздел2!#REF!","v":{"$error":"#REF!"}},{"$f":"Раздел2!F25","v":0}]
[null,"в том числе:\nБобслей","19",0,0,0,0,0,0,0,0,0,0,0,0,0,0,0,0,0,0,0,0,0,0,null,null,{"$f":"Раздел2!#REF!","v":{"$error":"#REF!"}},{"$f":"Раздел2!F26","v":0}]
[null,"Скелетон","20",0,0,0,0,0,0,0,0,0,0,0,0,0,0,0,0,0,0,0,0,0,0,null,null,{"$f":"Раздел2!#REF!","v":{"$error":"#REF!"}},{"$f":"Раздел2!F27","v":0}]
[null,"Бодибилдинг","21",0,0,0,0,0,0,0,0,0,0,0,0,0,0,0,0,0,0,0,0,0,0,null,null,{"$f":"Раздел2!#REF!","v":{"$error":"#REF!"}},{"$f":"Раздел2!F28","v":0}]
[null,"Бокс","22",0,0,0,0,0,0,0,0,0,0,0,0,0,0,0,0,0,0,0,0,0,0,null,null,{"$f":"Раздел2!#REF!","v":{"$error":"#REF!"}},{"$f":"Раздел2!F29","v":90}]
[null,"Борьба на поясах","23",0,0,0,0,0,0,0,0,0,0,0,0,0,0,0,0,0,0,0,0,0,0,null,null,{"$f":"Раздел2!#REF!","v":{"$error":"#REF!"}},{"$f":"Раздел2!F30","v":0}]
[null,"Боулинг","24",0,0,0,0,0,0,0,0,0,0,0,0,0,0,0,0,0,0,0,0,0,0,null,null,{"$f":"Раздел2!#REF!","v":{"$error":"#REF!"}},{"$f":"Раздел2!F31","v":0}]
[null,"Велоспорт ВМХ","25",0,0,0,0,0,0,0,0,0,0,0,0,0,0,0,0,0,0,0,0,0,0,null,null,{"$f":"Раздел2!#REF!","v":{"$error":"#REF!"}},{"$f":"Раздел2!F32","v":0}]
[null,"Велоспорт – маунтинбайк","26",0,0,0,0,0,0,0,0,0,0,0,0,0,0,0,0,0,0,0,0,0,0,null,null,{"$f":"Раздел2!#REF!","v":{"$error":"#REF!"}},{"$f":"Раздел2!F33","v":0}]
[null,"Велоспорт – трек","27",0,0,0,0,0,0,0,0,0,0,0,0,0,0,0,0,0,0,0,0,0,0,null,null,{"$f":"Раздел2!#REF!","v":{"$error":"#REF!"}},{"$f":"Раздел2!F34","v":0}]
[null,"Велоспорт – шоссе","28",0,0,0,0,0,0,0,0,0,0,0,0,0,0,0,0,0,0,0,0,0,0,null,null,{"$f":"Раздел2!#REF!","v":{"$error":"#REF!"}},{"$f":"Раздел2!F35","v":0}]
[null,"Вертолетный спорт","29",0,0,0,0,0,0,0,0,0,0,0,0,0,0,0,0,0,0,0,0,0,0,null,null,{"$f":"Раздел2!#REF!","v":{"$error":"#REF!"}},{"$f":"Раздел2!F36","v":0}]
[null,"Водно-моторный спорт","30",0,0,0,0,0,0,0,0,0,0,0,0,0,0,0,0,0,0,0,0,0,0,null,null,{"$f":"Раздел2!#REF!","v":{"$error":"#REF!"}},{"$f":"Раздел2!F37","v":0}]
[null,"Водное поло - всего ","31",0,0,{"$f":"SUM(F39:F40)","v":0},{"$f":"SUM(G39:G40)","v":0},{"$f":"SUM(H39:H40)","v":0},0,{"$f":"SUM(J39:J40)","v":0},{"$f":"SUM(K39:K40)","v":0},{"$f":"SUM(L39:L40)","v":0},0,0,{"$f":"SUM(O39:O40)","v":0},{"$f":"SUM(P39:P40)","v":0},{"$f":"SUM(Q39:Q40)","v":0},0,{"$f":"SUM(S39:S40)","v":0},{"$f":"SUM(T39:T40)","v":0},{"$f":"SUM(U39:U40)","v":0},0,{"$f":"SUM(W39:W40)","v":0},{"$f":"SUM(X39:X40)","v":0},{"$f":"SUM(Y39:Y40)","v":0},null,null,{"$f":"Раздел2!#REF!","v":{"$error":"#REF!"}},{"$f":"Раздел2!F38","v":0}]
[null,"в том числе:\nВодное поло (муж.)","32",0,0,null,null,null,0,null,null,null,0,0,null,null,null,0,null,null,null,0,null,null,null,null,null,{"$f":"Раздел2!#REF!","v":{"$error":"#REF!"}},{"$f":"Раздел2!F39","v":0}]
[null,"Водное поло (жен.)","33",0,0,null,null,null,0,null,null,null,0,0,null,null,null,0,null,null,null,0,null,null,null,null,null,{"$f":"Раздел2!#REF!","v":{"$error":"#REF!"}},{"$f":"Раздел2!F40","v":0}]
[null,"Воднолыжный спорт","34",0,0,null,null,null,0,null,null,null,0,0,null,null,null,0,null,null,null,0,null,null,null,null,null,{"$f":"Раздел2!#REF!","v":{"$error":"#REF!"}},{"$f":"Раздел2!F41","v":0}]
[null,"Военно-прикладной спорт","35",0,0,null,null,null,0,null,null,null,0,0,null,null,null,0,null,null,null,0,null,null,null,null,null,{"$f":"Раздел2!#REF!","v":{"$error":"#REF!"}},{"$f":"Раздел2!F42","v":0}]
[null,"Военно-спортивное многоборье","36",0,0,null,null,null,0,null,null,null,0,0,null,null,null,0,null,null,null,0,null,null,null,null,null,{"$f":"Раздел2!#REF!","v":{"$error":"#REF!"}},{"$f":"Раздел2!F43","v":0}]
[null,"Воздухоплавательный спорт","37",0,0,0,0,0,0,0,0,0,0,0,0,0,0,0,0,0,0,0,0,0,0,null,null,{"$f":"Раздел2!#REF!","v":{"$error":"#REF!"}},{"$f":"Раздел2!F44","v":0}]
[null,"Волейбол - всего","38",2,2,{"$f":"SUM(F46:F49)","v":0},{"$f":"SUM(G46:G49)","v":0},{"$f":"SUM(H46:H49)","v":2},0,{"$f":"SUM(J46:J49)","v":0},{"$f":"SUM(K46:K49)","v":0},{"$f":"SUM(L46:L49)","v":0},7,7,{"$f":"SUM(O46:O49)","v":0},{"$f":"SUM(P46:P49)","v":0},{"$f":"SUM(Q46:Q49)","v":7},0,{"$f":"SUM(S46:S49)","v":0},{"$f":"SUM(T46:T49)","v":0},{"$f":"SUM(U46:U49)","v":0},0,{"$f":"SUM(W46:W49)","v":0},{"$f":"SUM(X46:X49)","v":0},{"$f":"SUM(Y46:Y49)","v":0},null,null,{"$f":"Раздел2!#REF!","v":{"$error":"#REF!"}},{"$f":"Раздел2!F45","v":80}]
[null,"в том числе:\nВолейбол (муж.)","39",0,0,0,0,0,0,0,0,0,4,4,0,0,4,0,0,0,0,0,0,0,0,null,null,{"$f":"Раздел2!#REF!","v":{"$error":"#REF!"}},{"$f":"Раздел2!F46","v":21}]
[null,"Волейбол (жен.)","40",2,2,null,null,2,0,null,null,null,3,3,null,null,3,0,null,null,null,0,null,null,null,null,null,{"$f":"Раздел2!#REF!","v":{"$error":"#REF!"}},{"$f":"Раздел2!F47","v":59}]
[null,"Пляжный волейбол (муж.)","41",0,0,0,0,0,0,0,0,0,0,0,0,0,0,0,0,0,0,0,0,0,0,null,null,{"$f":"Раздел2!#REF!","v":{"$error":"#REF!"}},{"$f":"Раздел2!F48","v":0}]
[null,"Пляжный волейбол (жен.)","42",0,0,0,0,0,0,0,0,0,0,0,0,0,0,0,0,0,0,0,0,0,0,null,null,{"$f":"Раздел2!#REF!","v":{"$error":"#REF!"}},{"$f":"Раздел2!F49","v":0}]
[null,"Восточное боевое единоборство","43",0,0,0,0,0,0,0,0,0,0,0,0,0,0,0,0,0,0,0,0,0,0,null,null,{"$f":"Раздел2!#REF!","v":{"$error":"#REF!"}},{"$f":"Раздел2!F50","v":0}]
[null,"Всестилевое карате","44",0,0,0,0,0,0,0,0,0,0,0,0,0,0,0,0,0,0,0,0,0,0,null,null,{"$f":"Раздел2!#REF!","v":{"$error":"#REF!"}},{"$f":"Раздел2!F51","v":0}]
[null,"Гандбол - всего","45",0,0,{"$f":"SUM(F53:F55)","v":0},{"$f":"SUM(G53:G55)","v":0},{"$f":"SUM(H53:H55)","v":0},0,{"$f":"SUM(J53:J55)","v":0},{"$f":"SUM(K53:K55)","v":0},{"$f":"SUM(L53:L55)","v":0},0,0,{"$f":"SUM(O53:O55)","v":0},{"$f":"SUM(P53:P55)","v":0},{"$f":"SUM(Q53:Q55)","v":0},0,{"$f":"SUM(S53:S55)","v":0},{"$f":"SUM(T53:T55)","v":0},{"$f":"SUM(U53:U55)","v":0},0,{"$f":"SUM(W53:W55)","v":0},{"$f":"SUM(X53:X55)","v":0},{"$f":"SUM(Y53:Y55)","v":0},null,null,{"$f":"Раздел2!#REF!","v":{"$error":"#REF!"}},{"$f":"Раздел2!F52","v":0}]
[null,"в том числе:\nГандбол (муж.)","46",0,0,0,0,0,0,0,0,0,0,0,0,0,0,0,0,0,0,0,0,0,0,null,null,{"$f":"Раздел2!#REF!","v":{"$error":"#REF!"}},{"$f":"Раздел2!F53","v":0}]
[null,"Гандбол (жен.)","47",0,0,0,0,0,0,0,0,0,0,0,0,0,0,0,0,0,0,0,0,0,0,null,null,{"$f":"Раздел2!#REF!","v":{"$error":"#REF!"}},{"$f":"Раздел2!F54","v":0}]
[null,"Пляжный гандбол","48",0,0,null,null,null,0,null,null,null,0,0,null,null,null,0,null,null,null,0,null,null,null,null,null,{"$f":"Раздел2!#REF!","v":{"$error":"#REF!"}},{"$f":"Раздел2!F55","v":0}]
[null,"Гиревой спорт","49",0,0,0,0,0,0,0,0,0,0,0,0,0,0,0,0,0,0,0,0,0,0,null,null,{"$f":"Раздел2!#REF!","v":{"$error":"#REF!"}},{"$f":"Раздел2!F56","v":0}]
[null,"Го","50",0,0,0,0,0,0,0,0,0,0,0,0,0,0,0,0,0,0,0,0,0,0,null,null,{"$f":"Раздел2!#REF!","v":{"$error":"#REF!"}},{"$f":"Раздел2!F57","v":0}]
[null,"Гольф","51",0,0,0,0,0,0,0,0,0,0,0,0,0,0,0,0,0,0,0,0,0,0,null,null,{"$f":"Раздел2!#REF!","v":{"$error":"#REF!"}},{"$f":"Раздел2!F58","v":0}]
[null,"Горнолыжный спорт","52",0,0,0,0,0,0,0,0,0,0,0,0,0,0,0,0,0,0,0,0,0,0,null,null,{"$f":"Раздел2!#REF!","v":{"$error":"#REF!"}},{"$f":"Раздел2!F59","v":0}]
[null,"Городошный спорт","53",0,0,0,0,0,0,0,0,0,0,0,0,0,0,0,0,0,0,0,0,0,0,null,null,{"$f":"Раздел2!#REF!","v":{"$error":"#REF!"}},{"$f":"Раздел2!F60","v":0}]
[null,"Гребля на байдарках и каноэ","54",0,0,0,0,0,0,0,0,0,0,0,0,0,0,0,0,0,0,0,0,0,0,null,null,{"$f":"Раздел2!#REF!","v":{"$error":"#REF!"}},{"$f":"Раздел2!F61","v":0}]
[null,"Гребля на шлюпках","55",0,0,null,null,null,0,null,null,null,0,0,null,null,null,0,null,null,null,0,null,null,null,null,null,{"$f":"Раздел2!#REF!","v":{"$error":"#REF!"}},{"$f":"Раздел2!F62","v":0}]
[null,"Гребной слалом","56",0,0,0,0,0,0,0,0,0,0,0,0,0,0,0,0,0,0,0,0,0,0,null,null,{"$f":"Раздел2!#REF!","v":{"$error":"#REF!"}},{"$f":"Раздел2!F63","v":0}]
[null,"Гребной спорт - всего","57",0,0,{"$f":"SUM(F65:F68)","v":0},{"$f":"SUM(G65:G68)","v":0},{"$f":"SUM(H65:H68)","v":0},0,{"$f":"SUM(J65:J68)","v":0},{"$f":"SUM(K65:K68)","v":0},{"$f":"SUM(L65:L68)","v":0},0,0,{"$f":"SUM(O65:O68)","v":0},{"$f":"SUM(P65:P68)","v":0},{"$f":"SUM(Q65:Q68)","v":0},0,{"$f":"SUM(S65:S68)","v":0},{"$f":"SUM(T65:T68)","v":0},{"$f":"SUM(U65:U68)","v":0},0,{"$f":"SUM(W65:W68)","v":0},{"$f":"SUM(X65:X68)","v":0},{"$f":"SUM(Y65:Y68)","v":0},null,null,{"$f":"Раздел2!#REF!","v":{"$error":"#REF!"}},{"$f":"Раздел2!F64","v":0}]
[null,"в том числе:\nАкадемическая гребля","58",0,0,0,0,0,0,0,0,0,0,0,0,0,0,0,0,0,0,0,0,0,0,null,null,{"$f":"Раздел2!#REF!","v":{"$error":"#REF!"}},{"$f":"Раздел2!F65","v":0}]
[null,"Гребля-индор","59",0,0,0,0,0,0,0,0,0,0,0,0,0,0,0,0,0,0,0,0,0,0,null,null,{"$f":"Раздел2!#REF!","v":{"$error":"#REF!"}},{"$f":"Раздел2!F66","v":0}]
[null,"Народная гребля","60",0,0,0,0,0,0,0,0,0,0,0,0,0,0,0,0,0,0,0,0,0,0,null,null,{"$f":"Раздел2!#REF!","v":{"$error":"#REF!"}},{"$f":"Раздел2!F67","v":0}]
[null,"Прибрежная гребля","61",0,0,0,0,0,0,0,0,0,0,0,0,0,0,0,0,0,0,0,0,0,0,null,null,{"$f":"Раздел2!#REF!","v":{"$error":"#REF!"}},{"$f":"Раздел2!F68","v":0}]
[null,"Гребно-парусное двоеборье","62",0,0,0,0,0,0,0,0,0,0,0,0,0,0,0,0,0,0,0,0,0,0,null,null,{"$f":"Раздел2!#REF!","v":{"$error":"#REF!"}},{"$f":"Раздел2!F69","v":0}]
[null,"Дартс","63",0,0,0,0,0,0,0,0,0,0,0,0,0,0,0,0,0,0,0,0,0,0,null,null,{"$f":"Раздел2!#REF!","v":{"$error":"#REF!"}},{"$f":"Раздел2!F70","v":0}]
[null,"Джиу-джитсу","64",0,0,0,0,0,0,0,0,0,0,0,0,0,0,0,0,0,0,0,0,0,0,null,null,{"$f":"Раздел2!#REF!","v":{"$error":"#REF!"}},{"$f":"Раздел2!F71","v":0}]
[null,"Дзюдо","65",115,115,4,3,108,0,0,0,0,79,79,5,0,74,0,0,0,0,0,0,0,0,null,null,{"$f":"Раздел2!#REF!","v":{"$error":"#REF!"}},{"$f":"Раздел2!F72","v":282}]
[null,"Ездовой спорт","66",{"$f":"E73+I73","v":0},{"$f":"SUM(F73:H73)","v":0},0,0,0,{"$f":"SUM(J73:L73)","v":0},0,0,0,{"$f":"N73+V73","v":0},{"$f":"SUM(O73:Q73)","v":0},0,0,0,{"$f":"SUM(S73:U73)","v":0},0,0,0,{"$f":"SUM(W73:Y73)","v":0},0,0,0,null,null,{"$f":"Раздел2!#REF!","v":{"$error":"#REF!"}},{"$f":"Раздел2!F73","v":0}]
[null,"Капоэйра","67",0,0,0,0,0,0,0,0,0,0,0,0,0,0,0,0,0,0,0,0,0,0,null,null,{"$f":"Раздел2!#REF!","v":{"$error":"#REF!"}},{"$f":"Раздел2!F74","v":0}]
[null,"Каратэ","68",0,0,0,0,0,0,0,0,0,0,0,0,0,0,0,0,0,0,0,0,0,0,null,null,{"$f":"Раздел2!#REF!","v":{"$error":"#REF!"}},{"$f":"Раздел2!F75","v":0}]
[null,"Кендо","69",0,0,0,0,0,0,0,0,0,0,0,0,0,0,0,0,0,0,0,0,0,0,null,null,{"$f":"Раздел2!#REF!","v":{"$error":"#REF!"}},{"$f":"Раздел2!F76","v":0}]
[null,"Керешу","70",0,0,0,0,0,0,0,0,0,0,0,0,0,0,0,0,0,0,0,0,0,0,null,null,{"$f":"Раздел2!#REF!","v":{"$error":"#REF!"}},{"$f":"Раздел2!F77","v":0}]
[null,"Керлинг - всего","71",0,0,{"$f":"SUM(F79:F80)","v":0},{"$f":"SUM(G79:G80)","v":0},{"$f":"SUM(H79:H80)","v":0},0,{"$f":"SUM(J79:J80)","v":0},{"$f":"SUM(K79:K80)","v":0},{"$f":"SUM(L79:L80)","v":0},0,0,{"$f":"SUM(O79:O80)","v":0},{"$f":"SUM(P79:P80)","v":0},{"$f":"SUM(Q79:Q80)","v":0},0,{"$f":"SUM(S79:S80)","v":0},{"$f":"SUM(T79:T80)","v":0},{"$f":"SUM(U79:U80)","v":0},0,{"$f":"SUM(W79:W80)","v":0},{"$f":"SUM(X79:X80)","v":0},{"$f":"SUM(Y79:Y80)","v":0},null,null,{"$f":"Раздел2!#REF!","v":{"$error":"#REF!"}},{"$f":"Раздел2!F78","v":0}]
[null,"в том числе:\nКерлинг (муж.)","72",0,0,0,0,0,0,0,0,0,0,0,0,0,0,0,0,0,0,0,0,0,0,null,null,{"$f":"Раздел2!#REF!","v":{"$error":"#REF!"}},{"$f":"Раздел2!F79","v":0}]
[null,"Керлинг (жен.)","73",0,0,0,0,0,0,0,0,0,0,0,0,0,0,0,0,0,0,0,0,0,0,null,null,{"$f":"Раздел2!#REF!","v":{"$error":"#REF!"}},{"$f":"Раздел2!F80","v":0}]
[null,"Кикбоксинг","74",0,0,0,0,0,0,0,0,0,0,0,0,0,0,0,0,0,0,0,0,0,0,null,null,{"$f":"Раздел2!#REF!","v":{"$error":"#REF!"}},{"$f":"Раздел2!F81","v":0}]
[null,"Кинологический спорт","75",0,0,0,0,0,0,0,0,0,0,0,0,0,0,0,0,0,0,0,0,0,0,null,null,{"$f":"Раздел2!#REF!","v":{"$error":"#REF!"}},{"$f":"Раздел2!F82","v":0}]
[null,"Киокусинкай","76",0,0,0,0,0,0,0,0,0,0,0,0,0,0,0,0,0,0,0,0,0,0,null,null,{"$f":"Раздел2!#REF!","v":{"$error":"#REF!"}},{"$f":"Раздел2!F83","v":0}]
[null,"Комплексное единоборство","77",0,0,0,0,0,0,0,0,0,0,0,0,0,0,0,0,0,0,0,0,0,0,null,null,{"$f":"Раздел2!#REF!","v":{"$error":"#REF!"}},{"$f":"Раздел2!F84","v":0}]
[null,"Компьютерный спорт","78",0,0,0,0,0,0,0,0,0,0,0,0,0,0,0,0,0,0,0,0,0,0,null,null,{"$f":"Раздел2!#REF!","v":{"$error":"#REF!"}},{"$f":"Раздел2!F85","v":0}]
[null,"Конный спорт","79",0,0,0,0,0,0,0,0,0,0,0,0,0,0,0,0,0,0,0,0,0,0,null,null,{"$f":"Раздел2!#REF!","v":{"$error":"#REF!"}},{"$f":"Раздел2!F86","v":0}]
[null,"Конькобежный спорт - всего","80",0,0,{"$f":"SUM(F88:F89)","v":0},{"$f":"SUM(G88:G89)","v":0},{"$f":"SUM(H88:H89)","v":0},0,{"$f":"SUM(J88:J89)","v":0},{"$f":"SUM(K88:K89)","v":0},{"$f":"SUM(L88:L89)","v":0},0,0,{"$f":"SUM(O88:O89)","v":0},{"$f":"SUM(P88:P89)","v":0},{"$f":"SUM(Q88:Q89)","v":0},0,{"$f":"SUM(S88:S89)","v":0},{"$f":"SUM(T88:T89)","v":0},{"$f":"SUM(U88:U89)","v":0},0,{"$f":"SUM(W88:W89)","v":0},{"$f":"SUM(X88:X89)","v":0},{"$f":"SUM(Y88:Y89)","v":0},null,null,{"$f":"Раздел2!#REF!","v":{"$error":"#REF!"}},{"$f":"Раздел2!F87","v":0}]
[null,"в том числе:\nКонькобежный спорт","81",0,0,0,0,0,0,0,0,0,0,0,0,0,0,0,0,0,0,0,0,0,0,null,null,{"$f":"Раздел2!#REF!","v":{"$error":"#REF!"}},{"$f":"Раздел2!F88","v":0}]
[null,"Шорт-трек","82",0,0,0,0,0,0,0,0,0,0,0,0,0,0,0,0,0,0,0,0,0,0,null,null,{"$f":"Раздел2!#REF!","v":{"$error":"#REF!"}},{"$f":"Раздел2!F89","v":0}]
[null,"Корэш","83",0,0,0,0,0,0,0,0,0,0,0,0,0,0,0,0,0,0,0,0,0,0,null,null,{"$f":"Раздел2!#REF!","v":{"$error":"#REF!"}},{"$f":"Раздел2!F90","v":0}]
[null,"Корфбол","84",0,0,0,0,0,0,0,0,0,0,0,0,0,0,0,0,0,0,0,0,0,0,null,null,{"$f":"Раздел2!#REF!","v":{"$error":"#REF!"}},{"$f":"Раздел2!F91","v":0}]
[null,"Лапта","85",0,0,0,0,0,0,0,0,0,0,0,0,0,0,0,0,0,0,0,0,0,0,null,null,{"$f":"Раздел2!#REF!","v":{"$error":"#REF!"}},{"$f":"Раздел2!F92","v":0}]
[null,"Легкая атлетика - всего","86",0,0,{"$f":"SUM(F94:F100)","v":0},{"$f":"SUM(G94:G100)","v":0},{"$f":"SUM(H94:H100)","v":0},0,{"$f":"SUM(J94:J100)","v":0},{"$f":"SUM(K94:K100)","v":0},{"$f":"SUM(L94:L100)","v":0},0,0,{"$f":"SUM(O94:O100)","v":0},{"$f":"SUM(P94:P100)","v":0},{"$f":"SUM(Q94:Q100)","v":0},0,{"$f":"SUM(S94:S100)","v":0},{"$f":"SUM(T94:T100)","v":0},{"$f":"SUM(U94:U100)","v":0},0,{"$f":"SUM(W94:W100)","v":0},{"$f":"SUM(X94:X100)","v":0},{"$f":"SUM(Y94:Y100)","v":0},null,null,{"$f":"Раздел2!#REF!","v":{"$error":"#REF!"}},{"$f":"Раздел2!F93","v":187}]
[null,"в том числе:\nСпринтерский и барьерный бег","87",0,0,0,0,0,0,0,0,0,0,0,0,0,0,0,0,0,0,0,0,0,0,null,null,{"$f":"Раздел2!#REF!","v":{"$error":"#REF!"}},{"$f":"Раздел2!F94","v":0}]
[null,"Бег на средние дистанции и бег с препятствиями","88",0,0,0,0,0,0,0,0,0,0,0,0,0,0,0,0,0,0,0,0,0,0,null,null,{"$f":"Раздел2!#REF!","v":{"$error":"#REF!"}},{"$f":"Раздел2!F95","v":0}]
[null,"Бег на длинные и сверхдлинные дистанции","89",0,0,0,0,0,0,0,0,0,0,0,0,0,0,0,0,0,0,0,0,0,0,null,null,{"$f":"Раздел2!#REF!","v":{"$error":"#REF!"}},{"$f":"Раздел2!F96","v":0}]
[null,"Многоборья","90",0,0,0,0,0,0,0,0,0,0,0,0,0,0,0,0,0,0,0,0,0,0,null,null,{"$f":"Раздел2!#REF!","v":{"$error":"#REF!"}},{"$f":"Раздел2!F97","v":187}]
[null,"Прыжки","91",0,0,0,0,0,0,0,0,0,0,0,0,0,0,0,0,0,0,0,0,0,0,null,null,{"$f":"Раздел2!#REF!","v":{"$error":"#REF!"}},{"$f":"Раздел2!F98","v":0}]
[null,"Метания","92",0,0,0,0,0,0,0,0,0,0,0,0,0,0,0,0,0,0,0,0,0,0,null,null,{"$f":"Раздел2!#REF!","v":{"$error":"#REF!"}},{"$f":"Раздел2!F99","v":0}]
[null,"Спортивная ходьба","93",0,0,0,0,0,0,0,0,0,0,0,0,0,0,0,0,0,0,0,0,0,0,null,null,{"$f":"Раздел2!#REF!","v":{"$error":"#REF!"}},{"$f":"Раздел2!F100","v":0}]
[null,"Лыжное двоеборье","94",0,0,0,0,0,0,0,0,0,0,0,0,0,0,0,0,0,0,0,0,0,0,null,null,{"$f":"Раздел2!#REF!","v":{"$error":"#REF!"}},{"$f":"Раздел2!F101","v":0}]
[null,"Лыжные гонки","95",0,0,0,0,0,0,0,0,0,0,0,0,0,0,0,0,0,0,0,0,0,0,null,null,{"$f":"Раздел2!#REF!","v":{"$error":"#REF!"}},{"$f":"Раздел2!F102","v":0}]
[null,"Мас-рестлинг","96",0,0,0,0,0,0,0,0,0,0,0,0,0,0,0,0,0,0,0,0,0,0,null,null,{"$f":"Раздел2!#REF!","v":{"$error":"#REF!"}},{"$f":"Раздел2!F103","v":0}]
[null,"Международное военно-спортивное многоборье","97",0,0,0,0,0,0,0,0,0,0,0,0,0,0,0,0,0,0,0,0,0,0,null,null,{"$f":"Раздел2!#REF!","v":{"$error":"#REF!"}},{"$f":"Раздел2!F104","v":0}]
[null,"Многоборье кинологов","98",0,0,0,0,0,0,0,0,0,0,0,0,0,0,0,0,0,0,0,0,0,0,null,null,{"$f":"Раздел2!#REF!","v":{"$error":"#REF!"}},{"$f":"Раздел2!F105","v":0}]
[null,"Многоборье спасателей МЧС России","99",0,0,0,0,0,0,0,0,0,0,0,0,0,0,0,0,0,0,0,0,0,0,null,null,{"$f":"Раздел2!#REF!","v":{"$error":"#REF!"}},{"$f":"Раздел2!F106","v":0}]
[null,"Морское многоборье","100",0,0,0,0,0,0,0,0,0,0,0,0,0,0,0,0,0,0,0,0,0,0,null,null,{"$f":"Раздел2!#REF!","v":{"$error":"#REF!"}},{"$f":"Раздел2!F107","v":0}]
[null,"Мотоциклетный спорт","101",0,0,0,0,0,0,0,0,0,0,0,0,0,0,0,0,0,0,0,0,0,0,null,null,{"$f":"Раздел2!#REF!","v":{"$error":"#REF!"}},{"$f":"Раздел2!F108","v":0}]
[null,"Настольный теннис","102",0,0,0,0,0,0,0,0,0,0,0,0,0,0,0,0,0,0,0,0,0,0,null,null,{"$f":"Раздел2!#REF!","v":{"$error":"#REF!"}},{"$f":"Раздел2!F109","v":0}]
[null,"Парашютный спорт","103",0,0,0,0,0,0,0,0,0,0,0,0,0,0,0,0,0,0,0,0,0,0,null,null,{"$f":"Раздел2!#REF!","v":{"$error":"#REF!"}},{"$f":"Раздел2!F110","v":0}]
[null,"Парусный спорт","104",0,0,0,0,0,0,0,0,0,0,0,0,0,0,0,0,0,0,0,0,0,0,null,null,{"$f":"Раздел2!#REF!","v":{"$error":"#REF!"}},{"$f":"Раздел2!F111","v":0}]
[null,"Пауэрлифтинг","105",0,0,0,0,0,0,0,0,0,0,0,0,0,0,0,0,0,0,0,0,0,0,null,null,{"$f":"Раздел2!#REF!","v":{"$error":"#REF!"}},{"$f":"Раздел2!F112","v":0}]
[null,"Перетягивание каната","106",0,0,0,0,0,0,0,0,0,0,0,0,0,0,0,0,0,0,0,0,0,0,null,null,{"$f":"Раздел2!#REF!","v":{"$error":"#REF!"}},{"$f":"Раздел2!F113","v":0}]
[null,"Петанк","107",0,0,0,0,0,0,0,0,0,0,0,0,0,0,0,0,0,0,0,0,0,0,null,null,{"$f":"Раздел2!#REF!","v":{"$error":"#REF!"}},{"$f":"Раздел2!F114","v":0}]
[null,"Плавание - всего","108",0,0,{"$f":"SUM(F116:F117)","v":0},{"$f":"SUM(G116:G117)","v":0},{"$f":"SUM(H116:H117)","v":0},0,{"$f":"SUM(J116:J117)","v":0},{"$f":"SUM(K116:K117)","v":0},{"$f":"SUM(L116:L117)","v":0},0,0,{"$f":"SUM(O116:O117)","v":0},{"$f":"SUM(P116:P117)","v":0},{"$f":"SUM(Q116:Q117)","v":0},0,{"$f":"SUM(S116:S117)","v":0},{"$f":"SUM(T116:T117)","v":0},{"$f":"SUM(U116:U117)","v":0},0,{"$f":"SUM(W116:W117)","v":0},{"$f":"SUM(X116:X117)","v":0},{"$f":"SUM(Y116:Y117)","v":0},null,null,{"$f":"Раздел2!#REF!","v":{"$error":"#REF!"}},{"$f":"Раздел2!F115","v":0}]
[null,"в том числе:\nПлавание ","109",0,0,0,0,0,0,0,0,0,0,0,0,0,0,0,0,0,0,0,0,0,0,null,null,{"$f":"Раздел2!#REF!","v":{"$error":"#REF!"}},{"$f":"Раздел2!F116","v":0}]
[null,"Открытая вода","110",0,0,0,0,0,0,0,0,0,0,0,0,0,0,0,0,0,0,0,0,0,0,null,null,{"$f":"Раздел2!#REF!","v":{"$error":"#REF!"}},{"$f":"Раздел2!F117","v":0}]
[null,"Планерный спорт","111",0,0,0,0,0,0,0,0,0,0,0,0,0,0,0,0,0,0,0,0,0,0,null,null,{"$f":"Раздел2!#REF!","v":{"$error":"#REF!"}},{"$f":"Раздел2!F118","v":0}]
[null,"Подводный спорт","112",0,0,0,0,0,0,0,0,0,0,0,0,0,0,0,0,0,0,0,0,0,0,null,null,{"$f":"Раздел2!#REF!","v":{"$error":"#REF!"}},{"$f":"Раздел2!F119","v":0}]
[null,"Пожарно-прикладной спорт","113",0,0,0,0,0,0,0,0,0,0,0,0,0,0,0,0,0,0,0,0,0,0,null,null,{"$f":"Раздел2!#REF!","v":{"$error":"#REF!"}},{"$f":"Раздел2!F120","v":0}]
[null,"Полиатлон","114",0,0,0,0,0,0,0,0,0,0,0,0,0,0,0,0,0,0,0,0,0,0,null,null,{"$f":"Раздел2!#REF!","v":{"$error":"#REF!"}},{"$f":"Раздел2!F121","v":0}]
[null,"Практическая стрельба","115",0,0,0,0,0,0,0,0,0,0,0,0,0,0,0,0,0,0,0,0,0,0,null,null,{"$f":"Раздел2!#REF!","v":{"$error":"#REF!"}},{"$f":"Раздел2!F122","v":0}]
[null,"Прыжки в воду - всего","116",0,0,{"$f":"SUM(F124:F125)","v":0},{"$f":"SUM(G124:G125)","v":0},{"$f":"SUM(H124:H125)","v":0},0,{"$f":"SUM(J124:J125)","v":0},{"$f":"SUM(K124:K125)","v":0},{"$f":"SUM(L124:L125)","v":0},0,0,{"$f":"SUM(O124:O125)","v":0},{"$f":"SUM(P124:P125)","v":0},{"$f":"SUM(Q124:Q125)","v":0},0,{"$f":"SUM(S124:S125)","v":0},{"$f":"SUM(T124:T125)","v":0},{"$f":"SUM(U124:U125)","v":0},0,{"$f":"SUM(W124:W125)","v":0},{"$f":"SUM(X124:X125)","v":0},{"$f":"SUM(Y124:Y125)","v":0},null,null,{"$f":"Раздел2!#REF!","v":{"$error":"#REF!"}},{"$f":"Раздел2!F123","v":0}]
[null,"в том числе:\nПрыжки в воду","117",0,0,0,0,0,0,0,0,0,0,0,0,0,0,0,0,0,0,0,0,0,0,null,null,{"$f":"Раздел2!#REF!","v":{"$error":"#REF!"}},{"$f":"Раздел2!F124","v":0}]
[null,"Прыжки в открытый водоем","118",0,0,0,0,0,0,0,0,0,0,0,0,0,0,0,0,0,0,0,0,0,0,null,null,{"$f":"Раздел2!#REF!","v":{"$error":"#REF!"}},{"$f":"Раздел2!F125","v":0}]
[null,"Прыжки на батуте - всего","119",0,0,{"$f":"SUM(F127:F130)","v":0},{"$f":"SUM(G127:G130)","v":0},{"$f":"SUM(H127:H130)","v":0},0,{"$f":"SUM(J127:J130)","v":0},{"$f":"SUM(K127:K130)","v":0},{"$f":"SUM(L127:L130)","v":0},0,0,{"$f":"SUM(O127:O130)","v":0},{"$f":"SUM(P127:P130)","v":0},{"$f":"SUM(Q127:Q130)","v":0},0,{"$f":"SUM(S127:S130)","v":0},{"$f":"SUM(T127:T130)","v":0},{"$f":"SUM(U127:U130)","v":0},0,{"$f":"SUM(W127:W130)","v":0},{"$f":"SUM(X127:X130)","v":0},{"$f":"SUM(Y127:Y130)","v":0},null,null,{"$f":"Раздел2!#REF!","v":{"$error":"#REF!"}},{"$f":"Раздел2!F126","v":0}]
[null,"в том числе:\nАкробатическая дорожка","120",0,0,0,0,0,0,0,0,0,0,0,0,0,0,0,0,0,0,0,0,0,0,null,null,{"$f":"Раздел2!#REF!","v":{"$error":"#REF!"}},{"$f":"Раздел2!F127","v":0}]
[null,"Двойной минитрамп","121",0,0,0,0,0,0,0,0,0,0,0,0,0,0,0,0,0,0,0,0,0,0,null,null,{"$f":"Раздел2!#REF!","v":{"$error":"#REF!"}},{"$f":"Раздел2!F128","v":0}]
[null,"Индивидуальные прыжки","122",0,0,0,0,0,0,0,0,0,0,0,0,0,0,0,0,0,0,0,0,0,0,null,null,{"$f":"Раздел2!#REF!","v":{"$error":"#REF!"}},{"$f":"Раздел2!F129","v":0}]
[null,"Синхронные прыжки","123",0,0,0,0,0,0,0,0,0,0,0,0,0,0,0,0,0,0,0,0,0,0,null,null,{"$f":"Раздел2!#REF!","v":{"$error":"#REF!"}},{"$f":"Раздел2!F130","v":0}]
[null,"Прыжки на лыжах с трамплина","124",0,0,0,0,0,0,0,0,0,0,0,0,0,0,0,0,0,0,0,0,0,0,null,null,{"$f":"Раздел2!#REF!","v":{"$error":"#REF!"}},{"$f":"Раздел2!F131","v":0}]
[null,"Пулевая стрельба - всего","125",0,0,{"$f":"SUM(F133:F137)","v":0},{"$f":"SUM(G133:G137)","v":0},{"$f":"SUM(H133:H137)","v":0},0,{"$f":"SUM(J133:J137)","v":0},{"$f":"SUM(K133:K137)","v":0},{"$f":"SUM(L133:L137)","v":0},0,0,{"$f":"SUM(O133:O137)","v":0},{"$f":"SUM(P133:P137)","v":0},{"$f":"SUM(Q133:Q137)","v":0},0,{"$f":"SUM(S133:S137)","v":0},{"$f":"SUM(T133:T137)","v":0},{"$f":"SUM(U133:U137)","v":0},0,{"$f":"SUM(W133:W137)","v":0},{"$f":"SUM(X133:X137)","v":0},{"$f":"SUM(Y133:Y137)","v":0},null,null,{"$f":"Раздел2!#REF!","v":{"$error":"#REF!"}},{"$f":"Раздел2!F132","v":0}]
[null,"в том числе:\nПневматическая винтовка","126",0,0,0,0,0,0,0,0,0,0,0,0,0,0,0,0,0,0,0,0,0,0,null,null,{"$f":"Раздел2!#REF!","v":{"$error":"#REF!"}},{"$f":"Раздел2!F133","v":0}]
[null,"Пневматический пистолет","127",0,0,0,0,0,0,0,0,0,0,0,0,0,0,0,0,0,0,0,0,0,0,null,null,{"$f":"Раздел2!#REF!","v":{"$error":"#REF!"}},{"$f":"Раздел2!F134","v":0}]
[null,"Малокалиберная винтовка","128",0,0,0,0,0,0,0,0,0,0,0,0,0,0,0,0,0,0,0,0,0,0,null,null,{"$f":"Раздел2!#REF!","v":{"$error":"#REF!"}},{"$f":"Раздел2!F135","v":0}]
[null,"Малокалиберный пистолет","129",0,0,0,0,0,0,0,0,0,0,0,0,0,0,0,0,0,0,0,0,0,0,null,null,{"$f":"Раздел2!#REF!","v":{"$error":"#REF!"}},{"$f":"Раздел2!F136","v":0}]
[null,"Движущаяся мишень","130",{"$f":"E137+I137","v":0},{"$f":"SUM(F137:H137)","v":0},0,0,0,{"$f":"SUM(J137:L137)","v":0},0,0,0,{"$f":"N137+V137","v":0},{"$f":"SUM(O137:Q137)","v":0},0,0,0,{"$f":"SUM(S137:U137)","v":0},0,0,0,{"$f":"SUM(W137:Y137)","v":0},0,0,0,null,null,{"$f":"Раздел2!#REF!","v":{"$error":"#REF!"}},{"$f":"Раздел2!F137","v":0}]
[null,"Пэйнтбол","131",0,0,0,0,0,0,0,0,0,0,0,0,0,0,0,0,0,0,0,0,0,0,null,null,{"$f":"Раздел2!#REF!","v":{"$error":"#REF!"}},{"$f":"Раздел2!F138","v":0}]
[null,"Радиоспорт","132",0,0,0,0,0,0,0,0,0,0,0,0,0,0,0,0,0,0,0,0,0,0,null,null,{"$f":"Раздел2!#REF!","v":{"$error":"#REF!"}},{"$f":"Раздел2!F139","v":0}]
[null,"Рафтинг","133",0,0,0,0,0,0,0,0,0,0,0,0,0,0,0,0,0,0,0,0,0,0,null,null,{"$f":"Раздел2!#REF!","v":{"$error":"#REF!"}},{"$f":"Раздел2!F140","v":0}]
[null,"Регби - всего","134",0,0,{"$f":"SUM(F142:F145)","v":0},{"$f":"SUM(G142:G145)","v":0},{"$f":"SUM(H142:H145)","v":0},0,{"$f":"SUM(J142:J145)","v":0},{"$f":"SUM(K142:K145)","v":0},{"$f":"SUM(L142:L145)","v":0},0,0,{"$f":"SUM(O142:O145)","v":0},{"$f":"SUM(P142:P145)","v":0},{"$f":"SUM(Q142:Q145)","v":0},0,{"$f":"SUM(S142:S145)","v":0},{"$f":"SUM(T142:T145)","v":0},{"$f":"SUM(U142:U145)","v":0},0,{"$f":"SUM(W142:W145)","v":0},{"$f":"SUM(X142:X145)","v":0},{"$f":"SUM(Y142:Y145)","v":0},null,null,{"$f":"Раздел2!#REF!","v":{"$error":"#REF!"}},{"$f":"Раздел2!F141","v":0}]
[null,"в том числе:\nРегби","135",0,0,0,0,0,0,0,0,0,0,0,0,0,0,0,0,0,0,0,0,0,0,null,null,{"$f":"Раздел2!#REF!","v":{"$error":"#REF!"}},{"$f":"Раздел2!F142","v":0}]
[null,"Регби 7 (муж.)","136",0,0,0,0,0,0,0,0,0,0,0,0,0,0,0,0,0,0,0,0,0,0,null,null,{"$f":"Раздел2!#REF!","v":{"$error":"#REF!"}},{"$f":"Раздел2!F143","v":0}]
[null,"Регби 7 (жен.)","137",0,0,0,0,0,0,0,0,0,0,0,0,0,0,0,0,0,0,0,0,0,0,null,null,{"$f":"Раздел2!#REF!","v":{"$error":"#REF!"}},{"$f":"Раздел2!F144","v":0}]
[null,"Регби - пляжное","138",0,0,0,0,0,0,0,0,0,0,0,0,0,0,0,0,0,0,0,0,0,0,null,null,{"$f":"Раздел2!#REF!","v":{"$error":"#REF!"}},{"$f":"Раздел2!F145","v":0}]
[null,"Регбол","139",0,0,0,0,0,0,0,0,0,0,0,0,0,0,0,0,0,0,0,0,0,0,null,null,{"$f":"Раздел2!#REF!","v":{"$error":"#REF!"}},{"$f":"Раздел2!F146","v":0}]
[null,"Роллер спорт","140",0,0,0,0,0,0,0,0,0,0,0,0,0,0,0,0,0,0,0,0,0,0,null,null,{"$f":"Раздел2!#REF!","v":{"$error":"#REF!"}},{"$f":"Раздел2!F147","v":0}]
[null,"Рукопашный бой","141",0,0,0,0,0,0,0,0,0,0,0,0,0,0,0,0,0,0,0,0,0,0,null,null,{"$f":"Раздел2!#REF!","v":{"$error":"#REF!"}},{"$f":"Раздел2!F148","v":0}]
[null,"Рыболовный спорт","142",0,0,0,0,0,0,0,0,0,0,0,0,0,0,0,0,0,0,0,0,0,0,null,null,{"$f":"Раздел2!#REF!","v":{"$error":"#REF!"}},{"$f":"Раздел2!F149","v":0}]
[null,"Сават","143",0,0,0,0,0,0,0,0,0,0,0,0,0,0,0,0,0,0,0,0,0,0,null,null,{"$f":"Раздел2!#REF!","v":{"$error":"#REF!"}},{"$f":"Раздел2!F150","v":0}]
[null,"Самбо","144",0,0,0,0,0,0,0,0,0,0,0,0,0,0,0,0,0,0,0,0,0,0,null,null,{"$f":"Раздел2!#REF!","v":{"$error":"#REF!"}},{"$f":"Раздел2!F151","v":0}]
[null,"Самолетный спорт","145",0,0,0,0,0,0,0,0,0,0,0,0,0,0,0,0,0,0,0,0,0,0,null,null,{"$f":"Раздел2!#REF!","v":{"$error":"#REF!"}},{"$f":"Раздел2!F152","v":0}]
[null,"Санный спорт","146",0,0,0,0,0,0,0,0,0,0,0,0,0,0,0,0,0,0,0,0,0,0,null,null,{"$f":"Раздел2!#REF!","v":{"$error":"#REF!"}},{"$f":"Раздел2!F153","v":0}]
[null,"Северное многоборье","147",0,0,0,0,0,0,0,0,0,0,0,0,0,0,0,0,0,0,0,0,0,0,null,null,{"$f":"Раздел2!#REF!","v":{"$error":"#REF!"}},{"$f":"Раздел2!F154","v":0}]
[null,"Серфинг","148",0,0,0,0,0,0,0,0,0,0,0,0,0,0,0,0,0,0,0,0,0,0,null,null,{"$f":"Раздел2!#REF!","v":{"$error":"#REF!"}},{"$f":"Раздел2!F155","v":0}]
[null,"Синхронное плавание","149",0,0,0,0,0,0,0,0,0,0,0,0,0,0,0,0,0,0,0,0,0,0,null,null,{"$f":"Раздел2!#REF!","v":{"$error":"#REF!"}},{"$f":"Раздел2!F156","v":0}]
[null,"Скалолазание","150",0,0,0,0,0,0,0,0,0,0,0,0,0,0,0,0,0,0,0,0,0,0,null,null,{"$f":"Раздел2!#REF!","v":{"$error":"#REF!"}},{"$f":"Раздел2!F157","v":0}]
[null,"Скейтбординг","151",0,0,0,0,0,0,0,0,0,0,0,0,0,0,0,0,0,0,0,0,0,0,null,null,{"$f":"Раздел2!#REF!","v":{"$error":"#REF!"}},{"$f":"Раздел2!F158","v":0}]
[null,"Сквош","152",0,0,0,0,0,0,0,0,0,0,0,0,0,0,0,0,0,0,0,0,0,0,null,null,{"$f":"Раздел2!#REF!","v":{"$error":"#REF!"}},{"$f":"Раздел2!F159","v":0}]
[null,"Служебно-прикладной спорт ФСО России","153",0,0,0,0,0,0,0,0,0,0,0,0,0,0,0,0,0,0,0,0,0,0,null,null,{"$f":"Раздел2!#REF!","v":{"$error":"#REF!"}},{"$f":"Раздел2!F160","v":0}]
[null,"Служебно-прикладной спорт ГФС России","154",0,0,0,0,0,0,0,0,0,0,0,0,0,0,0,0,0,0,0,0,0,0,null,null,{"$f":"Раздел2!#REF!","v":{"$error":"#REF!"}},{"$f":"Раздел2!F161","v":0}]
[null,"Служебно-прикладной спорт ФСКН России","155",0,0,0,0,0,0,0,0,0,0,0,0,0,0,0,0,0,0,0,0,0,0,null,null,{"$f":"Раздел2!#REF!","v":{"$error":"#REF!"}},{"$f":"Раздел2!F162","v":0}]
[null,"Служебно-прикладной спорт ФТС России","156",0,0,0,0,0,0,0,0,0,0,0,0,0,0,0,0,0,0,0,0,0,0,null,null,{"$f":"Раздел2!#REF!","v":{"$error":"#REF!"}},{"$f":"Раздел2!F163","v":0}]
[null,"Служебное двоеборье","157",0,0,0,0,0,0,0,0,0,0,0,0,0,0,0,0,0,0,0,0,0,0,null,null,{"$f":"Раздел2!#REF!","v":{"$error":"#REF!"}},{"$f":"Раздел2!F164","v":0}]
[null,"Служебное единоборство","158",0,0,0,0,0,0,0,0,0,0,0,0,0,0,0,0,0,0,0,0,0,0,null,null,{"$f":"Раздел2!#REF!","v":{"$error":"#REF!"}},{"$f":"Раздел2!F165","v":0}]
[null,"Служебное многоборье","159",0,0,0,0,0,0,0,0,0,0,0,0,0,0,0,0,0,0,0,0,0,0,null,null,{"$f":"Раздел2!#REF!","v":{"$error":"#REF!"}},{"$f":"Раздел2!F166","v":0}]
[null,"Служебное собаководство","160",0,0,0,0,0,0,0,0,0,0,0,0,0,0,0,0,0,0,0,0,0,0,null,null,{"$f":"Раздел2!#REF!","v":{"$error":"#REF!"}},{"$f":"Раздел2!F167","v":0}]
[null,"Служебный биатлон","161",0,0,0,0,0,0,0,0,0,0,0,0,0,0,0,0,0,0,0,0,0,0,null,null,{"$f":"Раздел2!#REF!","v":{"$error":"#REF!"}},{"$f":"Раздел2!F168","v":0}]
[null,"Спасательный спорт","162",0,0,0,0,0,0,0,0,0,0,0,0,0,0,0,0,0,0,0,0,0,0,null,null,{"$f":"Раздел2!#REF!","v":{"$error":"#REF!"}},{"$f":"Раздел2!F169","v":0}]
[null,"Стрельба из боевого ручного стрелкового оружия","163",0,0,0,0,0,0,0,0,0,0,0,0,0,0,0,0,0,0,0,0,0,0,null,null,{"$f":"Раздел2!#REF!","v":{"$error":"#REF!"}},{"$f":"Раздел2!F170","v":0}]
[null,"Стрельба из штатного или табельного оружия","164",0,0,0,0,0,0,0,0,0,0,0,0,0,0,0,0,0,0,0,0,0,0,null,null,{"$f":"Раздел2!#REF!","v":{"$error":"#REF!"}},{"$f":"Раздел2!F171","v":0}]
[null,"Смешанное боевое единоборство (ММА)","165",0,0,0,0,0,0,0,0,0,0,0,0,0,0,0,0,0,0,0,0,0,0,null,null,{"$f":"Раздел2!#REF!","v":{"$error":"#REF!"}},{"$f":"Раздел2!F172","v":0}]
[null,"Сноуборд","166",0,0,0,0,0,0,0,0,0,0,0,0,0,0,0,0,0,0,0,0,0,0,null,null,{"$f":"Раздел2!#REF!","v":{"$error":"#REF!"}},{"$f":"Раздел2!F173","v":0}]
[null,"Современное пятиборье","167",0,0,0,0,0,0,0,0,0,0,0,0,0,0,0,0,0,0,0,0,0,0,null,null,{"$f":"Раздел2!#REF!","v":{"$error":"#REF!"}},{"$f":"Раздел2!F174","v":0}]
[null,"Софтбол","168",0,0,0,0,0,0,0,0,0,0,0,0,0,0,0,0,0,0,0,0,0,0,null,null,{"$f":"Раздел2!#REF!","v":{"$error":"#REF!"}},{"$f":"Раздел2!F175","v":0}]
[null,"Спорт сверхлегкой авиации","169",0,0,0,0,0,0,0,0,0,0,0,0,0,0,0,0,0,0,0,0,0,0,null,null,{"$f":"Раздел2!#REF!","v":{"$error":"#REF!"}},{"$f":"Раздел2!F176","v":0}]
[null,"Спортивная акробатика","170",0,0,0,0,0,0,0,0,0,0,0,0,0,0,0,0,0,0,0,0,0,0,null,null,{"$f":"Раздел2!#REF!","v":{"$error":"#REF!"}},{"$f":"Раздел2!F177","v":0}]
[null,"Спортивная аэробика","171",31,31,0,0,31,0,0,0,0,19,19,0,0,19,0,0,0,0,0,0,0,0,null,null,{"$f":"Раздел2!#REF!","v":{"$error":"#REF!"}},{"$f":"Раздел2!F178","v":297}]
[null,"Спортивная борьба - всего","172",0,0,{"$f":"SUM(F180:F184)","v":0},{"$f":"SUM(G180:G184)","v":0},{"$f":"SUM(H180:H184)","v":0},0,{"$f":"SUM(J180:J184)","v":0},{"$f":"SUM(K180:K184)","v":0},{"$f":"SUM(L180:L184)","v":0},0,0,{"$f":"SUM(O180:O184)","v":0},{"$f":"SUM(P180:P184)","v":0},{"$f":"SUM(Q180:Q184)","v":0},0,{"$f":"SUM(S180:S184)","v":0},{"$f":"SUM(T180:T184)","v":0},{"$f":"SUM(U180:U184)","v":0},0,{"$f":"SUM(W180:W184)","v":0},{"$f":"SUM(X180:X184)","v":0},{"$f":"SUM(Y180:Y184)","v":0},null,null,{"$f":"Раздел2!#REF!","v":{"$error":"#REF!"}},{"$f":"Раздел2!F179","v":0}]
[null,"в том числе:\nВольная борьба","173",0,0,0,0,0,0,0,0,0,0,0,0,0,0,0,0,0,0,0,0,0,0,null,null,{"$f":"Раздел2!#REF!","v":{"$error":"#REF!"}},{"$f":"Раздел2!F180","v":0}]
[null,"Греко-римская борьба","174",0,0,0,0,0,0,0,0,0,0,0,0,0,0,0,0,0,0,0,0,0,0,null,null,{"$f":"Раздел2!#REF!","v":{"$error":"#REF!"}},{"$f":"Раздел2!F181","v":0}]
[null,"Грэпплинг","175",0,0,0,0,0,0,0,0,0,0,0,0,0,0,0,0,0,0,0,0,0,0,null,null,{"$f":"Раздел2!#REF!","v":{"$error":"#REF!"}},{"$f":"Раздел2!F182","v":0}]
[null,"Грэпплинг-ги","176",0,0,0,0,0,0,0,0,0,0,0,0,0,0,0,0,0,0,0,0,0,0,null,null,{"$f":"Раздел2!#REF!","v":{"$error":"#REF!"}},{"$f":"Раздел2!F183","v":0}]
[null,"Панкратион","177",0,0,0,0,0,0,0,0,0,0,0,0,0,0,0,0,0,0,0,0,0,0,null,null,{"$f":"Раздел2!#REF!","v":{"$error":"#REF!"}},{"$f":"Раздел2!F184","v":0}]
[null,"Спортивно-прикладное собаководство","178",0,0,0,0,0,0,0,0,0,0,0,0,0,0,0,0,0,0,0,0,0,0,null,null,{"$f":"Раздел2!#REF!","v":{"$error":"#REF!"}},{"$f":"Раздел2!F185","v":0}]
[null,"Спортивная гимнастика","179",0,0,0,0,0,0,0,0,0,0,0,0,0,0,0,0,0,0,0,0,0,0,null,null,{"$f":"Раздел2!#REF!","v":{"$error":"#REF!"}},{"$f":"Раздел2!F186","v":0}]
[null,"Спортивное ориентирование","180",0,0,0,0,0,0,0,0,0,0,0,0,0,0,0,0,0,0,0,0,0,0,null,null,{"$f":"Раздел2!#REF!","v":{"$error":"#REF!"}},{"$f":"Раздел2!F187","v":0}]
[null,"Спортивный бридж","181",0,0,0,0,0,0,0,0,0,0,0,0,0,0,0,0,0,0,0,0,0,0,null,null,{"$f":"Раздел2!#REF!","v":{"$error":"#REF!"}},{"$f":"Раздел2!F188","v":0}]
[null,"Спортивный туризм","182",0,0,0,0,0,0,0,0,0,0,0,0,0,0,0,0,0,0,0,0,0,0,null,null,{"$f":"Раздел2!#REF!","v":{"$error":"#REF!"}},{"$f":"Раздел2!F189","v":0}]
[null,"Стендовая стрельба - всего","183",0,0,{"$f":"SUM(F191:F194)","v":0},{"$f":"SUM(G191:G194)","v":0},{"$f":"SUM(H191:H194)","v":0},0,{"$f":"SUM(J191:J194)","v":0},{"$f":"SUM(K191:K194)","v":0},{"$f":"SUM(L191:L194)","v":0},0,0,{"$f":"SUM(O191:O194)","v":0},{"$f":"SUM(P191:P194)","v":0},{"$f":"SUM(Q191:Q194)","v":0},0,{"$f":"SUM(S191:S194)","v":0},{"$f":"SUM(T191:T194)","v":0},{"$f":"SUM(U191:U194)","v":0},0,{"$f":"SUM(W191:W194)","v":0},{"$f":"SUM(X191:X194)","v":0},{"$f":"SUM(Y191:Y194)","v":0},null,null,{"$f":"Раздел2!#REF!","v":{"$error":"#REF!"}},{"$f":"Раздел2!F190","v":0}]
[null,"в том числе:\nТрап","184",0,0,0,0,0,0,0,0,0,0,0,0,0,0,0,0,0,0,0,0,0,0,null,null,{"$f":"Раздел2!#REF!","v":{"$error":"#REF!"}},{"$f":"Раздел2!F191","v":0}]
[null,"Скит","185",0,0,0,0,0,0,0,0,0,0,0,0,0,0,0,0,0,0,0,0,0,0,null,null,{"$f":"Раздел2!#REF!","v":{"$error":"#REF!"}},{"$f":"Раздел2!F192","v":0}]
[null,"Дубль-трап","186",0,0,0,0,0,0,0,0,0,0,0,0,0,0,0,0,0,0,0,0,0,0,null,null,{"$f":"Раздел2!#REF!","v":{"$error":"#REF!"}},{"$f":"Раздел2!F193","v":0}]
[null,"Спортинг","187",0,0,0,0,0,0,0,0,0,0,0,0,0,0,0,0,0,0,0,0,0,0,null,null,{"$f":"Раздел2!#REF!","v":{"$error":"#REF!"}},{"$f":"Раздел2!F194","v":0}]
[null,"Стрельба из арбалета","188",0,0,0,0,0,0,0,0,0,0,0,0,0,0,0,0,0,0,0,0,0,0,null,null,{"$f":"Раздел2!#REF!","v":{"$error":"#REF!"}},{"$f":"Раздел2!F195","v":0}]
[null,"Стрельба из лука - всего","189",0,0,{"$f":"SUM(F197:F199)","v":0},{"$f":"SUM(G197:G199)","v":0},{"$f":"SUM(H197:H199)","v":0},0,{"$f":"SUM(J197:J199)","v":0},{"$f":"SUM(K197:K199)","v":0},{"$f":"SUM(L197:L199)","v":0},0,0,{"$f":"SUM(O197:O199)","v":0},{"$f":"SUM(P197:P199)","v":0},{"$f":"SUM(Q197:Q199)","v":0},0,{"$f":"SUM(S197:S199)","v":0},{"$f":"SUM(T197:T199)","v":0},{"$f":"SUM(U197:U199)","v":0},0,{"$f":"SUM(W197:W199)","v":0},{"$f":"SUM(X197:X199)","v":0},{"$f":"SUM(Y197:Y199)","v":0},null,null,{"$f":"Раздел2!#REF!","v":{"$error":"#REF!"}},{"$f":"Раздел2!F196","v":0}]
[null,"в том числе:\nКлассический лук","190",0,0,0,0,0,0,0,0,0,0,0,0,0,0,0,0,0,0,0,0,0,0,null,null,{"$f":"Раздел2!#REF!","v":{"$error":"#REF!"}},{"$f":"Раздел2!F197","v":0}]
[null,"   Блочный лук","191",0,0,0,0,0,0,0,0,0,0,0,0,0,0,0,0,0,0,0,0,0,0,null,null,{"$f":"Раздел2!#REF!","v":{"$error":"#REF!"}},{"$f":"Раздел2!F198","v":0}]
[null,"   Ачери ","192",0,0,0,0,0,0,0,0,0,0,0,0,0,0,0,0,0,0,0,0,0,0,null,null,{"$f":"Раздел2!#REF!","v":{"$error":"#REF!"}},{"$f":"Раздел2!F199","v":0}]
[null,"Судомодельный спорт","193",0,0,0,0,0,0,0,0,0,0,0,0,0,0,0,0,0,0,0,0,0,0,null,null,{"$f":"Раздел2!#REF!","v":{"$error":"#REF!"}},{"$f":"Раздел2!F200","v":0}]
[null,"Сумо","194",{"$f":"E201+I201","v":0},{"$f":"SUM(F201:H201)","v":0},0,0,0,{"$f":"SUM(J201:L201)","v":0},0,0,0,{"$f":"N201+V201","v":0},{"$f":"SUM(O201:Q201)","v":0},0,0,0,{"$f":"SUM(S201:U201)","v":0},0,0,0,{"$f":"SUM(W201:Y201)","v":0},0,0,0,null,null,{"$f":"Раздел2!#REF!","v":{"$error":"#REF!"}},{"$f":"Раздел2!F201","v":0}]
[null,"Тайский бокс","195",0,0,0,0,0,0,0,0,0,0,0,0,0,0,0,0,0,0,0,0,0,0,null,null,{"$f":"Раздел2!#REF!","v":{"$error":"#REF!"}},{"$f":"Раздел2!F202","v":0}]
[null,"Танцевальный спорт","196",0,0,0,0,0,0,0,0,0,0,0,0,0,0,0,0,0,0,0,0,0,0,null,null,{"$f":"Раздел2!#REF!","v":{"$error":"#REF!"}},{"$f":"Раздел2!F203","v":0}]
[null,"Теннис","197",0,0,0,0,0,0,0,0,0,0,0,0,0,0,0,0,0,0,0,0,0,0,null,null,{"$f":"Раздел2!#REF!","v":{"$error":"#REF!"}},{"$f":"Раздел2!F204","v":0}]
[null,"Триатлон","198",0,0,0,0,0,0,0,0,0,0,0,0,0,0,0,0,0,0,0,0,0,0,null,null,{"$f":"Раздел2!#REF!","v":{"$error":"#REF!"}},{"$f":"Раздел2!F205","v":0}]
[null,"Тхэквондо - всего","199",0,0,{"$f":"SUM(F207:F208)","v":0},{"$f":"SUM(G207:G208)","v":0},{"$f":"SUM(H207:H208)","v":0},0,{"$f":"SUM(J207:J208)","v":0},{"$f":"SUM(K207:K208)","v":0},{"$f":"SUM(L207:L208)","v":0},0,0,{"$f":"SUM(O207:O208)","v":0},{"$f":"SUM(P207:P208)","v":0},{"$f":"SUM(Q207:Q208)","v":0},0,{"$f":"SUM(S207:S208)","v":0},{"$f":"SUM(T207:T208)","v":0},{"$f":"SUM(U207:U208)","v":0},0,{"$f":"SUM(W207:W208)","v":0},{"$f":"SUM(X207:X208)","v":0},{"$f":"SUM(Y207:Y208)","v":0},null,null,{"$f":"Раздел2!#REF!","v":{"$error":"#REF!"}},{"$f":"Раздел2!F206","v":0}]
[null,"в том числе:\nТхэквондо (ГТФ, ИТФ, МФТ)","200",0,0,0,0,0,0,0,0,0,0,0,0,0,0,0,0,0,0,0,0,0,0,null,null,{"$f":"Раздел2!#REF!","v":{"$error":"#REF!"}},{"$f":"Раздел2!F207","v":0}]
[null,"Тхэквондо (ВТФ)","201",0,0,0,0,0,0,0,0,0,0,0,0,0,0,0,0,0,0,0,0,0,0,null,null,{"$f":"Раздел2!#REF!","v":{"$error":"#REF!"}},{"$f":"Раздел2!F208","v":0}]
[null,"Тяжелая атлетика","202",0,0,0,0,0,0,0,0,0,0,0,0,0,0,0,0,0,0,0,0,0,0,null,null,{"$f":"Раздел2!#REF!","v":{"$error":"#REF!"}},{"$f":"Раздел2!F209","v":0}]
[null,"Универсальный бой","203",0,0,0,0,0,0,0,0,0,0,0,0,0,0,0,0,0,0,0,0,0,0,null,null,{"$f":"Раздел2!#REF!","v":{"$error":"#REF!"}},{"$f":"Раздел2!F210","v":0}]
[null,"Ушу","204",0,0,0,0,0,0,0,0,0,0,0,0,0,0,0,0,0,0,0,0,0,0,null,null,{"$f":"Раздел2!#REF!","v":{"$error":"#REF!"}},{"$f":"Раздел2!F211","v":0}]
[null,"Фехтование - всего","205",0,0,{"$f":"SUM(F213:F216)","v":0},{"$f":"SUM(G213:G216)","v":0},{"$f":"SUM(H213:H216)","v":0},0,{"$f":"SUM(J213:J216)","v":0},{"$f":"SUM(K213:K216)","v":0},{"$f":"SUM(L213:L216)","v":0},0,0,{"$f":"SUM(O213:O216)","v":0},{"$f":"SUM(P213:P216)","v":0},{"$f":"SUM(Q213:Q216)","v":0},0,{"$f":"SUM(S213:S216)","v":0},{"$f":"SUM(T213:T216)","v":0},{"$f":"SUM(U213:U216)","v":0},0,{"$f":"SUM(W213:W216)","v":0},{"$f":"SUM(X213:X216)","v":0},{"$f":"SUM(Y213:Y216)","v":0},null,null,{"$f":"Раздел2!#REF!","v":{"$error":"#REF!"}},{"$f":"Раздел2!F212","v":0}]
[null,"в том числе:\nРапира","206",0,0,0,0,0,0,0,0,0,0,0,0,0,0,0,0,0,0,0,0,0,0,null,null,{"$f":"Раздел2!#REF!","v":{"$error":"#REF!"}},{"$f":"Раздел2!F213","v":0}]
[null,"Сабля","207",0,0,0,0,0,0,0,0,0,0,0,0,0,0,0,0,0,0,0,0,0,0,null,null,{"$f":"Раздел2!#REF!","v":{"$error":"#REF!"}},{"$f":"Раздел2!F214","v":0}]
[null,"Шпага","208",0,0,0,0,0,0,0,0,0,0,0,0,0,0,0,0,0,0,0,0,0,0,null,null,{"$f":"Раздел2!#REF!","v":{"$error":"#REF!"}},{"$f":"Раздел2!F215","v":0}]
[null,"Арт-фехтование","209",0,0,0,0,0,0,0,0,0,0,0,0,0,0,0,0,0,0,0,0,0,0,null,null,{"$f":"Раздел2!#REF!","v":{"$error":"#REF!"}},{"$f":"Раздел2!F216","v":0}]
[null,"Фигурное катание на коньках","210",0,0,0,0,0,0,0,0,0,0,0,0,0,0,0,0,0,0,0,0,0,0,null,null,{"$f":"Раздел2!#REF!","v":{"$error":"#REF!"}},{"$f":"Раздел2!F217","v":0}]
[null,"Фитнес-аэробика","211",0,0,0,0,0,0,0,0,0,0,0,0,0,0,0,0,0,0,0,0,0,0,null,null,{"$f":"Раздел2!#REF!","v":{"$error":"#REF!"}},{"$f":"Раздел2!F218","v":0}]
[null,"Флаинг диск","212",0,0,0,0,0,0,0,0,0,0,0,0,0,0,0,0,0,0,0,0,0,0,null,null,{"$f":"Раздел2!#REF!","v":{"$error":"#REF!"}},{"$f":"Раздел2!F219","v":0}]
[null,"Флорбол","213",0,0,0,0,0,0,0,0,0,0,0,0,0,0,0,0,0,0,0,0,0,0,null,null,{"$f":"Раздел2!#REF!","v":{"$error":"#REF!"}},{"$f":"Раздел2!F220","v":0}]
[null,"Фристайл - всего","214",0,0,{"$f":"SUM(F222:F226)","v":0},{"$f":"SUM(G222:G226)","v":0},{"$f":"SUM(H222:H226)","v":0},0,{"$f":"SUM(J222:J226)","v":0},{"$f":"SUM(K222:K226)","v":0},{"$f":"SUM(L222:L226)","v":0},0,0,{"$f":"SUM(O222:O226)","v":0},{"$f":"SUM(P222:P226)","v":0},{"$f":"SUM(Q222:Q226)","v":0},0,{"$f":"SUM(S222:S226)","v":0},{"$f":"SUM(T222:T226)","v":0},{"$f":"SUM(U222:U226)","v":0},0,{"$f":"SUM(W222:W226)","v":0},{"$f":"SUM(X222:X226)","v":0},{"$f":"SUM(Y222:Y226)","v":0},null,null,{"$f":"Раздел2!#REF!","v":{"$error":"#REF!"}},{"$f":"Раздел2!F221","v":0}]
[null,"в том числе:\nАкробатика","215",0,0,0,0,0,0,0,0,0,0,0,0,0,0,0,0,0,0,0,0,0,0,null,null,{"$f":"Раздел2!#REF!","v":{"$error":"#REF!"}},{"$f":"Раздел2!F222","v":0}]
[null,"Могул","216",0,0,0,0,0,0,0,0,0,0,0,0,0,0,0,0,0,0,0,0,0,0,null,null,{"$f":"Раздел2!#REF!","v":{"$error":"#REF!"}},{"$f":"Раздел2!F223","v":0}]
[null,"Ски-кросс","217",0,0,0,0,0,0,0,0,0,0,0,0,0,0,0,0,0,0,0,0,0,0,null,null,{"$f":"Раздел2!#REF!","v":{"$error":"#REF!"}},{"$f":"Раздел2!F224","v":0}]
[null,"Хаф-пайп","218",0,0,0,0,0,0,0,0,0,0,0,0,0,0,0,0,0,0,0,0,0,0,null,null,{"$f":"Раздел2!#REF!","v":{"$error":"#REF!"}},{"$f":"Раздел2!F225","v":0}]
[null,"Слоуп-стайл","219",0,0,0,0,0,0,0,0,0,0,0,0,0,0,0,0,0,0,0,0,0,0,null,null,{"$f":"Раздел2!#REF!","v":{"$error":"#REF!"}},{"$f":"Раздел2!F226","v":0}]
[null,"Футбол - всего","220",10,10,{"$f":"SUM(F228:F231)","v":0},{"$f":"SUM(G228:G231)","v":0},{"$f":"SUM(H228:H231)","v":10},0,{"$f":"SUM(J228:J231)","v":0},{"$f":"SUM(K228:K231)","v":0},{"$f":"SUM(L228:L231)","v":0},10,10,{"$f":"SUM(O228:O231)","v":0},{"$f":"SUM(P228:P231)","v":0},{"$f":"SUM(Q228:Q231)","v":10},0,{"$f":"SUM(S228:S231)","v":0},{"$f":"SUM(T228:T231)","v":0},{"$f":"SUM(U228:U231)","v":0},0,{"$f":"SUM(W228:W231)","v":0},{"$f":"SUM(X228:X231)","v":0},{"$f":"SUM(Y228:Y231)","v":0},null,null,{"$f":"Раздел2!#REF!","v":{"$error":"#REF!"}},{"$f":"Раздел2!F227","v":123}]
[null,"в том числе:\nФутбол (муж.)","221",9,9,0,0,9,0,0,0,0,9,9,0,0,9,0,0,0,0,0,0,0,0,null,null,{"$f":"Раздел2!#REF!","v":{"$error":"#REF!"}},{"$f":"Раздел2!F228","v":115}]
[null,"Футбол (жен.)","222",1,1,0,0,1,0,0,0,0,1,1,0,0,1,0,0,0,0,0,0,0,0,null,null,{"$f":"Раздел2!#REF!","v":{"$error":"#REF!"}},{"$f":"Раздел2!F229","v":8}]
[null,"Мини-футбол (футзал)","223",0,0,0,0,0,0,0,0,0,0,0,0,0,0,0,0,0,0,0,0,0,0,null,null,{"$f":"Раздел2!#REF!","v":{"$error":"#REF!"}},{"$f":"Раздел2!F230","v":0}]
[null,"Пляжный футбол","224",0,0,0,0,0,0,0,0,0,0,0,0,0,0,0,0,0,0,0,0,0,0,null,null,{"$f":"Раздел2!#REF!","v":{"$error":"#REF!"}},{"$f":"Раздел2!F231","v":0}]
[null,"Хапсагай","225",0,0,0,0,0,0,0,0,0,0,0,0,0,0,0,0,0,0,0,0,0,0,null,null,{"$f":"Раздел2!#REF!","v":{"$error":"#REF!"}},{"$f":"Раздел2!F232","v":0}]
[null,"Хоккей - всего","226",0,0,{"$f":"SUM(F234:F235)","v":0},{"$f":"SUM(G234:G235)","v":0},{"$f":"SUM(H234:H235)","v":0},0,{"$f":"SUM(J234:J235)","v":0},{"$f":"SUM(K234:K235)","v":0},{"$f":"SUM(L234:L235)","v":0},0,0,{"$f":"SUM(O234:O235)","v":0},{"$f":"SUM(P234:P235)","v":0},{"$f":"SUM(Q234:Q235)","v":0},0,{"$f":"SUM(S234:S235)","v":0},{"$f":"SUM(T234:T235)","v":0},{"$f":"SUM(U234:U235)","v":0},0,{"$f":"SUM(W234:W235)","v":0},{"$f":"SUM(X234:X235)","v":0},{"$f":"SUM(Y234:Y235)","v":0},null,null,{"$f":"Раздел2!#REF!","v":{"$error":"#REF!"}},{"$f":"Раздел2!F233","v":0}]
[null,"в том числе:\nХоккей (муж.)","227",0,0,0,0,0,0,0,0,0,0,0,0,0,0,0,0,0,0,0,0,0,0,null,null,{"$f":"Раздел2!#REF!","v":{"$error":"#REF!"}},{"$f":"Раздел2!F234","v":0}]
[null,"Хоккей (жен.)","228",0,0,0,0,0,0,0,0,0,0,0,0,0,0,0,0,0,0,0,0,0,0,null,null,{"$f":"Раздел2!#REF!","v":{"$error":"#REF!"}},{"$f":"Раздел2!F235","v":0}]
[null,"Хоккей на траве - всего","229",0,0,{"$f":"SUM(F237:F239)","v":0},{"$f":"SUM(G237:G239)","v":0},{"$f":"SUM(H237:H239)","v":0},0,{"$f":"SUM(J237:J239)","v":0},{"$f":"SUM(K237:K239)","v":0},{"$f":"SUM(L237:L239)","v":0},0,0,{"$f":"SUM(O237:O239)","v":0},{"$f":"SUM(P237:P239)","v":0},{"$f":"SUM(Q237:Q239)","v":0},0,{"$f":"SUM(S237:S239)","v":0},{"$f":"SUM(T237:T239)","v":0},{"$f":"SUM(U237:U239)","v":0},0,{"$f":"SUM(W237:W239)","v":0},{"$f":"SUM(X237:X239)","v":0},{"$f":"SUM(Y237:Y239)","v":0},null,null,{"$f":"Раздел2!#REF!","v":{"$error":"#REF!"}},{"$f":"Раздел2!F236","v":0}]
[null,"в том числе:\nХоккей на траве (муж.)","230",0,0,null,null,null,0,null,null,null,0,0,null,null,null,0,null,null,null,0,null,null,null,null,null,{"$f":"Раздел2!#REF!","v":{"$error":"#REF!"}},{"$f":"Раздел2!F237","v":0}]
[null,"Хоккей на траве (жен.)","231",0,0,null,null,null,0,null,null,null,0,0,null,null,null,0,null,null,null,0,null,null,null,null,null,{"$f":"Раздел2!#REF!","v":{"$error":"#REF!"}},{"$f":"Раздел2!F238","v":0}]
[null,"Индорхоккей","232",0,0,null,null,null,0,null,null,null,0,0,null,null,null,0,null,null,null,0,null,null,null,null,null,{"$f":"Раздел2!#REF!","v":{"$error":"#REF!"}},{"$f":"Раздел2!F239","v":0}]
[null,"Хоккей с мячом","233",0,0,null,null,null,0,null,null,null,0,0,null,null,null,0,null,null,null,0,null,null,null,null,null,{"$f":"Раздел2!#REF!","v":{"$error":"#REF!"}},{"$f":"Раздел2!F240","v":0}]
[null,"Художественная гимнастика","234",58,58,null,null,58,0,null,null,null,61,61,null,null,61,0,null,null,null,0,null,null,null,null,null,{"$f":"Раздел2!#REF!","v":{"$error":"#REF!"}},{"$f":"Раздел2!F241","v":102}]
[null,"Хуреш","235",0,0,null,null,null,0,null,null,null,0,0,null,null,null,0,null,null,null,0,null,null,null,null,null,{"$f":"Раздел2!#REF!","v":{"$error":"#REF!"}},{"$f":"Раздел2!F242","v":0}]
[null,"Черлидинг","236",0,0,null,null,null,0,null,null,null,0,0,null,null,null,0,null,null,null,0,null,null,null,null,null,{"$f":"Раздел2!#REF!","v":{"$error":"#REF!"}},{"$f":"Раздел2!F243","v":0}]
[null,"Чир спорт","237",0,0,null,null,null,0,null,null,null,0,0,null,null,null,0,null,null,null,0,null,null,null,null,null,{"$f":"Раздел2!#REF!","v":{"$error":"#REF!"}},{"$f":"Раздел2!F244","v":0}]
[null,"Шахматы","238",0,0,null,null,null,0,null,null,null,0,0,null,null,null,0,null,null,null,0,null,null,null,null,null,{"$f":"Раздел2!#REF!","v":{"$error":"#REF!"}},{"$f":"Раздел2!F245","v":0}]
[null,"Шашки","239",0,0,null,null,null,0,null,null,null,0,0,null,null,null,0,null,null,null,0,null,null,null,null,null,{"$f":"Раздел2!#REF!","v":{"$error":"#REF!"}},{"$f":"Раздел2!F246","v":0}]
[null,"Эстетическая гимнастика","240",0,0,null,null,null,0,null,null,null,0,0,null,null,null,0,null,null,null,0,null,null,null,null,null,{"$f":"Раздел2!#REF!","v":{"$error":"#REF!"}},{"$f":"Раздел2!F247","v":0}]
[null,"Якутские национальные прыжки","241",0,0,null,null,null,0,null,null,null,0,0,null,null,null,0,null,null,null,0,null,null,null,null,null,{"$f":"Раздел2!#REF!","v":{"$error":"#REF!"}},{"$f":"Раздел2!F248","v":0}]
[null,"ИТОГО","242",222,222,{"$f":"SUM(F8:F19,F22:F25,F28:F38,F41:F45,F50:F52,F56:F64,F69:F78,F81:F87,F90:F93,F101:F115,F118:F123,F126,F131,F132,F138:F141,F146:F179,F185:F190,F195,F196,F200:F206,F209:F212,F217:F221,F227,F232,F233,F236,F240:F248)","v":4},{"$f":"SUM(G8:G19,G22:G25,G28:G38,G41:G45,G50:G52,G56:G64,G69:G78,G81:G87,G90:G93,G101:G115,G118:G123,G126,G131,G132,G138:G141,G146:G179,G185:G190,G195,G196,G200:G206,G209:G212,G217:G221,G227,G232,G233,G236,G240:G248)","v":3},{"$f":"SUM(H8:H19,H22:H25,H28:H38,H41:H45,H50:H52,H56:H64,H69:H78,H81:H87,H90:H93,H101:H115,H118:H123,H126,H131,H132,H138:H141,H146:H179,H185:H190,H195,H196,H200:H206,H209:H212,H217:H221,H227,H232,H233,H236,H240:H248)","v":215},0,{"$f":"SUM(J8:J19,J22:J25,J28:J38,J41:J45,J50:J52,J56:J64,J69:J78,J81:J87,J90:J93,J101:J115,J118:J123,J126,J131,J132,J138:J141,J146:J179,J185:J190,J195,J196,J200:J206,J209:J212,J217:J221,J227,J232,J233,J236,J240:J248)","v":0},{"$f":"SUM(K8:K19,K22:K25,K28:K38,K41:K45,K50:K52,K56:K64,K69:K78,K81:K87,K90:K93,K101:K115,K118:K123,K126,K131,K132,K138:K141,K146:K179,K185:K190,K195,K196,K200:K206,K209:K212,K217:K221,K227,K232,K233,K236,K240:K248)","v":0},{"$f":"SUM(L8:L19,L22:L25,L28:L38,L41:L45,L50:L52,L56:L64,L69:L78,L81:L87,L90:L93,L101:L115,L118:L123,L126,L131,L132,L138:L141,L146:L179,L185:L190,L195,L196,L200:L206,L209:L212,L217:L221,L227,L232,L233,L236,L240:L248)","v":0},182,182,{"$f":"SUM(O8:O19,O22:O25,O28:O38,O41:O45,O50:O52,O56:O64,O69:O78,O81:O87,O90:O93,O101:O115,O118:O123,O126,O131,O132,O138:O141,O146:O179,O185:O190,O195,O196,O200:O206,O209:O212,O217:O221,O227,O232,O233,O236,O240:O248)","v":5},{"$f":"SUM(P8:P19,P22:P25,P28:P38,P41:P45,P50:P52,P56:P64,P69:P78,P81:P87,P90:P93,P101:P115,P118:P123,P126,P131,P132,P138:P141,P146:P179,P185:P190,P195,P196,P200:P206,P209:P212,P217:P221,P227,P232,P233,P236,P240:P248)","v":0},{"$f":"SUM(Q8:Q19,Q22:Q25,Q28:Q38,Q41:Q45,Q50:Q52,Q56:Q64,Q69:Q78,Q81:Q87,Q90:Q93,Q101:Q115,Q118:Q123,Q126,Q131,Q132,Q138:Q141,Q146:Q179,Q185:Q190,Q195,Q196,Q200:Q206,Q209:Q212,Q217:Q221,Q227,Q232,Q233,Q236,Q240:Q248)","v":177},0,{"$f":"SUM(S8:S19,S22:S25,S28:S38,S41:S45,S50:S52,S56:S64,S69:S78,S81:S87,S90:S93,S101:S115,S118:S123,S126,S131,S132,S138:S141,S146:S179,S185:S190,S195,S196,S200:S206,S209:S212,S217:S221,S227,S232,S233,S236,S240:S248)","v":0},{"$f":"SUM(T8:T19,T22:T25,T28:T38,T41:T45,T50:T52,T56:T64,T69:T78,T81:T87,T90:T93,T101:T115,T118:T123,T126,T131,T132,T138:T141,T146:T179,T185:T190,T195,T196,T200:T206,T209:T212,T217:T221,T227,T232,T233,T236,T240:T248)","v":0},{"$f":"SUM(U8:U19,U22:U25,U28:U38,U41:U45,U50:U52,U56:U64,U69:U78,U81:U87,U90:U93,U101:U115,U118:U123,U126,U131,U132,U138:U141,U146:U179,U185:U190,U195,U196,U200:U206,U209:U212,U217:U221,U227,U232,U233,U236,U240:U248)","v":0},0,{"$f":"SUM(W8:W19,W22:W25,W28:W38,W41:W45,W50:W52,W56:W64,W69:W78,W81:W87,W90:W93,W101:W115,W118:W123,W126,W131,W132,W138:W141,W146:W179,W185:W190,W195,W196,W200:W206,W209:W212,W217:W221,W227,W232,W233,W236,W240:W248)","v":0},{"$f":"SUM(X8:X19,X22:X25,X28:X38,X41:X45,X50:X52,X56:X64,X69:X78,X81:X87,X90:X93,X101:X115,X118:X123,X126,X131,X132,X138:X141,X146:X179,X185:X190,X195,X196,X200:X206,X209:X212,X217:X221,X227,X232,X233,X236,X240:X248)","v":0},{"$f":"SUM(Y8:Y19,Y22:Y25,Y28:Y38,Y41:Y45,Y50:Y52,Y56:Y64,Y69:Y78,Y81:Y87,Y90:Y93,Y101:Y115,Y118:Y123,Y126,Y131,Y132,Y138:Y141,Y146:Y179,Y185:Y190,Y195,Y196,Y200:Y206,Y209:Y212,Y217:Y221,Y227,Y232,Y233,Y236,Y240:Y248)","v":0},null,null,{"$f":"Раздел2!#REF!","v":{"$error":"#REF!"}},{"$f":"Раздел2!F249","v":1295}]

{"sheet":"Раздел5","index":5,"n_rows":248,"n_cols":18,"rows_kept":248,"cut":false,"hidden":false,"merged":[[0,0,117,0],[2,1,4,1],[2,2,4,2],[0,1,0,14],[2,3,2,8],[2,9,2,14],[1,1,1,14],[3,3,3,4],[3,5,3,6],[3,7,3,8],[3,11,3,12],[3,9,3,10],[3,13,3,14],[2,17,4,17],[0,15,117,15]]}
[null,"                        Раздел V. Занимающиеся – кандидаты в спортивные сборные команды России"]
[null,"Код по ОКЕИ: человек 792"]
[null,"Виды спорта","№ строки","Из числа занимающихся (гр. 5 раздела II) – кандидаты, состоящие в списках спортивных сборных команд",null,null,null,null,null,"Кандидаты, подготовленные в отчетном году"]
[null,null,null,"Юношеский состав",null,"Юниорский состав",null,"Основной состав",null,"Юношеский состав",null,"Юниорский состав",null,"Основной состав"]
[null,null,null,"основной","резерв","основной","резерв","основной","резерв","основной","резерв","основной","резерв","основной","резерв"]
[null,1,2,3,4,5,6,7,8,9,10,11,12,13,14]
[null,"Авиамодельный спорт","01",null,null,null,null,null,null,null,null,null,null,null,null,null,null,{"$f":"Раздел2!F8","v":0}]
[null,"Автомобильный спорт","02",null,null,null,null,null,null,null,null,null,null,null,null,null,null,{"$f":"Раздел2!F9","v":0}]
[null,"Автомодельный спорт","03",null,null,null,null,null,null,null,null,null,null,null,null,null,null,{"$f":"Раздел2!F10","v":0}]
[null,"Айкидо","04",null,null,null,null,null,null,null,null,null,null,null,null,null,null,{"$f":"Раздел2!F11","v":0}]
[null,"Айсшток","05",null,null,null,null,null,null,null,null,null,null,null,null,null,null,{"$f":"Раздел2!F12","v":0}]
[null,"Акробатический рок-н-ролл","06",null,null,null,null,null,null,null,null,null,null,null,null,null,null,{"$f":"Раздел2!F13","v":0}]
[null,"Альпинизм","07",0,0,0,0,0,0,0,0,0,0,0,0,null,null,{"$f":"Раздел2!F14","v":0}]
[null,"Американский футбол","08",0,0,0,0,0,0,0,0,0,0,0,0,null,null,{"$f":"Раздел2!F15","v":0}]
[null,"Армейский рукопашный бой","09",null,null,null,null,null,null,null,null,null,null,null,null,null,null,{"$f":"Раздел2!F16","v":0}]
[null,"Армрестлинг","10",0,0,0,0,0,0,0,0,0,0,0,0,null,null,{"$f":"Раздел2!F17","v":0}]
[null,"Бадминтон","11",0,0,0,0,0,0,0,0,0,0,0,0,null,null,{"$f":"Раздел2!F18","v":0}]
[null,"Баскетбол - всего","12",{"$f":"SUM(D19:D20)","v":0},0,0,0,0,0,0,0,0,0,0,0,null,null,{"$f":"Раздел2!F19","v":134}]
[null,"в том числе:\nБаскетбол (муж.)","13",0,0,0,0,0,0,0,0,0,0,0,0,null,null,{"$f":"Раздел2!F20","v":93}]
[null,"Баскетбол (жен.)","14",null,null,null,null,null,null,null,null,null,null,null,null,null,null,{"$f":"Раздел2!F21","v":41}]
[null,"Бейсбол","15",0,0,0,0,0,0,0,0,0,0,0,0,null,null,{"$f":"Раздел2!F22","v":0}]
[null,"Биатлон","16",0,0,0,0,0,0,0,0,0,0,0,0,null,null,{"$f":"Раздел2!F23","v":0}]
[null,"Бильярдный спорт","17",0,0,0,0,0,0,0,0,0,0,0,0,null,null,{"$f":"Раздел2!F24","v":0}]
[null,"Бобслей - всего","18",{"$f":"SUM(D25:D26)","v":0},0,0,0,0,0,0,0,0,0,0,0,null,null,{"$f":"Раздел2!F25","v":0}]
[null,"в том числе:\nБобслей","19",0,0,0,0,0,0,0,0,0,0,0,0,null,null,{"$f":"Раздел2!F26","v":0}]
[null,"Скелетон","20",0,0,0,0,0,0,0,0,0,0,0,0,null,null,{"$f":"Раздел2!F27","v":0}]
[null,"Бодибилдинг","21",0,0,0,0,0,0,0,0,0,0,0,0,null,null,{"$f":"Раздел2!F28","v":0}]
[null,"Бокс","22",0,0,0,0,0,0,0,0,0,0,0,0,null,null,{"$f":"Раздел2!F29","v":90}]
[null,"Борьба на поясах","23",0,0,0,0,0,0,0,0,0,0,0,0,null,null,{"$f":"Раздел2!F30","v":0}]
[null,"Боулинг","24",0,0,0,0,0,0,0,0,0,0,0,0,null,null,{"$f":"Раздел2!F31","v":0}]
[null,"Велоспорт ВМХ","25",0,0,0,0,0,0,0,0,0,0,0,0,null,null,{"$f":"Раздел2!F32","v":0}]
[null,"Велоспорт – маунтинбайк","26",0,0,0,0,0,0,0,0,0,0,0,0,null,null,{"$f":"Раздел2!F33","v":0}]
[null,"Велоспорт – трек","27",0,0,0,0,0,0,0,0,0,0,0,0,null,null,{"$f":"Раздел2!F34","v":0}]
[null,"Велоспорт – шоссе","28",0,0,0,0,0,0,0,0,0,0,0,0,null,null,{"$f":"Раздел2!F35","v":0}]
[null,"Вертолетный спорт","29",0,0,0,0,0,0,0,0,0,0,0,0,null,null,{"$f":"Раздел2!F36","v":0}]
[null,"Водно-моторный спорт","30",0,0,0,0,0,0,0,0,0,0,0,0,null,null,{"$f":"Раздел2!F37","v":0}]
[null,"Водное поло - всего ","31",{"$f":"SUM(D38:D39)","v":0},0,0,0,0,0,0,0,0,0,0,0,null,null,{"$f":"Раздел2!F38","v":0}]
[null,"в том числе:\nВодное поло (муж.)","32",null,null,null,null,null,null,null,null,null,null,null,null,null,null,{"$f":"Раздел2!F39","v":0}]
[null,"Водное поло (жен.)","33",null,null,null,null,null,null,null,null,null,null,null,null,null,null,{"$f":"Раздел2!F40","v":0}]
[null,"Воднолыжный спорт","34",null,null,null,null,null,null,null,null,null,null,null,null,null,null,{"$f":"Раздел2!F41","v":0}]
[null,"Военно-прикладной спорт","35",null,null,null,null,null,null,null,null,null,null,null,null,null,null,{"$f":"Раздел2!F42","v":0}]
[null,"Военно-спортивное многоборье","36",null,null,null,null,null,null,null,null,null,null,null,null,null,null,{"$f":"Раздел2!F43","v":0}]
[null,"Воздухоплавательный спорт","37",0,0,0,0,0,0,0,0,0,0,0,0,null,null,{"$f":"Раздел2!F44","v":0}]
[null,"Волейбол - всего","38",{"$f":"SUM(D45:D48)","v":0},0,0,0,0,0,0,0,0,0,0,0,null,null,{"$f":"Раздел2!F45","v":80}]
[null,"в том числе:\nВолейбол (муж.)","39",0,0,0,0,0,0,0,0,0,0,0,0,null,null,{"$f":"Раздел2!F46","v":21}]
[null,"Волейбол (жен.)","40",null,null,null,null,null,null,null,null,null,null,null,null,null,null,{"$f":"Раздел2!F47","v":59}]
[null,"Пляжный волейбол (муж.)","41",0,0,0,0,0,0,0,0,0,0,0,0,null,null,{"$f":"Раздел2!F48","v":0}]
[null,"Пляжный волейбол (жен.)","42",0,0,0,0,0,0,0,0,0,0,0,0,null,null,{"$f":"Раздел2!F49","v":0}]
[null,"Восточное боевое единоборство","43",0,0,0,0,0,0,0,0,0,0,0,0,null,null,{"$f":"Раздел2!F50","v":0}]
[null,"Всестилевое карате","44",0,0,0,0,0,0,0,0,0,0,0,0,null,null,{"$f":"Раздел2!F51","v":0}]
[null,"Гандбол - всего","45",{"$f":"SUM(D52:D54)","v":0},0,0,0,0,0,0,0,0,0,0,0,null,null,{"$f":"Раздел2!F52","v":0}]
[null,"в том числе:\nГандбол (муж.)","46",0,0,0,0,0,0,0,0,0,0,0,0,null,null,{"$f":"Раздел2!F53","v":0}]
[null,"Гандбол (жен.)","47",0,0,0,0,0,0,0,0,0,0,0,0,null,null,{"$f":"Раздел2!F54","v":0}]
[null,"Пляжный гандбол","48",null,null,null,null,null,null,null,null,null,null,null,null,null,null,{"$f":"Раздел2!F55","v":0}]
[null,"Гиревой спорт","49",0,0,0,0,0,0,0,0,0,0,0,0,null,null,{"$f":"Раздел2!F56","v":0}]
[null,"Го","50",0,0,0,0,0,0,0,0,0,0,0,0,null,null,{"$f":"Раздел2!F57","v":0}]
[null,"Гольф","51",0,0,0,0,0,0,0,0,0,0,0,0,null,null,{"$f":"Раздел2!F58","v":0}]
[null,"Горнолыжный спорт","52",0,0,0,0,0,0,0,0,0,0,0,0,null,null,{"$f":"Раздел2!F59","v":0}]
[null,"Городошный спорт","53",0,0,0,0,0,0,0,0,0,0,0,0,null,null,{"$f":"Раздел2!F60","v":0}]
[null,"Гребля на байдарках и каноэ","54",0,0,0,0,0,0,0,0,0,0,0,0,null,null,{"$f":"Раздел2!F61","v":0}]
[null,"Гребля на шлюпках","55",null,null,null,null,null,null,null,null,null,null,null,null,null,null,{"$f":"Раздел2!F62","v":0}]
[null,"Гребной слалом","56",0,0,0,0,0,0,0,0,0,0,0,0,null,null,{"$f":"Раздел2!F63","v":0}]
[null,"Гребной спорт - всего","57",{"$f":"SUM(D64:D67)","v":0},0,0,0,0,0,0,0,0,0,0,0,null,null,{"$f":"Раздел2!F64","v":0}]
[null,"в том числе:\nАкадемическая гребля","58",0,0,0,0,0,0,0,0,0,0,0,0,null,null,{"$f":"Раздел2!F65","v":0}]
[null,"Гребля-индор","59",0,0,0,0,0,0,0,0,0,0,0,0,null,null,{"$f":"Раздел2!F66","v":0}]
[null,"Народная гребля","60",0,0,0,0,0,0,0,0,0,0,0,0,null,null,{"$f":"Раздел2!F67","v":0}]
[null,"Прибрежная гребля","61",0,0,0,0,0,0,0,0,0,0,0,0,null,null,{"$f":"Раздел2!F68","v":0}]
[null,"Гребно-парусное двоеборье","62",0,0,0,0,0,0,0,0,0,0,0,0,null,null,{"$f":"Раздел2!F69","v":0}]
[null,"Дартс","63",0,0,0,0,0,0,0,0,0,0,0,0,null,null,{"$f":"Раздел2!F70","v":0}]
[null,"Джиу-джитсу","64",0,0,0,0,0,0,0,0,0,0,0,0,null,null,{"$f":"Раздел2!F71","v":0}]
[null,"Дзюдо","65",0,0,0,0,0,0,0,0,0,0,0,0,null,null,{"$f":"Раздел2!F72","v":282}]
[null,"Ездовой спорт","66",0,0,0,0,0,0,0,0,0,0,0,0,null,null,{"$f":"Раздел2!F73","v":0}]
[null,"Капоэйра","67",0,0,0,0,0,0,0,0,0,0,0,0,null,null,{"$f":"Раздел2!F74","v":0}]
[null,"Каратэ","68",0,0,0,0,0,0,0,0,0,0,0,0,null,null,{"$f":"Раздел2!F75","v":0}]
[null,"Кендо","69",0,0,0,0,0,0,0,0,0,0,0,0,null,null,{"$f":"Раздел2!F76","v":0}]
[null,"Керешу","70",0,0,0,0,0,0,0,0,0,0,0,0,null,null,{"$f":"Раздел2!F77","v":0}]
[null,"Керлинг - всего","71",{"$f":"SUM(D78:D79)","v":0},0,0,0,0,0,0,0,0,0,0,0,null,null,{"$f":"Раздел2!F78","v":0}]
[null,"в том числе:\nКерлинг (муж.)","72",0,0,0,0,0,0,0,0,0,0,0,0,null,null,{"$f":"Раздел2!F79","v":0}]
[null,"Керлинг (жен.)","73",0,0,0,0,0,0,0,0,0,0,0,0,null,null,{"$f":"Раздел2!F80","v":0}]
[null,"Кикбоксинг","74",0,0,0,0,0,0,0,0,0,0,0,0,null,null,{"$f":"Раздел2!F81","v":0}]
[null,"Кинологический спорт","75",0,0,0,0,0,0,0,0,0,0,0,0,null,null,{"$f":"Раздел2!F82","v":0}]
[null,"Киокусинкай","76",0,0,0,0,0,0,0,0,0,0,0,0,null,null,{"$f":"Раздел2!F83","v":0}]
[null,"Комплексное единоборство","77",0,0,0,0,0,0,0,0,0,0,0,0,null,null,{"$f":"Раздел2!F84","v":0}]
[null,"Компьютерный спорт","78",0,0,0,0,0,0,0,0,0,0,0,0,null,null,{"$f":"Раздел2!F85","v":0}]
[null,"Конный спорт","79",0,0,0,0,0,0,0,0,0,0,0,0,null,null,{"$f":"Раздел2!F86","v":0}]
[null,"Конькобежный спорт - всего","80",{"$f":"SUM(D87:D88)","v":0},0,0,0,0,0,0,0,0,0,0,0,null,null,{"$f":"Раздел2!F87","v":0}]
[null,"в том числе:\nКонькобежный спорт","81",0,0,0,0,0,0,0,0,0,0,0,0,null,null,{"$f":"Раздел2!F88","v":0}]
[null,"Шорт-трек","82",0,0,0,0,0,0,0,0,0,0,0,0,null,null,{"$f":"Раздел2!F89","v":0}]
[null,"Корэш","83",0,0,0,0,0,0,0,0,0,0,0,0,null,null,{"$f":"Раздел2!F90","v":0}]
[null,"Корфбол","84",0,0,0,0,0,0,0,0,0,0,0,0,null,null,{"$f":"Раздел2!F91","v":0}]
[null,"Лапта","85",0,0,0,0,0,0,0,0,0,0,0,0,null,null,{"$f":"Раздел2!F92","v":0}]
[null,"Легкая атлетика - всего","86",{"$f":"SUM(D93:D99)","v":0},0,0,0,0,0,0,0,0,0,0,0,null,null,{"$f":"Раздел2!F93","v":187}]
[null,"в том числе:\nСпринтерский и барьерный бег","87",0,0,0,0,0,0,0,0,0,0,0,0,null,null,{"$f":"Раздел2!F94","v":0}]
[null,"Бег на средние дистанции и бег с препятствиями","88",0,0,0,0,0,0,0,0,0,0,0,0,null,null,{"$f":"Раздел2!F95","v":0}]
[null,"Бег на длинные и сверхдлинные дистанции","89",0,0,0,0,0,0,0,0,0,0,0,0,null,null,{"$f":"Раздел2!F96","v":0}]
[null,"Многоборья","90",0,0,0,0,0,0,0,0,0,0,0,0,null,null,{"$f":"Раздел2!F97","v":187}]
[null,"Прыжки","91",0,0,0,0,0,0,0,0,0,0,0,0,null,null,{"$f":"Раздел2!F98","v":0}]
[null,"Метания","92",0,0,0,0,0,0,0,0,0,0,0,0,null,null,{"$f":"Раздел2!F99","v":0}]
[null,"Спортивная ходьба","93",0,0,0,0,0,0,0,0,0,0,0,0,null,null,{"$f":"Раздел2!F100","v":0}]
[null,"Лыжное двоеборье","94",0,0,0,0,0,0,0,0,0,0,0,0,null,null,{"$f":"Раздел2!F101","v":0}]
[null,"Лыжные гонки","95",0,0,0,0,0,0,0,0,0,0,0,0,null,null,{"$f":"Раздел2!F102","v":0}]
[null,"Мас-рестлинг","96",0,0,0,0,0,0,0,0,0,0,0,0,null,null,{"$f":"Раздел2!F103","v":0}]
[null,"Международное военно-спортивное многоборье","97",0,0,0,0,0,0,0,0,0,0,0,0,null,null,{"$f":"Раздел2!F104","v":0}]
[null,"Многоборье кинологов","98",0,0,0,0,0,0,0,0,0,0,0,0,null,null,{"$f":"Раздел2!F105","v":0}]
[null,"Многоборье спасателей МЧС России","99",0,0,0,0,0,0,0,0,0,0,0,0,null,null,{"$f":"Раздел2!F106","v":0}]
[null,"Морское многоборье","100",0,0,0,0,0,0,0,0,0,0,0,0,null,null,{"$f":"Раздел2!F107","v":0}]
[null,"Мотоциклетный спорт","101",0,0,0,0,0,0,0,0,0,0,0,0,null,null,{"$f":"Раздел2!F108","v":0}]
[null,"Настольный теннис","102",0,0,0,0,0,0,0,0,0,0,0,0,null,null,{"$f":"Раздел2!F109","v":0}]
[null,"Парашютный спорт","103",0,0,0,0,0,0,0,0,0,0,0,0,null,null,{"$f":"Раздел2!F110","v":0}]
[null,"Парусный спорт","104",0,0,0,0,0,0,0,0,0,0,0,0,null,null,{"$f":"Раздел2!F111","v":0}]
[null,"Пауэрлифтинг","105",0,0,0,0,0,0,0,0,0,0,0,0,null,null,{"$f":"Раздел2!F112","v":0}]
[null,"Перетягивание каната","106",0,0,0,0,0,0,0,0,0,0,0,0,null,null,{"$f":"Раздел2!F113","v":0}]
[null,"Петанк","107",0,0,0,0,0,0,0,0,0,0,0,0,null,null,{"$f":"Раздел2!F114","v":0}]
[null,"Плавание - всего","108",{"$f":"SUM(D115:D116)","v":0},0,0,0,0,0,0,0,0,0,0,0,null,null,{"$f":"Раздел2!F115","v":0}]
[null,"в том числе:\nПлавание ","109",0,0,0,0,0,0,0,0,0,0,0,0,null,null,{"$f":"Раздел2!F116","v":0}]
[null,"Открытая вода","110",0,0,0,0,0,0,0,0,0,0,0,0,null,null,{"$f":"Раздел2!F117","v":0}]
[null,"Планерный спорт","111",0,0,0,0,0,0,0,0,0,0,0,0,null,null,{"$f":"Раздел2!F118","v":0}]
[null,"Подводный спорт","112",0,0,0,0,0,0,0,0,0,0,0,0,null,null,{"$f":"Раздел2!F119","v":0}]
[null,"Пожарно-прикладной спорт","113",0,0,0,0,0,0,0,0,0,0,0,0,null,null,{"$f":"Раздел2!F120","v":0}]
[null,"Полиатлон","114",0,0,0,0,0,0,0,0,0,0,0,0,null,null,{"$f":"Раздел2!F121","v":0}]
[null,"Практическая стрельба","115",0,0,0,0,0,0,0,0,0,0,0,0,null,null,{"$f":"Раздел2!F122","v":0}]
[null,"Прыжки в воду - всего","116",{"$f":"SUM(D123:D124)","v":0},0,0,0,0,0,0,0,0,0,0,0,null,null,{"$f":"Раздел2!F123","v":0}]
[null,"в том числе:\nПрыжки в воду","117",0,0,0,0,0,0,0,0,0,0,0,0,null,null,{"$f":"Раздел2!F124","v":0}]
[null,"Прыжки в открытый водоем","118",0,0,0,0,0,0,0,0,0,0,0,0,null,null,{"$f":"Раздел2!F125","v":0}]
[null,"Прыжки на батуте - всего","119",{"$f":"SUM(D126:D129)","v":0},0,0,0,0,0,0,0,0,0,0,0,null,null,{"$f":"Раздел2!F126","v":0}]
[null,"в том числе:\nАкробатическая дорожка","120",0,0,0,0,0,0,0,0,0,0,0,0,null,null,{"$f":"Раздел2!F127","v":0}]
[null,"Двойной минитрамп","121",0,0,0,0,0,0,0,0,0,0,0,0,null,null,{"$f":"Раздел2!F128","v":0}]
[null,"Индивидуальные прыжки","122",0,0,0,0,0,0,0,0,0,0,0,0,null,null,{"$f":"Раздел2!F129","v":0}]
[null,"Синхронные прыжки","123",0,0,0,0,0,0,0,0,0,0,0,0,null,null,{"$f":"Раздел2!F130","v":0}]
[null,"Прыжки на лыжах с трамплина","124",0,0,0,0,0,0,0,0,0,0,0,0,null,null,{"$f":"Раздел2!F131","v":0}]
[null,"Пулевая стрельба - всего","125",{"$f":"SUM(D132:D136)","v":0},0,0,0,0,0,0,0,0,0,0,0,null,null,{"$f":"Раздел2!F132","v":0}]
[null,"в том числе:\nПневматическая винтовка","126",0,0,0,0,0,0,0,0,0,0,0,0,null,null,{"$f":"Раздел2!F133","v":0}]
[null,"Пневматический пистолет","127",0,0,0,0,0,0,0,0,0,0,0,0,null,null,{"$f":"Раздел2!F134","v":0}]
[null,"Малокалиберная винтовка","128",0,0,0,0,0,0,0,0,0,0,0,0,null,null,{"$f":"Раздел2!F135","v":0}]
[null,"Малокалиберный пистолет","129",0,0,0,0,0,0,0,0,0,0,0,0,null,null,{"$f":"Раздел2!F136","v":0}]
[null,"Движущаяся мишень","130",0,0,0,0,0,0,0,0,0,0,0,0,null,null,{"$f":"Раздел2!F137","v":0}]
[null,"Пэйнтбол","131",0,0,0,0,0,0,0,0,0,0,0,0,null,null,{"$f":"Раздел2!F138","v":0}]
[null,"Радиоспорт","132",0,0,0,0,0,0,0,0,0,0,0,0,null,null,{"$f":"Раздел2!F139","v":0}]
[null,"Рафтинг","133",0,0,0,0,0,0,0,0,0,0,0,0,null,null,{"$f":"Раздел2!F140","v":0}]
[null,"Регби - всего","134",{"$f":"SUM(D141:D144)","v":0},0,0,0,0,0,0,0,0,0,0,0,null,null,{"$f":"Раздел2!F141","v":0}]
[null,"в том числе:\nРегби","135",0,0,0,0,0,0,0,0,0,0,0,0,null,null,{"$f":"Раздел2!F142","v":0}]
[null,"Регби 7 (муж.)","136",0,0,0,0,0,0,0,0,0,0,0,0,null,null,{"$f":"Раздел2!F143","v":0}]
[null,"Регби 7 (жен.)","137",0,0,0,0,0,0,0,0,0,0,0,0,null,null,{"$f":"Раздел2!F144","v":0}]
[null,"Регби - пляжное","138",0,0,0,0,0,0,0,0,0,0,0,0,null,null,{"$f":"Раздел2!F145","v":0}]
[null,"Регбол","139",0,0,0,0,0,0,0,0,0,0,0,0,null,null,{"$f":"Раздел2!F146","v":0}]
[null,"Роллер спорт","140",0,0,0,0,0,0,0,0,0,0,0,0,null,null,{"$f":"Раздел2!F147","v":0}]
[null,"Рукопашный бой","141",0,0,0,0,0,0,0,0,0,0,0,0,null,null,{"$f":"Раздел2!F148","v":0}]
[null,"Рыболовный спорт","142",0,0,0,0,0,0,0,0,0,0,0,0,null,null,{"$f":"Раздел2!F149","v":0}]
[null,"Сават","143",0,0,0,0,0,0,0,0,0,0,0,0,null,null,{"$f":"Раздел2!F150","v":0}]
[null,"Самбо","144",0,0,0,0,0,0,0,0,0,0,0,0,null,null,{"$f":"Раздел2!F151","v":0}]
[null,"Самолетный спорт","145",0,0,0,0,0,0,0,0,0,0,0,0,null,null,{"$f":"Раздел2!F152","v":0}]
[null,"Санный спорт","146",0,0,0,0,0,0,0,0,0,0,0,0,null,null,{"$f":"Раздел2!F153","v":0}]
[null,"Северное многоборье","147",0,0,0,0,0,0,0,0,0,0,0,0,null,null,{"$f":"Раздел2!F154","v":0}]
[null,"Серфинг","148",0,0,0,0,0,0,0,0,0,0,0,0,null,null,{"$f":"Раздел2!F155","v":0}]
[null,"Синхронное плавание","149",0,0,0,0,0,0,0,0,0,0,0,0,null,null,{"$f":"Раздел2!F156","v":0}]
[null,"Скалолазание","150",0,0,0,0,0,0,0,0,0,0,0,0,null,null,{"$f":"Раздел2!F157","v":0}]
[null,"Скейтбординг","151",0,0,0,0,0,0,0,0,0,0,0,0,null,null,{"$f":"Раздел2!F158","v":0}]
[null,"Сквош","152",0,0,0,0,0,0,0,0,0,0,0,0,null,null,{"$f":"Раздел2!F159","v":0}]
[null,"Служебно-прикладной спорт ФСО России","153",0,0,0,0,0,0,0,0,0,0,0,0,null,null,{"$f":"Раздел2!F160","v":0}]
[null,"Служебно-прикладной спорт ГФС России","154",0,0,0,0,0,0,0,0,0,0,0,0,null,null,{"$f":"Раздел2!F161","v":0}]
[null,"Служебно-прикладной спорт ФСКН России","155",0,0,0,0,0,0,0,0,0,0,0,0,null,null,{"$f":"Раздел2!F162","v":0}]
[null,"Служебно-прикладной спорт ФТС России","156",0,0,0,0,0,0,0,0,0,0,0,0,null,null,{"$f":"Раздел2!F163","v":0}]
[null,"Служебное двоеборье","157",0,0,0,0,0,0,0,0,0,0,0,0,null,null,{"$f":"Раздел2!F164","v":0}]
[null,"Служебное единоборство","158",0,0,0,0,0,0,0,0,0,0,0,0,null,null,{"$f":"Раздел2!F165","v":0}]
[null,"Служебное многоборье","159",0,0,0,0,0,0,0,0,0,0,0,0,null,null,{"$f":"Раздел2!F166","v":0}]
[null,"Служебное собаководство","160",0,0,0,0,0,0,0,0,0,0,0,0,null,null,{"$f":"Раздел2!F167","v":0}]
[null,"Служебный биатлон","161",0,0,0,0,0,0,0,0,0,0,0,0,null,null,{"$f":"Раздел2!F168","v":0}]
[null,"Спасательный спорт","162",0,0,0,0,0,0,0,0,0,0,0,0,null,null,{"$f":"Раздел2!F169","v":0}]
[null,"Стрельба из боевого ручного стрелкового оружия","163",0,0,0,0,0,0,0,0,0,0,0,0,null,null,{"$f":"Раздел2!F170","v":0}]
[null,"Стрельба из штатного или табельного оружия","164",0,0,0,0,0,0,0,0,0,0,0,0,null,null,{"$f":"Раздел2!F171","v":0}]
[null,"Смешанное боевое единоборство (ММА)","165",0,0,0,0,0,0,0,0,0,0,0,0,null,null,{"$f":"Раздел2!F172","v":0}]
[null,"Сноуборд","166",0,0,0,0,0,0,0,0,0,0,0,0,null,null,{"$f":"Раздел2!F173","v":0}]
[null,"Современное пятиборье","167",0,0,0,0,0,0,0,0,0,0,0,0,null,null,{"$f":"Раздел2!F174","v":0}]
[null,"Софтбол","168",0,0,0,0,0,0,0,0,0,0,0,0,null,null,{"$f":"Раздел2!F175","v":0}]
[null,"Спорт сверхлегкой авиации","169",0,0,0,0,0,0,0,0,0,0,0,0,null,null,{"$f":"Раздел2!F176","v":0}]
[null,"Спортивная акробатика","170",0,0,0,0,0,0,0,0,0,0,0,0,null,null,{"$f":"Раздел2!F177","v":0}]
[null,"Спортивная аэробика","171",0,0,0,0,0,0,0,0,0,0,0,0,null,null,{"$f":"Раздел2!F178","v":297}]
[null,"Спортивная борьба - всего","172",{"$f":"SUM(D179:D183)","v":0},0,0,0,0,0,0,0,0,0,0,0,null,null,{"$f":"Раздел2!F179","v":0}]
[null,"в том числе:\nВольная борьба","173",0,0,0,0,0,0,0,0,0,0,0,0,null,null,{"$f":"Раздел2!F180","v":0}]
[null,"Греко-римская борьба","174",0,0,0,0,0,0,0,0,0,0,0,0,null,null,{"$f":"Раздел2!F181","v":0}]
[null,"Грэпплинг","175",0,0,0,0,0,0,0,0,0,0,0,0,null,null,{"$f":"Раздел2!F182","v":0}]
[null,"Грэпплинг-ги","176",0,0,0,0,0,0,0,0,0,0,0,0,null,null,{"$f":"Раздел2!F183","v":0}]
[null,"Панкратион","177",0,0,0,0,0,0,0,0,0,0,0,0,null,null,{"$f":"Раздел2!F184","v":0}]
[null,"Спортивно-прикладное собаководство","178",0,0,0,0,0,0,0,0,0,0,0,0,null,null,{"$f":"Раздел2!F185","v":0}]
[null,"Спортивная гимнастика","179",0,0,0,0,0,0,0,0,0,0,0,0,null,null,{"$f":"Раздел2!F186","v":0}]
[null,"Спортивное ориентирование","180",0,0,0,0,0,0,0,0,0,0,0,0,null,null,{"$f":"Раздел2!F187","v":0}]
[null,"Спортивный бридж","181",0,0,0,0,0,0,0,0,0,0,0,0,null,null,{"$f":"Раздел2!F188","v":0}]
[null,"Спортивный туризм","182",0,0,0,0,0,0,0,0,0,0,0,0,null,null,{"$f":"Раздел2!F189","v":0}]
[null,"Стендовая стрельба - всего","183",{"$f":"SUM(D190:D193)","v":0},0,0,0,0,0,0,0,0,0,0,0,null,null,{"$f":"Раздел2!F190","v":0}]
[null,"в том числе:\nТрап","184",0,0,0,0,0,0,0,0,0,0,0,0,null,null,{"$f":"Раздел2!F191","v":0}]
[null,"Скит","185",0,0,0,0,0,0,0,0,0,0,0,0,null,null,{"$f":"Раздел2!F192","v":0}]
[null,"Дубль-трап","186",0,0,0,0,0,0,0,0,0,0,0,0,null,null,{"$f":"Раздел2!F193","v":0}]
[null,"Спортинг","187",0,0,0,0,0,0,0,0,0,0,0,0,null,null,{"$f":"Раздел2!F194","v":0}]
[null,"Стрельба из арбалета","188",0,0,0,0,0,0,0,0,0,0,0,0,null,null,{"$f":"Раздел2!F195","v":0}]
[null,"Стрельба из лука - всего","189",{"$f":"SUM(D196:D198)","v":0},0,0,0,0,0,0,0,0,0,0,0,null,null,{"$f":"Раздел2!F196","v":0}]
[null,"в том числе:\nКлассический лук","190",0,0,0,0,0,0,0,0,0,0,0,0,null,null,{"$f":"Раздел2!F197","v":0}]
[null,"   Блочный лук","191",0,0,0,0,0,0,0,0,0,0,0,0,null,null,{"$f":"Раздел2!F198","v":0}]
[null,"   Ачери ","192",0,0,0,0,0,0,0,0,0,0,0,0,null,null,{"$f":"Раздел2!F199","v":0}]
[null,"Судомодельный спорт","193",0,0,0,0,0,0,0,0,0,0,0,0,null,null,{"$f":"Раздел2!F200","v":0}]
[null,"Сумо","194",0,0,0,0,0,0,0,0,0,0,0,0,null,null,{"$f":"Раздел2!F201","v":0}]
[null,"Тайский бокс","195",0,0,0,0,0,0,0,0,0,0,0,0,null,null,{"$f":"Раздел2!F202","v":0}]
[null,"Танцевальный спорт","196",0,0,0,0,0,0,0,0,0,0,0,0,null,null,{"$f":"Раздел2!F203","v":0}]
[null,"Теннис","197",0,0,0,0,0,0,0,0,0,0,0,0,null,null,{"$f":"Раздел2!F204","v":0}]
[null,"Триатлон","198",0,0,0,0,0,0,0,0,0,0,0,0,null,null,{"$f":"Раздел2!F205","v":0}]
[null,"Тхэквондо - всего","199",{"$f":"SUM(D206:D207)","v":0},0,0,0,0,0,0,0,0,0,0,0,null,null,{"$f":"Раздел2!F206","v":0}]
[null,"в том числе:\nТхэквондо (ГТФ, ИТФ, МФТ)","200",0,0,0,0,0,0,0,0,0,0,0,0,null,null,{"$f":"Раздел2!F207","v":0}]
[null,"Тхэквондо (ВТФ)","201",0,0,0,0,0,0,0,0,0,0,0,0,null,null,{"$f":"Раздел2!F208","v":0}]
[null,"Тяжелая атлетика","202",0,0,0,0,0,0,0,0,0,0,0,0,null,null,{"$f":"Раздел2!F209","v":0}]
[null,"Универсальный бой","203",0,0,0,0,0,0,0,0,0,0,0,0,null,null,{"$f":"Раздел2!F210","v":0}]
[null,"Ушу","204",0,0,0,0,0,0,0,0,0,0,0,0,null,null,{"$f":"Раздел2!F211","v":0}]
[null,"Фехтование - всего","205",{"$f":"SUM(D212:D215)","v":0},0,0,0,0,0,0,0,0,0,0,0,null,null,{"$f":"Раздел2!F212","v":0}]
[null,"в том числе:\nРапира","206",0,0,0,0,0,0,0,0,0,0,0,0,null,null,{"$f":"Раздел2!F213","v":0}]
[null,"Сабля","207",0,0,0,0,0,0,0,0,0,0,0,0,null,null,{"$f":"Раздел2!F214","v":0}]
[null,"Шпага","208",0,0,0,0,0,0,0,0,0,0,0,0,null,null,{"$f":"Раздел2!F215","v":0}]
[null,"Арт-фехтование","209",0,0,0,0,0,0,0,0,0,0,0,0,null,null,{"$f":"Раздел2!F216","v":0}]
[null,"Фигурное катание на коньках","210",0,0,0,0,0,0,0,0,0,0,0,0,null,null,{"$f":"Раздел2!F217","v":0}]
[null,"Фитнес-аэробика","211",0,0,0,0,0,0,0,0,0,0,0,0,null,null,{"$f":"Раздел2!F218","v":0}]
[null,"Флаинг диск","212",0,0,0,0,0,0,0,0,0,0,0,0,null,null,{"$f":"Раздел2!F219","v":0}]
[null,"Флорбол","213",0,0,0,0,0,0,0,0,0,0,0,0,null,null,{"$f":"Раздел2!F220","v":0}]
[null,"Фристайл - всего","214",{"$f":"SUM(D221:D225)","v":0},0,0,0,0,0,0,0,0,0,0,0,null,null,{"$f":"Раздел2!F221","v":0}]
[null,"в том числе:\nАкробатика","215",0,0,0,0,0,0,0,0,0,0,0,0,null,null,{"$f":"Раздел2!F222","v":0}]
[null,"Могул","216",0,0,0,0,0,0,0,0,0,0,0,0,null,null,{"$f":"Раздел2!F223","v":0}]
[null,"Ски-кросс","217",0,0,0,0,0,0,0,0,0,0,0,0,null,null,{"$f":"Раздел2!F224","v":0}]
[null,"Хаф-пайп","218",0,0,0,0,0,0,0,0,0,0,0,0,null,null,{"$f":"Раздел2!F225","v":0}]
[null,"Слоуп-стайл","219",0,0,0,0,0,0,0,0,0,0,0,0,null,null,{"$f":"Раздел2!F226","v":0}]
[null,"Футбол - всего","220",{"$f":"SUM(D227:D230)","v":0},0,0,0,0,0,0,0,0,0,0,0,null,null,{"$f":"Раздел2!F227","v":123}]
[null,"в том числе:\nФутбол (муж.)","221",0,0,0,0,0,0,0,0,0,0,0,0,null,null,{"$f":"Раздел2!F228","v":115}]
[null,"Футбол (жен.)","222",0,0,0,0,0,0,0,0,0,0,0,0,null,null,{"$f":"Раздел2!F229","v":8}]
[null,"Мини-футбол (футзал)","223",0,0,0,0,0,0,0,0,0,0,0,0,null,null,{"$f":"Раздел2!F230","v":0}]
[null,"Пляжный футбол","224",0,0,0,0,0,0,0,0,0,0,0,0,null,null,{"$f":"Раздел2!F231","v":0}]
[null,"Хапсагай","225",0,0,0,0,0,0,0,0,0,0,0,0,null,null,{"$f":"Раздел2!F232","v":0}]
[null,"Хоккей - всего","226",{"$f":"SUM(D233:D234)","v":0},0,0,0,0,0,0,0,0,0,0,0,null,null,{"$f":"Раздел2!F233","v":0}]
[null,"в том числе:\nХоккей (муж.)","227",0,0,0,0,0,0,0,0,0,0,0,0,null,null,{"$f":"Раздел2!F234","v":0}]
[null,"Хоккей (жен.)","228",0,0,0,0,0,0,0,0,0,0,0,0,null,null,{"$f":"Раздел2!F235","v":0}]
[null,"Хоккей на траве - всего","229",{"$f":"SUM(D236:D238)","v":0},0,0,0,0,0,0,0,0,0,0,0,null,null,{"$f":"Раздел2!F236","v":0}]
[null,"в том числе:\nХоккей на траве (муж.)","230",null,null,null,null,null,null,null,null,null,null,null,null,null,null,{"$f":"Раздел2!F237","v":0}]
[null,"Хоккей на траве (жен.)","231",null,null,null,null,null,null,null,null,null,null,null,null,null,null,{"$f":"Раздел2!F238","v":0}]
[null,"Индорхоккей","232",null,null,null,null,null,null,null,null,null,null,null,null,null,null,{"$f":"Раздел2!F239","v":0}]
[null,"Хоккей с мячом","233",null,null,null,null,null,null,null,null,null,null,null,null,null,null,{"$f":"Раздел2!F240","v":0}]
[null,"Художественная гимнастика","234",null,null,null,null,null,null,null,null,null,null,null,null,null,null,{"$f":"Раздел2!F241","v":102}]
[null,"Хуреш","235",null,null,null,null,null,null,null,null,null,null,null,null,null,null,{"$f":"Раздел2!F242","v":0}]
[null,"Черлидинг","236",null,null,null,null,null,null,null,null,null,null,null,null,null,null,{"$f":"Раздел2!F243","v":0}]
[null,"Чир спорт","237",null,null,null,null,null,null,null,null,null,null,null,null,null,null,{"$f":"Раздел2!F244","v":0}]
[null,"Шахматы","238",null,null,null,null,null,null,null,null,null,null,null,null,null,null,{"$f":"Раздел2!F245","v":0}]
[null,"Шашки","239",null,null,null,null,null,null,null,null,null,null,null,null,null,null,{"$f":"Раздел2!F246","v":0}]
[null,"Эстетическая гимнастика","240",null,null,null,null,null,null,null,null,null,null,null,null,null,null,{"$f":"Раздел2!F247","v":0}]
[null,"Якутские национальные прыжки","241",null,null,null,null,null,null,null,null,null,null,null,null,null,null,{"$f":"Раздел2!F248","v":0}]
[null,"ИТОГО","242",{"$f":"SUM(D7:D18,D21:D24,D27:D37,D40:D44,D49:D51,D55:D63,D68:D77,D80:D86,D89:D92,D100:D114,D117:D122,D125,D130,D131,D137:D140,D145:D178,D184:D189,D194,D195,D199:D205,D208:D211,D216:D220,D226,D231,D232,D235,D239:D247)","v":0},0,0,0,0,0,0,0,0,0,0,0,null,null,{"$f":"Раздел2!F249","v":1295}]

{"sheet":"Раздел6","index":6,"n_rows":249,"n_cols":37,"rows_kept":249,"cut":false,"hidden":false,"merged":[[0,0,118,0],[2,1,5,1],[2,2,5,2],[2,36,5,36],[1,28,1,33],[2,3,5,3],[2,4,2,33],[0,1,0,33],[0,34,118,34],[3,4,4,8],[3,29,4,33],[3,9,4,13],[3,14,4,18],[3,19,4,23],[3,24,4,28]]}
[null,"Раздел VI. Всероссийские спортивные соревнования"]
[null,null,null,null,null,null,null,null,null,null,null,null,null,null,null,null,null,null,null,null,null,null,null,null,null,null,null,null,"Коды по ОКЕИ: человек – 792, единица - 642"]
[null,"Виды спорта","№ строки","Всего зани-маю-щихся","Результаты выступлений на соревнованиях",null,null,null,null,null,null,null,null,null,null,null,null,null,null,null,null,null,null,null,null,null,null,null,null,null,null,null,null,null,null,null,"Раздел2 графа3\nЧисло отделений"]
[null,null,null,null,"Всего",null,null,null,null,"Чемпионат России",null,null,null,null,"Первенство России среди юниоров и юниорок",null,null,null,null,"Первенство России среди юношей и девушек",null,null,null,null,"Кубок России",null,null,null,null,"Прочие официальные всероссийские соревнования"]
[]
[null,null,null,null,1,2,3,"4-6","учас-тие",1,2,3,"4-6","учас-тие",1,2,3,"4-6","учас-тие",1,2,3,"4-6","учас-тие",1,2,3,"4-6","учас-тие",1,2,3,"4-6","учас-тие"]
[null,1,2,3,4,5,6,7,8,9,10,11,12,13,14,15,16,17,18,19,20,21,22,23,24,25,26,27,28,29,30,31,32,33]
[null,"Авиамодельный спорт","01",{"$f":"Раздел2!F8","v":0},{"$f":"J8+O8+T8+Y8+AD8","v":0},{"$f":"K8+P8+U8+Z8+AE8","v":0},{"$f":"L8+Q8+V8+AA8+AF8","v":0},{"$f":"M8+R8+W8+AB8+AG8","v":0},{"$f":"N8+S8+X8+AC8+AH8","v":0},null,null,null,null,null,null,null,null,null,null,null,null,null,null,null,null,null,null,null,null,null,null,null,null,null,null,null,{"$f":"Раздел2!#REF!","v":{"$error":"#REF!"}}]
[null,"Автомобильный спорт","02",{"$f":"Раздел2!F9","v":0},{"$f":"J9+O9+T9+Y9+AD9","v":0},{"$f":"K9+P9+U9+Z9+AE9","v":0},{"$f":"L9+Q9+V9+AA9+AF9","v":0},{"$f":"M9+R9+W9+AB9+AG9","v":0},{"$f":"N9+S9+X9+AC9+AH9","v":0},null,null,null,null,null,null,null,null,null,null,null,null,null,null,null,null,null,null,null,null,null,null,null,null,null,null,null,{"$f":"Раздел2!#REF!","v":{"$error":"#REF!"}}]
[null,"Автомодельный спорт","03",{"$f":"Раздел2!F10","v":0},0,0,0,0,0,null,null,null,null,null,null,null,null,null,null,null,null,null,null,null,null,null,null,null,null,null,null,null,null,null,null,null,{"$f":"Раздел2!#REF!","v":{"$error":"#REF!"}}]
[null,"Айкидо","04",{"$f":"Раздел2!F11","v":0},0,0,0,0,0,null,null,null,null,null,null,null,null,null,null,null,null,null,null,null,null,null,null,null,null,null,null,null,null,null,null,null,{"$f":"Раздел2!#REF!","v":{"$error":"#REF!"}}]
[null,"Айсшток","05",{"$f":"Раздел2!F12","v":0},0,0,0,0,0,null,null,null,null,null,null,null,null,null,null,null,null,null,null,null,null,null,null,null,null,null,null,null,null,null,null,null,{"$f":"Раздел2!#REF!","v":{"$error":"#REF!"}}]
[null,"Акробатический рок-н-ролл","06",{"$f":"Раздел2!F13","v":0},0,0,0,0,0,null,null,null,null,null,null,null,null,null,null,null,null,null,null,null,null,null,null,null,null,null,null,null,null,null,null,null,{"$f":"Раздел2!#REF!","v":{"$error":"#REF!"}}]
[null,"Альпинизм","07",{"$f":"Раздел2!F14","v":0},0,0,0,0,0,null,null,null,null,null,null,null,null,null,null,null,null,null,null,null,null,null,null,null,null,null,null,null,null,null,null,null,{"$f":"Раздел2!#REF!","v":{"$error":"#REF!"}}]
[null,"Американский футбол","08",{"$f":"Раздел2!F15","v":0},0,0,0,0,0,null,null,null,null,null,null,null,null,null,null,null,null,null,null,null,null,null,null,null,null,null,null,null,null,null,null,null,{"$f":"Раздел2!#REF!","v":{"$error":"#REF!"}}]
[null,"Армейский рукопашный бой","09",{"$f":"Раздел2!F16","v":0},0,0,0,0,0,null,null,null,null,null,null,null,null,null,null,null,null,null,null,null,null,null,null,null,null,null,null,null,null,null,null,null,{"$f":"Раздел2!#REF!","v":{"$error":"#REF!"}}]
[null,"Армрестлинг","10",{"$f":"Раздел2!F17","v":0},0,0,0,0,0,null,null,null,null,null,null,null,null,null,null,null,null,null,null,null,null,null,null,null,null,null,null,null,null,null,null,null,{"$f":"Раздел2!#REF!","v":{"$error":"#REF!"}}]
[null,"Бадминтон","11",{"$f":"Раздел2!F18","v":0},0,0,0,0,0,null,null,null,null,null,null,null,null,null,null,null,null,null,null,null,null,null,null,null,null,null,null,null,null,null,null,null,{"$f":"Раздел2!#REF!","v":{"$error":"#REF!"}}]
[null,"Баскетбол - всего","12",{"$f":"Раздел2!F19","v":134},0,0,0,0,0,{"$f":"SUM(J20:J21)","v":0},0,0,0,0,0,0,0,0,0,0,0,0,0,0,0,0,0,0,0,0,0,0,0,0,null,null,{"$f":"Раздел2!#REF!","v":{"$error":"#REF!"}}]
[null,"в том числе:\nБаскетбол (муж.)","13",{"$f":"Раздел2!F20","v":93},0,0,0,0,0,null,null,null,null,null,null,null,null,null,null,null,null,null,null,null,null,null,null,null,null,null,null,null,null,null,null,null,{"$f":"Раздел2!#REF!","v":{"$error":"#REF!"}}]
[null,"Баскетбол (жен.)","14",{"$f":"Раздел2!F21","v":41},0,0,0,0,0,null,null,null,null,null,null,null,null,null,null,null,null,null,null,null,null,null,null,null,null,null,null,null,null,null,null,null,{"$f":"Раздел2!#REF!","v":{"$error":"#REF!"}}]
[null,"Бейсбол","15",{"$f":"Раздел2!F22","v":0},0,0,0,0,0,null,null,null,null,null,null,null,null,null,null,null,null,null,null,null,null,null,null,null,null,null,null,null,null,null,null,null,{"$f":"Раздел2!#REF!","v":{"$error":"#REF!"}}]
[null,"Биатлон","16",{"$f":"Раздел2!F23","v":0},0,0,0,0,0,null,null,null,null,null,null,null,null,null,null,null,null,null,null,null,null,null,null,null,null,null,null,null,null,null,null,null,{"$f":"Раздел2!#REF!","v":{"$error":"#REF!"}}]
[null,"Бильярдный спорт","17",{"$f":"Раздел2!F24","v":0},0,0,0,0,0,null,null,null,null,null,null,null,null,null,null,null,null,null,null,null,null,null,null,null,null,null,null,null,null,null,null,null,{"$f":"Раздел2!#REF!","v":{"$error":"#REF!"}}]
[null,"Бобслей - всего","18",{"$f":"Раздел2!F25","v":0},0,0,0,0,0,{"$f":"SUM(J26:J27)","v":0},0,0,0,0,0,0,0,0,0,0,0,0,0,0,0,0,0,0,0,0,0,0,0,0,null,null,{"$f":"Раздел2!#REF!","v":{"$error":"#REF!"}}]
[null,"в том числе:\nБобслей","19",{"$f":"Раздел2!F26","v":0},0,0,0,0,0,null,null,null,null,null,null,null,null,null,null,null,null,null,null,null,null,null,null,null,null,null,null,null,null,null,null,null,{"$f":"Раздел2!#REF!","v":{"$error":"#REF!"}}]
[null,"Скелетон","20",{"$f":"Раздел2!F27","v":0},0,0,0,0,0,null,null,null,null,null,null,null,null,null,null,null,null,null,null,null,null,null,null,null,null,null,null,null,null,null,null,null,{"$f":"Раздел2!#REF!","v":{"$error":"#REF!"}}]
[null,"Бодибилдинг","21",{"$f":"Раздел2!F28","v":0},0,0,0,0,0,null,null,null,null,null,null,null,null,null,null,null,null,null,null,null,null,null,null,null,null,null,null,null,null,null,null,null,{"$f":"Раздел2!#REF!","v":{"$error":"#REF!"}}]
[null,"Бокс","22",{"$f":"Раздел2!F29","v":90},0,0,0,0,0,null,null,null,null,null,null,null,null,null,null,null,null,null,null,null,null,null,null,null,null,null,null,null,null,null,null,null,{"$f":"Раздел2!#REF!","v":{"$error":"#REF!"}}]
[null,"Борьба на поясах","23",{"$f":"Раздел2!F30","v":0},0,0,0,0,0,null,null,null,null,null,null,null,null,null,null,null,null,null,null,null,null,null,null,null,null,null,null,null,null,null,null,null,{"$f":"Раздел2!#REF!","v":{"$error":"#REF!"}}]
[null,"Боулинг","24",{"$f":"Раздел2!F31","v":0},0,0,0,0,0,null,null,null,null,null,null,null,null,null,null,null,null,null,null,null,null,null,null,null,null,null,null,null,null,null,null,null,{"$f":"Раздел2!#REF!","v":{"$error":"#REF!"}}]
[null,"Велоспорт ВМХ","25",{"$f":"Раздел2!F32","v":0},0,0,0,0,0,null,null,null,null,null,null,null,null,null,null,null,null,null,null,null,null,null,null,null,null,null,null,null,null,null,null,null,{"$f":"Раздел2!#REF!","v":{"$error":"#REF!"}}]
[null,"Велоспорт – маунтинбайк","26",{"$f":"Раздел2!F33","v":0},0,0,0,0,0,null,null,null,null,null,null,null,null,null,null,null,null,null,null,null,null,null,null,null,null,null,null,null,null,null,null,null,{"$f":"Раздел2!#REF!","v":{"$error":"#REF!"}}]
[null,"Велоспорт – трек","27",{"$f":"Раздел2!F34","v":0},0,0,0,0,0,null,null,null,null,null,null,null,null,null,null,null,null,null,null,null,null,null,null,null,null,null,null,null,null,null,null,null,{"$f":"Раздел2!#REF!","v":{"$error":"#REF!"}}]
[null,"Велоспорт – шоссе","28",{"$f":"Раздел2!F35","v":0},0,0,0,0,0,null,null,null,null,null,null,null,null,null,null,null,null,null,null,null,null,null,null,null,null,null,null,null,null,null,null,null,{"$f":"Раздел2!#REF!","v":{"$error":"#REF!"}}]
[null,"Вертолетный спорт","29",{"$f":"Раздел2!F36","v":0},0,0,0,0,0,null,null,null,null,null,null,null,null,null,null,null,null,null,null,null,null,null,null,null,null,null,null,null,null,null,null,null,{"$f":"Раздел2!#REF!","v":{"$error":"#REF!"}}]
[null,"Водно-моторный спорт","30",{"$f":"Раздел2!F37","v":0},0,0,0,0,0,null,null,null,null,null,null,null,null,null,null,null,null,null,null,null,null,null,null,null,null,null,null,null,null,null,null,null,{"$f":"Раздел2!#REF!","v":{"$error":"#REF!"}}]
[null,"Водное поло - всего ","31",{"$f":"Раздел2!F38","v":0},0,0,0,0,0,{"$f":"SUM(J39:J40)","v":0},0,0,0,0,0,0,0,0,0,0,0,0,0,0,0,0,0,0,0,0,0,0,0,0,null,null,{"$f":"Раздел2!#REF!","v":{"$error":"#REF!"}}]
[null,"в том числе:\nВодное поло (муж.)","32",{"$f":"Раздел2!F39","v":0},0,0,0,0,0,null,null,null,null,null,null,null,null,null,null,null,null,null,null,null,null,null,null,null,null,null,null,null,null,null,null,null,{"$f":"Раздел2!#REF!","v":{"$error":"#REF!"}}]
[null,"Водное поло (жен.)","33",{"$f":"Раздел2!F40","v":0},0,0,0,0,0,null,null,null,null,null,null,null,null,null,null,null,null,null,null,null,null,null,null,null,null,null,null,null,null,null,null,null,{"$f":"Раздел2!#REF!","v":{"$error":"#REF!"}}]
[null,"Воднолыжный спорт","34",{"$f":"Раздел2!F41","v":0},0,0,0,0,0,null,null,null,null,null,null,null,null,null,null,null,null,null,null,null,null,null,null,null,null,null,null,null,null,null,null,null,{"$f":"Раздел2!#REF!","v":{"$error":"#REF!"}}]
[null,"Военно-прикладной спорт","35",{"$f":"Раздел2!F42","v":0},0,0,0,0,0,null,null,null,null,null,null,null,null,null,null,null,null,null,null,null,null,null,null,null,null,null,null,null,null,null,null,null,{"$f":"Раздел2!#REF!","v":{"$error":"#REF!"}}]
[null,"Военно-спортивное многоборье","36",{"$f":"Раздел2!F43","v":0},0,0,0,0,0,null,null,null,null,null,null,null,null,null,null,null,null,null,null,null,null,null,null,null,null,null,null,null,null,null,null,null,{"$f":"Раздел2!#REF!","v":{"$error":"#REF!"}}]
[null,"Воздухоплавательный спорт","37",{"$f":"Раздел2!F44","v":0},0,0,0,0,0,null,null,null,null,null,null,null,null,null,null,null,null,null,null,null,null,null,null,null,null,null,null,null,null,null,null,null,{"$f":"Раздел2!#REF!","v":{"$error":"#REF!"}}]
[null,"Волейбол - всего","38",{"$f":"Раздел2!F45","v":80},0,0,0,0,0,{"$f":"SUM(J46:J49)","v":0},0,0,0,0,0,0,0,0,0,0,0,0,0,0,0,0,0,0,0,0,0,0,0,0,null,null,{"$f":"Раздел2!#REF!","v":{"$error":"#REF!"}}]
[null,"в том числе:\nВолейбол (муж.)","39",{"$f":"Раздел2!F46","v":21},0,0,0,0,0,null,null,null,null,null,null,null,null,null,null,null,null,null,null,null,null,null,null,null,null,null,null,null,null,null,null,null,{"$f":"Раздел2!#REF!","v":{"$error":"#REF!"}}]
[null,"Волейбол (жен.)","40",{"$f":"Раздел2!F47","v":59},0,0,0,0,0,null,null,null,null,null,null,null,null,null,null,null,null,null,null,null,null,null,null,null,null,null,null,null,null,null,null,null,{"$f":"Раздел2!#REF!","v":{"$error":"#REF!"}}]
[null,"Пляжный волейбол (муж.)","41",{"$f":"Раздел2!F48","v":0},0,0,0,0,0,null,null,null,null,null,null,null,null,null,null,null,null,null,null,null,null,null,null,null,null,null,null,null,null,null,null,null,{"$f":"Раздел2!#REF!","v":{"$error":"#REF!"}}]
[null,"Пляжный волейбол (жен.)","42",{"$f":"Раздел2!F49","v":0},0,0,0,0,0,null,null,null,null,null,null,null,null,null,null,null,null,null,null,null,null,null,null,null,null,null,null,null,null,null,null,null,{"$f":"Раздел2!#REF!","v":{"$error":"#REF!"}}]
[null,"Восточное боевое единоборство","43",{"$f":"Раздел2!F50","v":0},0,0,0,0,0,null,null,null,null,null,null,null,null,null,null,null,null,null,null,null,null,null,null,null,null,null,null,null,null,null,null,null,{"$f":"Раздел2!#REF!","v":{"$error":"#REF!"}}]
[null,"Всестилевое карате","44",{"$f":"Раздел2!F51","v":0},0,0,0,0,0,null,null,null,null,null,null,null,null,null,null,null,null,null,null,null,null,null,null,null,null,null,null,null,null,null,null,null,{"$f":"Раздел2!#REF!","v":{"$error":"#REF!"}}]
[null,"Гандбол - всего","45",{"$f":"Раздел2!F52","v":0},0,0,0,0,0,{"$f":"SUM(J53:J55)","v":0},0,0,0,0,0,0,0,0,0,0,0,0,0,0,0,0,0,0,0,0,0,0,0,0,null,null,{"$f":"Раздел2!#REF!","v":{"$error":"#REF!"}}]
[null,"в том числе:\nГандбол (муж.)","46",{"$f":"Раздел2!F53","v":0},0,0,0,0,0,0,0,0,0,0,0,0,0,0,0,0,0,0,0,0,0,0,0,0,0,0,0,0,0,0,null,null,{"$f":"Раздел2!#REF!","v":{"$error":"#REF!"}}]
[null,"Гандбол (жен.)","47",{"$f":"Раздел2!F54","v":0},0,0,0,0,0,0,0,0,0,0,0,0,0,0,0,0,0,0,0,0,0,0,0,0,0,0,0,0,0,0,null,null,{"$f":"Раздел2!#REF!","v":{"$error":"#REF!"}}]
[null,"Пляжный гандбол","48",{"$f":"Раздел2!F55","v":0},0,0,0,0,0,null,null,null,null,null,null,null,null,null,null,null,null,null,null,null,null,null,null,null,null,null,null,null,null,null,null,null,{"$f":"Раздел2!#REF!","v":{"$error":"#REF!"}}]
[null,"Гиревой спорт","49",{"$f":"Раздел2!F56","v":0},0,0,0,0,0,0,0,0,0,0,0,0,0,0,0,0,0,0,0,0,0,0,0,0,0,0,0,0,0,0,null,null,{"$f":"Раздел2!#REF!","v":{"$error":"#REF!"}}]
[null,"Го","50",{"$f":"Раздел2!F57","v":0},0,0,0,0,0,0,0,0,0,0,0,0,0,0,0,0,0,0,0,0,0,0,0,0,0,0,0,0,0,0,null,null,{"$f":"Раздел2!#REF!","v":{"$error":"#REF!"}}]
[null,"Гольф","51",{"$f":"Раздел2!F58","v":0},0,0,0,0,0,0,0,0,0,0,0,0,0,0,0,0,0,0,0,0,0,0,0,0,0,0,0,0,0,0,null,null,{"$f":"Раздел2!#REF!","v":{"$error":"#REF!"}}]
[null,"Горнолыжный спорт","52",{"$f":"Раздел2!F59","v":0},0,0,0,0,0,0,0,0,0,0,0,0,0,0,0,0,0,0,0,0,0,0,0,0,0,0,0,0,0,0,null,null,{"$f":"Раздел2!#REF!","v":{"$error":"#REF!"}}]
[null,"Городошный спорт","53",{"$f":"Раздел2!F60","v":0},0,0,0,0,0,0,0,0,0,0,0,0,0,0,0,0,0,0,0,0,0,0,0,0,0,0,0,0,0,0,null,null,{"$f":"Раздел2!#REF!","v":{"$error":"#REF!"}}]
[null,"Гребля на байдарках и каноэ","54",{"$f":"Раздел2!F61","v":0},0,0,0,0,0,0,0,0,0,0,0,0,0,0,0,0,0,0,0,0,0,0,0,0,0,0,0,0,0,0,null,null,{"$f":"Раздел2!#REF!","v":{"$error":"#REF!"}}]
[null,"Гребля на шлюпках","55",{"$f":"Раздел2!F62","v":0},0,0,0,0,0,null,null,null,null,null,null,null,null,null,null,null,null,null,null,null,null,null,null,null,null,null,null,null,null,null,null,null,{"$f":"Раздел2!#REF!","v":{"$error":"#REF!"}}]
[null,"Гребной слалом","56",{"$f":"Раздел2!F63","v":0},0,0,0,0,0,0,0,0,0,0,0,0,0,0,0,0,0,0,0,0,0,0,0,0,0,0,0,0,0,0,null,null,{"$f":"Раздел2!#REF!","v":{"$error":"#REF!"}}]
[null,"Гребной спорт - всего","57",{"$f":"Раздел2!F64","v":0},0,0,0,0,0,{"$f":"SUM(J65:J68)","v":0},0,0,0,0,0,0,0,0,0,0,0,0,0,0,0,0,0,0,0,0,0,0,0,0,null,null,{"$f":"Раздел2!#REF!","v":{"$error":"#REF!"}}]
[null,"в том числе:\nАкадемическая гребля","58",{"$f":"Раздел2!F65","v":0},0,0,0,0,0,0,0,0,0,0,0,0,0,0,0,0,0,0,0,0,0,0,0,0,0,0,0,0,0,0,null,null,{"$f":"Раздел2!#REF!","v":{"$error":"#REF!"}}]
[null,"Гребля-индор","59",{"$f":"Раздел2!F66","v":0},0,0,0,0,0,0,0,0,0,0,0,0,0,0,0,0,0,0,0,0,0,0,0,0,0,0,0,0,0,0,null,null,{"$f":"Раздел2!#REF!","v":{"$error":"#REF!"}}]
[null,"Народная гребля","60",{"$f":"Раздел2!F67","v":0},0,0,0,0,0,0,0,0,0,0,0,0,0,0,0,0,0,0,0,0,0,0,0,0,0,0,0,0,0,0,null,null,{"$f":"Раздел2!#REF!","v":{"$error":"#REF!"}}]
[null,"Прибрежная гребля","61",{"$f":"Раздел2!F68","v":0},0,0,0,0,0,0,0,0,0,0,0,0,0,0,0,0,0,0,0,0,0,0,0,0,0,0,0,0,0,0,null,null,{"$f":"Раздел2!#REF!","v":{"$error":"#REF!"}}]
[null,"Гребно-парусное двоеборье","62",{"$f":"Раздел2!F69","v":0},0,0,0,0,0,0,0,0,0,0,0,0,0,0,0,0,0,0,0,0,0,0,0,0,0,0,0,0,0,0,null,null,{"$f":"Раздел2!#REF!","v":{"$error":"#REF!"}}]
[null,"Дартс","63",{"$f":"Раздел2!F70","v":0},0,0,0,0,0,0,0,0,0,0,0,0,0,0,0,0,0,0,0,0,0,0,0,0,0,0,0,0,0,0,null,null,{"$f":"Раздел2!#REF!","v":{"$error":"#REF!"}}]
[null,"Джиу-джитсу","64",{"$f":"Раздел2!F71","v":0},0,0,0,0,0,0,0,0,0,0,0,0,0,0,0,0,0,0,0,0,0,0,0,0,0,0,0,0,0,0,null,null,{"$f":"Раздел2!#REF!","v":{"$error":"#REF!"}}]
[null,"Дзюдо","65",{"$f":"Раздел2!F72","v":282},0,0,1,0,6,0,0,0,0,0,0,0,null,0,2,0,0,0,0,1,0,0,0,0,0,0,0,1,0,3,null,null,{"$f":"Раздел2!#REF!","v":{"$error":"#REF!"}}]
[null,"Ездовой спорт","66",{"$f":"Раздел2!F73","v":0},{"$f":"J73+O73+T73+Y73+AD73","v":0},{"$f":"K73+P73+U73+Z73+AE73","v":0},{"$f":"L73+Q73+V73+AA73+AF73","v":0},{"$f":"M73+R73+W73+AB73+AG73","v":0},{"$f":"N73+S73+X73+AC73+AH73","v":0},0,0,0,0,0,0,0,0,0,0,0,0,0,0,0,0,0,0,0,0,0,0,0,0,0,null,null,{"$f":"Раздел2!#REF!","v":{"$error":"#REF!"}}]
[null,"Капоэйра","67",{"$f":"Раздел2!F74","v":0},0,0,0,0,0,0,0,0,0,0,0,0,0,0,0,0,0,0,0,0,0,0,0,0,0,0,0,0,0,0,null,null,{"$f":"Раздел2!#REF!","v":{"$error":"#REF!"}}]
[null,"Каратэ","68",{"$f":"Раздел2!F75","v":0},0,0,0,0,0,0,0,0,0,0,0,0,0,0,0,0,0,0,0,0,0,0,0,0,0,0,0,0,0,0,null,null,{"$f":"Раздел2!#REF!","v":{"$error":"#REF!"}}]
[null,"Кендо","69",{"$f":"Раздел2!F76","v":0},0,0,0,0,0,0,0,0,0,0,0,0,0,0,0,0,0,0,0,0,0,0,0,0,0,0,0,0,0,0,null,null,{"$f":"Раздел2!#REF!","v":{"$error":"#REF!"}}]
[null,"Керешу","70",{"$f":"Раздел2!F77","v":0},0,0,0,0,0,0,0,0,0,0,0,0,0,0,0,0,0,0,0,0,0,0,0,0,0,0,0,0,0,0,null,null,{"$f":"Раздел2!#REF!","v":{"$error":"#REF!"}}]
[null,"Керлинг - всего","71",{"$f":"Раздел2!F78","v":0},0,0,0,0,0,{"$f":"SUM(J79:J80)","v":0},0,0,0,0,0,0,0,0,0,0,0,0,0,0,0,0,0,0,0,0,0,0,0,0,null,null,{"$f":"Раздел2!#REF!","v":{"$error":"#REF!"}}]
[null,"в том числе:\nКерлинг (муж.)","72",{"$f":"Раздел2!F79","v":0},0,0,0,0,0,0,0,0,0,0,0,0,0,0,0,0,0,0,0,0,0,0,0,0,0,0,0,0,0,0,null,null,{"$f":"Раздел2!#REF!","v":{"$error":"#REF!"}}]
[null,"Керлинг (жен.)","73",{"$f":"Раздел2!F80","v":0},0,0,0,0,0,0,0,0,0,0,0,0,0,0,0,0,0,0,0,0,0,0,0,0,0,0,0,0,0,0,null,null,{"$f":"Раздел2!#REF!","v":{"$error":"#REF!"}}]
[null,"Кикбоксинг","74",{"$f":"Раздел2!F81","v":0},0,0,0,0,0,0,0,0,0,0,0,0,0,0,0,0,0,0,0,0,0,0,0,0,0,0,0,0,0,0,null,null,{"$f":"Раздел2!#REF!","v":{"$error":"#REF!"}}]
[null,"Кинологический спорт","75",{"$f":"Раздел2!F82","v":0},0,0,0,0,0,0,0,0,0,0,0,0,0,0,0,0,0,0,0,0,0,0,0,0,0,0,0,0,0,0,null,null,{"$f":"Раздел2!#REF!","v":{"$error":"#REF!"}}]
[null,"Киокусинкай","76",{"$f":"Раздел2!F83","v":0},0,0,0,0,0,0,0,0,0,0,0,0,0,0,0,0,0,0,0,0,0,0,0,0,0,0,0,0,0,0,null,null,{"$f":"Раздел2!#REF!","v":{"$error":"#REF!"}}]
[null,"Комплексное единоборство","77",{"$f":"Раздел2!F84","v":0},0,0,0,0,0,0,0,0,0,0,0,0,0,0,0,0,0,0,0,0,0,0,0,0,0,0,0,0,0,0,null,null,{"$f":"Раздел2!#REF!","v":{"$error":"#REF!"}}]
[null,"Компьютерный спорт","78",{"$f":"Раздел2!F85","v":0},0,0,0,0,0,0,0,0,0,0,0,0,0,0,0,0,0,0,0,0,0,0,0,0,0,0,0,0,0,0,null,null,{"$f":"Раздел2!#REF!","v":{"$error":"#REF!"}}]
[null,"Конный спорт","79",{"$f":"Раздел2!F86","v":0},0,0,0,0,0,0,0,0,0,0,0,0,0,0,0,0,0,0,0,0,0,0,0,0,0,0,0,0,0,0,null,null,{"$f":"Раздел2!#REF!","v":{"$error":"#REF!"}}]
[null,"Конькобежный спорт - всего","80",{"$f":"Раздел2!F87","v":0},0,0,0,0,0,{"$f":"SUM(J88:J89)","v":0},0,0,0,0,0,0,0,0,0,0,0,0,0,0,0,0,0,0,0,0,0,0,0,0,null,null,{"$f":"Раздел2!#REF!","v":{"$error":"#REF!"}}]
[null,"в том числе:\nКонькобежный спорт","81",{"$f":"Раздел2!F88","v":0},0,0,0,0,0,0,0,0,0,0,0,0,0,0,0,0,0,0,0,0,0,0,0,0,0,0,0,0,0,0,null,null,{"$f":"Раздел2!#REF!","v":{"$error":"#REF!"}}]
[null,"Шорт-трек","82",{"$f":"Раздел2!F89","v":0},0,0,0,0,0,0,0,0,0,0,0,0,0,0,0,0,0,0,0,0,0,0,0,0,0,0,0,0,0,0,null,null,{"$f":"Раздел2!#REF!","v":{"$error":"#REF!"}}]
[null,"Корэш","83",{"$f":"Раздел2!F90","v":0},0,0,0,0,0,0,0,0,0,0,0,0,0,0,0,0,0,0,0,0,0,0,0,0,0,0,0,0,0,0,null,null,{"$f":"Раздел2!#REF!","v":{"$error":"#REF!"}}]
[null,"Корфбол","84",{"$f":"Раздел2!F91","v":0},0,0,0,0,0,0,0,0,0,0,0,0,0,0,0,0,0,0,0,0,0,0,0,0,0,0,0,0,0,0,null,null,{"$f":"Раздел2!#REF!","v":{"$error":"#REF!"}}]
[null,"Лапта","85",{"$f":"Раздел2!F92","v":0},0,0,0,0,0,0,0,0,0,0,0,0,0,0,0,0,0,0,0,0,0,0,0,0,0,0,0,0,0,0,null,null,{"$f":"Раздел2!#REF!","v":{"$error":"#REF!"}}]
[null,"Легкая атлетика - всего","86",{"$f":"Раздел2!F93","v":187},0,0,0,0,0,{"$f":"SUM(J94:J100)","v":0},0,0,0,0,0,0,0,0,0,0,0,0,0,0,0,0,0,0,0,0,0,0,0,0,null,null,{"$f":"Раздел2!#REF!","v":{"$error":"#REF!"}}]
[null,"в том числе:\nСпринтерский и барьерный бег","87",{"$f":"Раздел2!F94","v":0},0,0,0,0,0,0,0,0,0,0,0,0,0,0,0,0,0,0,0,0,0,0,0,0,0,0,0,0,0,0,null,null,{"$f":"Раздел2!#REF!","v":{"$error":"#REF!"}}]
[null,"Бег на средние дистанции и бег с препятствиями","88",{"$f":"Раздел2!F95","v":0},0,0,0,0,0,0,0,0,0,0,0,0,0,0,0,0,0,0,0,0,0,0,0,0,0,0,0,0,0,0,null,null,{"$f":"Раздел2!#REF!","v":{"$error":"#REF!"}}]
[null,"Бег на длинные и сверхдлинные дистанции","89",{"$f":"Раздел2!F96","v":0},0,0,0,0,0,0,0,0,0,0,0,0,0,0,0,0,0,0,0,0,0,0,0,0,0,0,0,0,0,0,null,null,{"$f":"Раздел2!#REF!","v":{"$error":"#REF!"}}]
[null,"Многоборья","90",{"$f":"Раздел2!F97","v":187},0,0,0,0,0,0,0,0,0,0,0,0,0,0,0,0,0,0,0,0,0,0,0,0,0,0,0,0,0,0,null,null,{"$f":"Раздел2!#REF!","v":{"$error":"#REF!"}}]
[null,"Прыжки","91",{"$f":"Раздел2!F98","v":0},0,0,0,0,0,0,0,0,0,0,0,0,0,0,0,0,0,0,0,0,0,0,0,0,0,0,0,0,0,0,null,null,{"$f":"Раздел2!#REF!","v":{"$error":"#REF!"}}]
[null,"Метания","92",{"$f":"Раздел2!F99","v":0},0,0,0,0,0,0,0,0,0,0,0,0,0,0,0,0,0,0,0,0,0,0,0,0,0,0,0,0,0,0,null,null,{"$f":"Раздел2!#REF!","v":{"$error":"#REF!"}}]
[null,"Спортивная ходьба","93",{"$f":"Раздел2!F100","v":0},0,0,0,0,0,0,0,0,0,0,0,0,0,0,0,0,0,0,0,0,0,0,0,0,0,0,0,0,0,0,null,null,{"$f":"Раздел2!#REF!","v":{"$error":"#REF!"}}]
[null,"Лыжное двоеборье","94",{"$f":"Раздел2!F101","v":0},0,0,0,0,0,0,0,0,0,0,0,0,0,0,0,0,0,0,0,0,0,0,0,0,0,0,0,0,0,0,null,null,{"$f":"Раздел2!#REF!","v":{"$error":"#REF!"}}]
[null,"Лыжные гонки","95",{"$f":"Раздел2!F102","v":0},0,0,0,0,0,0,0,0,0,0,0,0,0,0,0,0,0,0,0,0,0,0,0,0,0,0,0,0,0,0,null,null,{"$f":"Раздел2!#REF!","v":{"$error":"#REF!"}}]
[null,"Мас-рестлинг","96",{"$f":"Раздел2!F103","v":0},0,0,0,0,0,0,0,0,0,0,0,0,0,0,0,0,0,0,0,0,0,0,0,0,0,0,0,0,0,0,null,null,{"$f":"Раздел2!#REF!","v":{"$error":"#REF!"}}]
[null,"Международное военно-спортивное многоборье","97",{"$f":"Раздел2!F104","v":0},0,0,0,0,0,0,0,0,0,0,0,0,0,0,0,0,0,0,0,0,0,0,0,0,0,0,0,0,0,0,null,null,{"$f":"Раздел2!#REF!","v":{"$error":"#REF!"}}]
[null,"Многоборье кинологов","98",{"$f":"Раздел2!F105","v":0},0,0,0,0,0,0,0,0,0,0,0,0,0,0,0,0,0,0,0,0,0,0,0,0,0,0,0,0,0,0,null,null,{"$f":"Раздел2!#REF!","v":{"$error":"#REF!"}}]
[null,"Многоборье спасателей МЧС России","99",{"$f":"Раздел2!F106","v":0},0,0,0,0,0,0,0,0,0,0,0,0,0,0,0,0,0,0,0,0,0,0,0,0,0,0,0,0,0,0,null,null,{"$f":"Раздел2!#REF!","v":{"$error":"#REF!"}}]
[null,"Морское многоборье","100",{"$f":"Раздел2!F107","v":0},0,0,0,0,0,0,0,0,0,0,0,0,0,0,0,0,0,0,0,0,0,0,0,0,0,0,0,0,0,0,null,null,{"$f":"Раздел2!#REF!","v":{"$error":"#REF!"}}]
[null,"Мотоциклетный спорт","101",{"$f":"Раздел2!F108","v":0},0,0,0,0,0,0,0,0,0,0,0,0,0,0,0,0,0,0,0,0,0,0,0,0,0,0,0,0,0,0,null,null,{"$f":"Раздел2!#REF!","v":{"$error":"#REF!"}}]
[null,"Настольный теннис","102",{"$f":"Раздел2!F109","v":0},0,0,0,0,0,0,0,0,0,0,0,0,0,0,0,0,0,0,0,0,0,0,0,0,0,0,0,0,0,0,null,null,{"$f":"Раздел2!#REF!","v":{"$error":"#REF!"}}]
[null,"Парашютный спорт","103",{"$f":"Раздел2!F110","v":0},0,0,0,0,0,0,0,0,0,0,0,0,0,0,0,0,0,0,0,0,0,0,0,0,0,0,0,0,0,0,null,null,{"$f":"Раздел2!#REF!","v":{"$error":"#REF!"}}]
[null,"Парусный спорт","104",{"$f":"Раздел2!F111","v":0},0,0,0,0,0,0,0,0,0,0,0,0,0,0,0,0,0,0,0,0,0,0,0,0,0,0,0,0,0,0,null,null,{"$f":"Раздел2!#REF!","v":{"$error":"#REF!"}}]
[null,"Пауэрлифтинг","105",{"$f":"Раздел2!F112","v":0},0,0,0,0,0,0,0,0,0,0,0,0,0,0,0,0,0,0,0,0,0,0,0,0,0,0,0,0,0,0,null,null,{"$f":"Раздел2!#REF!","v":{"$error":"#REF!"}}]
[null,"Перетягивание каната","106",{"$f":"Раздел2!F113","v":0},0,0,0,0,0,0,0,0,0,0,0,0,0,0,0,0,0,0,0,0,0,0,0,0,0,0,0,0,0,0,null,null,{"$f":"Раздел2!#REF!","v":{"$error":"#REF!"}}]
[null,"Петанк","107",{"$f":"Раздел2!F114","v":0},0,0,0,0,0,0,0,0,0,0,0,0,0,0,0,0,0,0,0,0,0,0,0,0,0,0,0,0,0,0,null,null,{"$f":"Раздел2!#REF!","v":{"$error":"#REF!"}}]
[null,"Плавание - всего","108",{"$f":"Раздел2!F115","v":0},0,0,0,0,0,{"$f":"SUM(J116:J117)","v":0},0,0,0,0,0,0,0,0,0,0,0,0,0,0,0,0,0,0,0,0,0,0,0,0,null,null,{"$f":"Раздел2!#REF!","v":{"$error":"#REF!"}}]
[null,"в том числе:\nПлавание ","109",{"$f":"Раздел2!F116","v":0},0,0,0,0,0,0,0,0,0,0,0,0,0,0,0,0,0,0,0,0,0,0,0,0,0,0,0,0,0,0,null,null,{"$f":"Раздел2!#REF!","v":{"$error":"#REF!"}}]
[null,"Открытая вода","110",{"$f":"Раздел2!F117","v":0},0,0,0,0,0,0,0,0,0,0,0,0,0,0,0,0,0,0,0,0,0,0,0,0,0,0,0,0,0,0,null,null,{"$f":"Раздел2!#REF!","v":{"$error":"#REF!"}}]
[null,"Планерный спорт","111",{"$f":"Раздел2!F118","v":0},0,0,0,0,0,0,0,0,0,0,0,0,0,0,0,0,0,0,0,0,0,0,0,0,0,0,0,0,0,0,null,null,{"$f":"Раздел2!#REF!","v":{"$error":"#REF!"}}]
[null,"Подводный спорт","112",{"$f":"Раздел2!F119","v":0},0,0,0,0,0,0,0,0,0,0,0,0,0,0,0,0,0,0,0,0,0,0,0,0,0,0,0,0,0,0]
[null,"Пожарно-прикладной спорт","113",{"$f":"Раздел2!F120","v":0},0,0,0,0,0,0,0,0,0,0,0,0,0,0,0,0,0,0,0,0,0,0,0,0,0,0,0,0,0,0]
[null,"Полиатлон","114",{"$f":"Раздел2!F121","v":0},0,0,0,0,0,0,0,0,0,0,0,0,0,0,0,0,0,0,0,0,0,0,0,0,0,0,0,0,0,0]
[null,"Практическая стрельба","115",{"$f":"Раздел2!F122","v":0},0,0,0,0,0,0,0,0,0,0,0,0,0,0,0,0,0,0,0,0,0,0,0,0,0,0,0,0,0,0]
[null,"Прыжки в воду - всего","116",{"$f":"Раздел2!F123","v":0},0,0,0,0,0,{"$f":"SUM(J124:J125)","v":0},0,0,0,0,0,0,0,0,0,0,0,0,0,0,0,0,0,0,0,0,0,0,0,0]
[null,"в том числе:\nПрыжки в воду","117",{"$f":"Раздел2!F124","v":0},0,0,0,0,0,0,0,0,0,0,0,0,0,0,0,0,0,0,0,0,0,0,0,0,0,0,0,0,0,0]
[null,"Прыжки в открытый водоем","118",{"$f":"Раздел2!F125","v":0},0,0,0,0,0,0,0,0,0,0,0,0,0,0,0,0,0,0,0,0,0,0,0,0,0,0,0,0,0,0]
[null,"Прыжки на батуте - всего","119",{"$f":"Раздел2!F126","v":0},0,0,0,0,0,{"$f":"SUM(J127:J130)","v":0},0,0,0,0,0,0,0,0,0,0,0,0,0,0,0,0,0,0,0,0,0,0,0,0]
[null,"в том числе:\nАкробатическая дорожка","120",{"$f":"Раздел2!F127","v":0},0,0,0,0,0,0,0,0,0,0,0,0,0,0,0,0,0,0,0,0,0,0,0,0,0,0,0,0,0,0]
[null,"Двойной минитрамп","121",{"$f":"Раздел2!F128","v":0},0,0,0,0,0,0,0,0,0,0,0,0,0,0,0,0,0,0,0,0,0,0,0,0,0,0,0,0,0,0]
[null,"Индивидуальные прыжки","122",{"$f":"Раздел2!F129","v":0},0,0,0,0,0,0,0,0,0,0,0,0,0,0,0,0,0,0,0,0,0,0,0,0,0,0,0,0,0,0]
[null,"Синхронные прыжки","123",{"$f":"Раздел2!F130","v":0},0,0,0,0,0,0,0,0,0,0,0,0,0,0,0,0,0,0,0,0,0,0,0,0,0,0,0,0,0,0]
[null,"Прыжки на лыжах с трамплина","124",{"$f":"Раздел2!F131","v":0},0,0,0,0,0,0,0,0,0,0,0,0,0,0,0,0,0,0,0,0,0,0,0,0,0,0,0,0,0,0]
[null,"Пулевая стрельба - всего","125",{"$f":"Раздел2!F132","v":0},0,0,0,0,0,{"$f":"SUM(J133:J137)","v":0},0,0,0,0,0,0,0,0,0,0,0,0,0,0,0,0,0,0,0,0,0,0,0,0]
[null,"в том числе:\nПневматическая винтовка","126",{"$f":"Раздел2!F133","v":0},0,0,0,0,0,0,0,0,0,0,0,0,0,0,0,0,0,0,0,0,0,0,0,0,0,0,0,0,0,0]
[null,"Пневматический пистолет","127",{"$f":"Раздел2!F134","v":0},0,0,0,0,0,0,0,0,0,0,0,0,0,0,0,0,0,0,0,0,0,0,0,0,0,0,0,0,0,0]
[null,"Малокалиберная винтовка","128",{"$f":"Раздел2!F135","v":0},0,0,0,0,0,0,0,0,0,0,0,0,0,0,0,0,0,0,0,0,0,0,0,0,0,0,0,0,0,0]
[null,"Малокалиберный пистолет","129",{"$f":"Раздел2!F136","v":0},0,0,0,0,0,0,0,0,0,0,0,0,0,0,0,0,0,0,0,0,0,0,0,0,0,0,0,0,0,0]
[null,"Движущаяся мишень","130",{"$f":"Раздел2!F137","v":0},{"$f":"J137+O137+T137+Y137+AD137","v":0},{"$f":"K137+P137+U137+Z137+AE137","v":0},{"$f":"L137+Q137+V137+AA137+AF137","v":0},{"$f":"M137+R137+W137+AB137+AG137","v":0},{"$f":"N137+S137+X137+AC137+AH137","v":0},0,0,0,0,0,0,0,0,0,0,0,0,0,0,0,0,0,0,0,0,0,0,0,0,0]
[null,"Пэйнтбол","131",{"$f":"Раздел2!F138","v":0},0,0,0,0,0,0,0,0,0,0,0,0,0,0,0,0,0,0,0,0,0,0,0,0,0,0,0,0,0,0]
[null,"Радиоспорт","132",{"$f":"Раздел2!F139","v":0},0,0,0,0,0,0,0,0,0,0,0,0,0,0,0,0,0,0,0,0,0,0,0,0,0,0,0,0,0,0]
[null,"Рафтинг","133",{"$f":"Раздел2!F140","v":0},0,0,0,0,0,0,0,0,0,0,0,0,0,0,0,0,0,0,0,0,0,0,0,0,0,0,0,0,0,0]
[null,"Регби - всего","134",{"$f":"Раздел2!F141","v":0},0,0,0,0,0,{"$f":"SUM(J142:J145)","v":0},0,0,0,0,0,0,0,0,0,0,0,0,0,0,0,0,0,0,0,0,0,0,0,0]
[null,"в том числе:\nРегби","135",{"$f":"Раздел2!F142","v":0},0,0,0,0,0,0,0,0,0,0,0,0,0,0,0,0,0,0,0,0,0,0,0,0,0,0,0,0,0,0]
[null,"Регби 7 (муж.)","136",{"$f":"Раздел2!F143","v":0},0,0,0,0,0,0,0,0,0,0,0,0,0,0,0,0,0,0,0,0,0,0,0,0,0,0,0,0,0,0]
[null,"Регби 7 (жен.)","137",{"$f":"Раздел2!F144","v":0},0,0,0,0,0,0,0,0,0,0,0,0,0,0,0,0,0,0,0,0,0,0,0,0,0,0,0,0,0,0]
[null,"Регби - пляжное","138",{"$f":"Раздел2!F145","v":0},0,0,0,0,0,0,0,0,0,0,0,0,0,0,0,0,0,0,0,0,0,0,0,0,0,0,0,0,0,0]
[null,"Регбол","139",{"$f":"Раздел2!F146","v":0},0,0,0,0,0,0,0,0,0,0,0,0,0,0,0,0,0,0,0,0,0,0,0,0,0,0,0,0,0,0]
[null,"Роллер спорт","140",{"$f":"Раздел2!F147","v":0},0,0,0,0,0,0,0,0,0,0,0,0,0,0,0,0,0,0,0,0,0,0,0,0,0,0,0,0,0,0]
[null,"Рукопашный бой","141",{"$f":"Раздел2!F148","v":0},0,0,0,0,0,0,0,0,0,0,0,0,0,0,0,0,0,0,0,0,0,0,0,0,0,0,0,0,0,0]
[null,"Рыболовный спорт","142",{"$f":"Раздел2!F149","v":0},0,0,0,0,0,0,0,0,0,0,0,0,0,0,0,0,0,0,0,0,0,0,0,0,0,0,0,0,0,0]
[null,"Сават","143",{"$f":"Раздел2!F150","v":0},0,0,0,0,0,0,0,0,0,0,0,0,0,0,0,0,0,0,0,0,0,0,0,0,0,0,0,0,0,0]
[null,"Самбо","144",{"$f":"Раздел2!F151","v":0},0,0,0,0,0,0,0,0,0,0,0,0,0,0,0,0,0,0,0,0,0,0,0,0,0,0,0,0,0,0]
[null,"Самолетный спорт","145",{"$f":"Раздел2!F152","v":0},0,0,0,0,0,0,0,0,0,0,0,0,0,0,0,0,0,0,0,0,0,0,0,0,0,0,0,0,0,0]
[null,"Санный спорт","146",{"$f":"Раздел2!F153","v":0},0,0,0,0,0,0,0,0,0,0,0,0,0,0,0,0,0,0,0,0,0,0,0,0,0,0,0,0,0,0]
[null,"Северное многоборье","147",{"$f":"Раздел2!F154","v":0},0,0,0,0,0,0,0,0,0,0,0,0,0,0,0,0,0,0,0,0,0,0,0,0,0,0,0,0,0,0]
[null,"Серфинг","148",{"$f":"Раздел2!F155","v":0},0,0,0,0,0,0,0,0,0,0,0,0,0,0,0,0,0,0,0,0,0,0,0,0,0,0,0,0,0,0]
[null,"Синхронное плавание","149",{"$f":"Раздел2!F156","v":0},0,0,0,0,0,0,0,0,0,0,0,0,0,0,0,0,0,0,0,0,0,0,0,0,0,0,0,0,0,0]
[null,"Скалолазание","150",{"$f":"Раздел2!F157","v":0},0,0,0,0,0,0,0,0,0,0,0,0,0,0,0,0,0,0,0,0,0,0,0,0,0,0,0,0,0,0]
[null,"Скейтбординг","151",{"$f":"Раздел2!F158","v":0},0,0,0,0,0,0,0,0,0,0,0,0,0,0,0,0,0,0,0,0,0,0,0,0,0,0,0,0,0,0]
[null,"Сквош","152",{"$f":"Раздел2!F159","v":0},0,0,0,0,0,0,0,0,0,0,0,0,0,0,0,0,0,0,0,0,0,0,0,0,0,0,0,0,0,0]
[null,"Служебно-прикладной спорт ФСО России","153",{"$f":"Раздел2!F160","v":0},0,0,0,0,0,0,0,0,0,0,0,0,0,0,0,0,0,0,0,0,0,0,0,0,0,0,0,0,0,0]
[null,"Служебно-прикладной спорт ГФС России","154",{"$f":"Раздел2!F161","v":0},0,0,0,0,0,0,0,0,0,0,0,0,0,0,0,0,0,0,0,0,0,0,0,0,0,0,0,0,0,0]
[null,"Служебно-прикладной спорт ФСКН России","155",{"$f":"Раздел2!F162","v":0},0,0,0,0,0,0,0,0,0,0,0,0,0,0,0,0,0,0,0,0,0,0,0,0,0,0,0,0,0,0]
[null,"Служебно-прикладной спорт ФТС России","156",{"$f":"Раздел2!F163","v":0},0,0,0,0,0,0,0,0,0,0,0,0,0,0,0,0,0,0,0,0,0,0,0,0,0,0,0,0,0,0]
[null,"Служебное двоеборье","157",{"$f":"Раздел2!F164","v":0},0,0,0,0,0,0,0,0,0,0,0,0,0,0,0,0,0,0,0,0,0,0,0,0,0,0,0,0,0,0]
[null,"Служебное единоборство","158",{"$f":"Раздел2!F165","v":0},0,0,0,0,0,0,0,0,0,0,0,0,0,0,0,0,0,0,0,0,0,0,0,0,0,0,0,0,0,0]
[null,"Служебное многоборье","159",{"$f":"Раздел2!F166","v":0},0,0,0,0,0,0,0,0,0,0,0,0,0,0,0,0,0,0,0,0,0,0,0,0,0,0,0,0,0,0]
[null,"Служебное собаководство","160",{"$f":"Раздел2!F167","v":0},0,0,0,0,0,0,0,0,0,0,0,0,0,0,0,0,0,0,0,0,0,0,0,0,0,0,0,0,0,0]
[null,"Служебный биатлон","161",{"$f":"Раздел2!F168","v":0},0,0,0,0,0,0,0,0,0,0,0,0,0,0,0,0,0,0,0,0,0,0,0,0,0,0,0,0,0,0]
[null,"Спасательный спорт","162",{"$f":"Раздел2!F169","v":0},0,0,0,0,0,0,0,0,0,0,0,0,0,0,0,0,0,0,0,0,0,0,0,0,0,0,0,0,0,0]
[null,"Стрельба из боевого ручного стрелкового оружия","163",{"$f":"Раздел2!F170","v":0},0,0,0,0,0,0,0,0,0,0,0,0,0,0,0,0,0,0,0,0,0,0,0,0,0,0,0,0,0,0]
[null,"Стрельба из штатного или табельного оружия","164",{"$f":"Раздел2!F171","v":0},0,0,0,0,0,0,0,0,0,0,0,0,0,0,0,0,0,0,0,0,0,0,0,0,0,0,0,0,0,0]
[null,"Смешанное боевое единоборство (ММА)","165",{"$f":"Раздел2!F172","v":0},0,0,0,0,0,0,0,0,0,0,0,0,0,0,0,0,0,0,0,0,0,0,0,0,0,0,0,0,0,0]
[null,"Сноуборд","166",{"$f":"Раздел2!F173","v":0},0,0,0,0,0,0,0,0,0,0,0,0,0,0,0,0,0,0,0,0,0,0,0,0,0,0,0,0,0,0]
[null,"Современное пятиборье","167",{"$f":"Раздел2!F174","v":0},0,0,0,0,0,0,0,0,0,0,0,0,0,0,0,0,0,0,0,0,0,0,0,0,0,0,0,0,0,0]
[null,"Софтбол","168",{"$f":"Раздел2!F175","v":0},0,0,0,0,0,0,0,0,0,0,0,0,0,0,0,0,0,0,0,0,0,0,0,0,0,0,0,0,0,0]
[null,"Спорт сверхлегкой авиации","169",{"$f":"Раздел2!F176","v":0},0,0,0,0,0,0,0,0,0,0,0,0,0,0,0,0,0,0,0,0,0,0,0,0,0,0,0,0,0,0]
[null,"Спортивная акробатика","170",{"$f":"Раздел2!F177","v":0},0,0,0,0,0,0,0,0,0,0,0,0,0,0,0,0,0,0,0,0,0,0,0,0,0,0,0,0,0,0]
[null,"Спортивная аэробика","171",{"$f":"Раздел2!F178","v":297},0,0,0,0,0,0,0,0,0,0,0,0,0,0,0,0,0,0,0,0,0,0,0,0,0,0,0,0,0,0]
[null,"Спортивная борьба - всего","172",{"$f":"Раздел2!F179","v":0},0,0,0,0,0,{"$f":"SUM(J180:J184)","v":0},0,0,0,0,0,0,0,0,0,0,0,0,0,0,0,0,0,0,0,0,0,0,0,0]
[null,"в том числе:\nВольная борьба","173",{"$f":"Раздел2!F180","v":0},0,0,0,0,0,0,0,0,0,0,0,0,0,0,0,0,0,0,0,0,0,0,0,0,0,0,0,0,0,0]
[null,"Греко-римская борьба","174",{"$f":"Раздел2!F181","v":0},0,0,0,0,0,0,0,0,0,0,0,0,0,0,0,0,0,0,0,0,0,0,0,0,0,0,0,0,0,0]
[null,"Грэпплинг","175",{"$f":"Раздел2!F182","v":0},0,0,0,0,0,0,0,0,0,0,0,0,0,0,0,0,0,0,0,0,0,0,0,0,0,0,0,0,0,0]
[null,"Грэпплинг-ги","176",{"$f":"Раздел2!F183","v":0},0,0,0,0,0,0,0,0,0,0,0,0,0,0,0,0,0,0,0,0,0,0,0,0,0,0,0,0,0,0]
[null,"Панкратион","177",{"$f":"Раздел2!F184","v":0},0,0,0,0,0,0,0,0,0,0,0,0,0,0,0,0,0,0,0,0,0,0,0,0,0,0,0,0,0,0]
[null,"Спортивно-прикладное собаководство","178",{"$f":"Раздел2!F185","v":0},0,0,0,0,0,0,0,0,0,0,0,0,0,0,0,0,0,0,0,0,0,0,0,0,0,0,0,0,0,0]
[null,"Спортивная гимнастика","179",{"$f":"Раздел2!F186","v":0},0,0,0,0,0,0,0,0,0,0,0,0,0,0,0,0,0,0,0,0,0,0,0,0,0,0,0,0,0,0]
[null,"Спортивное ориентирование","180",{"$f":"Раздел2!F187","v":0},0,0,0,0,0,0,0,0,0,0,0,0,0,0,0,0,0,0,0,0,0,0,0,0,0,0,0,0,0,0]
[null,"Спортивный бридж","181",{"$f":"Раздел2!F188","v":0},0,0,0,0,0,0,0,0,0,0,0,0,0,0,0,0,0,0,0,0,0,0,0,0,0,0,0,0,0,0]
[null,"Спортивный туризм","182",{"$f":"Раздел2!F189","v":0},0,0,0,0,0,0,0,0,0,0,0,0,0,0,0,0,0,0,0,0,0,0,0,0,0,0,0,0,0,0]
[null,"Стендовая стрельба - всего","183",{"$f":"Раздел2!F190","v":0},0,0,0,0,0,{"$f":"SUM(J191:J194)","v":0},0,0,0,0,0,0,0,0,0,0,0,0,0,0,0,0,0,0,0,0,0,0,0,0]
[null,"в том числе:\nТрап","184",{"$f":"Раздел2!F191","v":0},0,0,0,0,0,0,0,0,0,0,0,0,0,0,0,0,0,0,0,0,0,0,0,0,0,0,0,0,0,0]
[null,"Скит","185",{"$f":"Раздел2!F192","v":0},0,0,0,0,0,0,0,0,0,0,0,0,0,0,0,0,0,0,0,0,0,0,0,0,0,0,0,0,0,0]
[null,"Дубль-трап","186",{"$f":"Раздел2!F193","v":0},0,0,0,0,0,0,0,0,0,0,0,0,0,0,0,0,0,0,0,0,0,0,0,0,0,0,0,0,0,0]
[null,"Спортинг","187",{"$f":"Раздел2!F194","v":0},0,0,0,0,0,0,0,0,0,0,0,0,0,0,0,0,0,0,0,0,0,0,0,0,0,0,0,0,0,0]
[null,"Стрельба из арбалета","188",{"$f":"Раздел2!F195","v":0},0,0,0,0,0,0,0,0,0,0,0,0,0,0,0,0,0,0,0,0,0,0,0,0,0,0,0,0,0,0]
[null,"Стрельба из лука - всего","189",{"$f":"Раздел2!F196","v":0},0,0,0,0,0,{"$f":"SUM(J197:J199)","v":0},0,0,0,0,0,0,0,0,0,0,0,0,0,0,0,0,0,0,0,0,0,0,0,0]
[null,"в том числе:\nКлассический лук","190",{"$f":"Раздел2!F197","v":0},0,0,0,0,0,0,0,0,0,0,0,0,0,0,0,0,0,0,0,0,0,0,0,0,0,0,0,0,0,0]
[null,"   Блочный лук","191",{"$f":"Раздел2!F198","v":0},0,0,0,0,0,0,0,0,0,0,0,0,0,0,0,0,0,0,0,0,0,0,0,0,0,0,0,0,0,0]
[null,"   Ачери ","192",{"$f":"Раздел2!F199","v":0},0,0,0,0,0,0,0,0,0,0,0,0,0,0,0,0,0,0,0,0,0,0,0,0,0,0,0,0,0,0]
[null,"Судомодельный спорт","193",{"$f":"Раздел2!F200","v":0},0,0,0,0,0,0,0,0,0,0,0,0,0,0,0,0,0,0,0,0,0,0,0,0,0,0,0,0,0,0]
[null,"Сумо","194",{"$f":"Раздел2!F201","v":0},{"$f":"J201+O201+T201+Y201+AD201","v":0},{"$f":"K201+P201+U201+Z201+AE201","v":0},{"$f":"L201+Q201+V201+AA201+AF201","v":0},{"$f":"M201+R201+W201+AB201+AG201","v":0},{"$f":"N201+S201+X201+AC201+AH201","v":0},0,0,0,0,0,0,0,0,0,0,0,0,0,0,0,0,0,0,0,0,0,0,0,0,0]
[null,"Тайский бокс","195",{"$f":"Раздел2!F202","v":0},0,0,0,0,0,0,0,0,0,0,0,0,0,0,0,0,0,0,0,0,0,0,0,0,0,0,0,0,0,0]
[null,"Танцевальный спорт","196",{"$f":"Раздел2!F203","v":0},0,0,0,0,0,0,0,0,0,0,0,0,0,0,0,0,0,0,0,0,0,0,0,0,0,0,0,0,0,0]
[null,"Теннис","197",{"$f":"Раздел2!F204","v":0},0,0,0,0,0,0,0,0,0,0,0,0,0,0,0,0,0,0,0,0,0,0,0,0,0,0,0,0,0,0]
[null,"Триатлон","198",{"$f":"Раздел2!F205","v":0},0,0,0,0,0,0,0,0,0,0,0,0,0,0,0,0,0,0,0,0,0,0,0,0,0,0,0,0,0,0]
[null,"Тхэквондо - всего","199",{"$f":"Раздел2!F206","v":0},0,0,0,0,0,{"$f":"SUM(J207:J208)","v":0},0,0,0,0,0,0,0,0,0,0,0,0,0,0,0,0,0,0,0,0,0,0,0,0]
[null,"в том числе:\nТхэквондо (ГТФ, ИТФ, МФТ)","200",{"$f":"Раздел2!F207","v":0},0,0,0,0,0,0,0,0,0,0,0,0,0,0,0,0,0,0,0,0,0,0,0,0,0,0,0,0,0,0]
[null,"Тхэквондо (ВТФ)","201",{"$f":"Раздел2!F208","v":0},0,0,0,0,0,0,0,0,0,0,0,0,0,0,0,0,0,0,0,0,0,0,0,0,0,0,0,0,0,0]
[null,"Тяжелая атлетика","202",{"$f":"Раздел2!F209","v":0},0,0,0,0,0,0,0,0,0,0,0,0,0,0,0,0,0,0,0,0,0,0,0,0,0,0,0,0,0,0]
[null,"Универсальный бой","203",{"$f":"Раздел2!F210","v":0},0,0,0,0,0,0,0,0,0,0,0,0,0,0,0,0,0,0,0,0,0,0,0,0,0,0,0,0,0,0]
[null,"Ушу","204",{"$f":"Раздел2!F211","v":0},0,0,0,0,0,0,0,0,0,0,0,0,0,0,0,0,0,0,0,0,0,0,0,0,0,0,0,0,0,0]
[null,"Фехтование - всего","205",{"$f":"Раздел2!F212","v":0},0,0,0,0,0,{"$f":"SUM(J213:J216)","v":0},0,0,0,0,0,0,0,0,0,0,0,0,0,0,0,0,0,0,0,0,0,0,0,0]
[null,"в том числе:\nРапира","206",{"$f":"Раздел2!F213","v":0},0,0,0,0,0,0,0,0,0,0,0,0,0,0,0,0,0,0,0,0,0,0,0,0,0,0,0,0,0,0]
[null,"Сабля","207",{"$f":"Раздел2!F214","v":0},0,0,0,0,0,0,0,0,0,0,0,0,0,0,0,0,0,0,0,0,0,0,0,0,0,0,0,0,0,0]
[null,"Шпага","208",{"$f":"Раздел2!F215","v":0},0,0,0,0,0,0,0,0,0,0,0,0,0,0,0,0,0,0,0,0,0,0,0,0,0,0,0,0,0,0]
[null,"Арт-фехтование","209",{"$f":"Раздел2!F216","v":0},0,0,0,0,0,0,0,0,0,0,0,0,0,0,0,0,0,0,0,0,0,0,0,0,0,0,0,0,0,0]
[null,"Фигурное катание на коньках","210",{"$f":"Раздел2!F217","v":0},0,0,0,0,0,0,0,0,0,0,0,0,0,0,0,0,0,0,0,0,0,0,0,0,0,0,0,0,0,0]
[null,"Фитнес-аэробика","211",{"$f":"Раздел2!F218","v":0},0,0,0,0,0,0,0,0,0,0,0,0,0,0,0,0,0,0,0,0,0,0,0,0,0,0,0,0,0,0]
[null,"Флаинг диск","212",{"$f":"Раздел2!F219","v":0},0,0,0,0,0,0,0,0,0,0,0,0,0,0,0,0,0,0,0,0,0,0,0,0,0,0,0,0,0,0]
[null,"Флорбол","213",{"$f":"Раздел2!F220","v":0},0,0,0,0,0,0,0,0,0,0,0,0,0,0,0,0,0,0,0,0,0,0,0,0,0,0,0,0,0,0]
[null,"Фристайл - всего","214",{"$f":"Раздел2!F221","v":0},0,0,0,0,0,{"$f":"SUM(J222:J226)","v":0},0,0,0,0,0,0,0,0,0,0,0,0,0,0,0,0,0,0,0,0,0,0,0,0]
[null,"в том числе:\nАкробатика","215",{"$f":"Раздел2!F222","v":0},0,0,0,0,0,0,0,0,0,0,0,0,0,0,0,0,0,0,0,0,0,0,0,0,0,0,0,0,0,0]
[null,"Могул","216",{"$f":"Раздел2!F223","v":0},0,0,0,0,0,0,0,0,0,0,0,0,0,0,0,0,0,0,0,0,0,0,0,0,0,0,0,0,0,0]
[null,"Ски-кросс","217",{"$f":"Раздел2!F224","v":0},0,0,0,0,0,0,0,0,0,0,0,0,0,0,0,0,0,0,0,0,0,0,0,0,0,0,0,0,0,0]
[null,"Хаф-пайп","218",{"$f":"Раздел2!F225","v":0},0,0,0,0,0,0,0,0,0,0,0,0,0,0,0,0,0,0,0,0,0,0,0,0,0,0,0,0,0,0]
[null,"Слоуп-стайл","219",{"$f":"Раздел2!F226","v":0},0,0,0,0,0,0,0,0,0,0,0,0,0,0,0,0,0,0,0,0,0,0,0,0,0,0,0,0,0,0]
[null,"Футбол - всего","220",{"$f":"Раздел2!F227","v":123},0,0,0,0,0,{"$f":"SUM(J228:J231)","v":0},0,0,0,0,0,0,0,0,0,0,0,0,0,0,0,0,0,0,0,0,0,0,0,0]
[null,"в том числе:\nФутбол (муж.)","221",{"$f":"Раздел2!F228","v":115},0,0,0,0,0,0,0,0,0,0,0,0,0,0,0,0,0,0,0,0,0,0,0,0,0,0,0,0,0,0]
[null,"Футбол (жен.)","222",{"$f":"Раздел2!F229","v":8},0,0,0,0,0,0,0,0,0,0,0,0,0,0,0,0,0,0,0,0,0,0,0,0,0,0,0,0,0,0]
[null,"Мини-футбол (футзал)","223",{"$f":"Раздел2!F230","v":0},0,0,0,0,0,0,0,0,0,0,0,0,0,0,0,0,0,0,0,0,0,0,0,0,0,0,0,0,0,0]
[null,"Пляжный футбол","224",{"$f":"Раздел2!F231","v":0},0,0,0,0,0,0,0,0,0,0,0,0,0,0,0,0,0,0,0,0,0,0,0,0,0,0,0,0,0,0]
[null,"Хапсагай","225",{"$f":"Раздел2!F232","v":0},0,0,0,0,0,0,0,0,0,0,0,0,0,0,0,0,0,0,0,0,0,0,0,0,0,0,0,0,0,0]
[null,"Хоккей - всего","226",{"$f":"Раздел2!F233","v":0},0,0,0,0,0,{"$f":"SUM(J234:J235)","v":0},0,0,0,0,0,0,0,0,0,0,0,0,0,0,0,0,0,0,0,0,0,0,0,0]
[null,"в том числе:\nХоккей (муж.)","227",{"$f":"Раздел2!F234","v":0},0,0,0,0,0,0,0,0,0,0,0,0,0,0,0,0,0,0,0,0,0,0,0,0,0,0,0,0,0,0]
[null,"Хоккей (жен.)","228",{"$f":"Раздел2!F235","v":0},0,0,0,0,0,0,0,0,0,0,0,0,0,0,0,0,0,0,0,0,0,0,0,0,0,0,0,0,0,0]
[null,"Хоккей на траве - всего","229",{"$f":"Раздел2!F236","v":0},0,0,0,0,0,{"$f":"SUM(J237:J239)","v":0},0,0,0,0,0,0,0,0,0,0,0,0,0,0,0,0,0,0,0,0,0,0,0,0]
[null,"в том числе:\nХоккей на траве (муж.)","230",{"$f":"Раздел2!F237","v":0},0,0,0,0,0]
[null,"Хоккей на траве (жен.)","231",{"$f":"Раздел2!F238","v":0},0,0,0,0,0]
[null,"Индорхоккей","232",{"$f":"Раздел2!F239","v":0},0,0,0,0,0]
[null,"Хоккей с мячом","233",{"$f":"Раздел2!F240","v":0},0,0,0,0,0]
[null,"Художественная гимнастика","234",{"$f":"Раздел2!F241","v":102},0,0,0,0,0]
[null,"Хуреш","235",{"$f":"Раздел2!F242","v":0},0,0,0,0,0]
[null,"Черлидинг","236",{"$f":"Раздел2!F243","v":0},0,0,0,0,0]
[null,"Чир спорт","237",{"$f":"Раздел2!F244","v":0},0,0,0,0,0]
[null,"Шахматы","238",{"$f":"Раздел2!F245","v":0},0,0,0,0,0]
[null,"Шашки","239",{"$f":"Раздел2!F246","v":0},0,0,0,0,0]
[null,"Эстетическая гимнастика","240",{"$f":"Раздел2!F247","v":0},0,0,0,0,0]
[null,"Якутские национальные прыжки","241",{"$f":"Раздел2!F248","v":0},0,0,0,0,0]
[null,"ИТОГО","242",{"$f":"Раздел2!F249","v":1295},0,0,1,0,6,{"$f":"SUM(J8:J19,J22:J25,J28:J38,J41:J45,J50:J52,J56:J64,J69:J78,J81:J87,J90:J93,J101:J115,J118:J123,J126,J131,J132,J138:J141,J146:J179,J185:J190,J195,J196,J200:J206,J209:J212,J217:J221,J227,J232,J233,J236,J240:J248)","v":0},0,0,0,0,0,0,0,0,2,0,0,0,0,1,0,0,0,0,0,0,0,1,0,3]

{"sheet":"Раздел7","index":7,"n_rows":249,"n_cols":62,"rows_kept":249,"cut":false,"hidden":false,"merged":[[0,59,118,59],[2,61,5,61],[3,39,4,43],[3,44,4,48],[3,34,4,38],[3,49,4,53],[3,54,4,58],[1,51,1,58],[2,34,2,58],[0,0,118,0],[2,1,5,1],[2,2,5,2],[0,1,0,33],[2,3,5,3],[2,4,2,33],[1,24,1,33],[3,14,4,18],[3,4,4,8],[3,9,4,13],[3,19,4,23],[3,24,4,28],[3,29,4,33]]}
[null,"Раздел VII. Международные спортивные соревнования"]
[null,null,null,null,null,null,null,null,null,null,null,null,null,null,null,null,null,null,null,null,null,null,null,null,"Коды по ОКЕИ: человек - 792, единица - 642"]
[null,"Виды спорта","№ строки","Всего зани-маю-щихся","Результаты выступлений на соревнованиях",null,null,null,null,null,null,null,null,null,null,null,null,null,null,null,null,null,null,null,null,null,null,null,null,null,null,null,null,null,"Результаты выступлений на соревнованиях",null,null,null,null,null,null,null,null,null,null,null,null,null,null,null,null,null,null,null,null,null,null,null,null,null,null,"Раздел2 графа3\nЧисло отделений"]
[null,null,null,null,"Всего",null,null,null,null,"Олимпийские игры",null,null,null,null,"Чемпионат мира",null,null,null,null,"Юношеские Олимпийские игры",null,null,null,null,"Первенство мира",null,null,null,null,"Кубок мира",null,null,null,null,"Этапы Кубка мира",null,null,null,null,"Чемпионат Европы",null,null,null,null,"Первенство Европы",null,null,null,null,"Кубок Европы",null,null,null,null,"Прочие официальные международные соревнования"]
[]
[null,null,null,null,1,2,3,"4-6","учас-тие",1,2,3,"4-6","учас-тие",1,2,3,"4-6","учас-тие",1,2,3,"4-6","учас-тие",1,2,3,"4-6","учас-тие",1,2,3,"4-6","учас-тие",1,2,3,"4-6","учас-тие",1,2,3,"4-6","учас-тие",1,2,3,"4-6","учас-тие",1,2,3,"4-6","учас-тие",1,2,3,"4-6","учас-тие"]
[null,1,2,3,4,5,6,7,8,9,10,11,12,13,14,15,16,17,18,19,20,21,22,23,24,25,26,27,28,29,30,31,32,33,34,35,36,37,38,39,40,41,42,43,44,45,46,47,48,49,50,51,52,53,54,55,56,57,58]
[null,"Авиамодельный спорт","01",{"$f":"Раздел2!F8","v":0},{"$f":"J8+O8+T8+Y8+AD8+AI8+AN8+AS8+AX8+BC8","v":0},{"$f":"K8+P8+U8+Z8+AE8+AJ8+AO8+AT8+AY8+BD8","v":0},{"$f":"L8+Q8+V8+AA8+AF8+AK8+AP8+AU8+AZ8+BE8","v":0},{"$f":"M8+R8+W8+AB8+AG8+AL8+AQ8+AV8+BA8+BF8","v":0},{"$f":"N8+S8+X8+AC8+AH8+AM8+AR8+AW8+BB8+BG8","v":0},null,null,null,null,null,null,null,null,null,null,null,null,null,null,null,null,null,null,null,null,null,null,null,null,null,null,null,null,null,null,null,null,null,null,null,null,null,null,null,null,null,null,null,null,null,null,null,null,null,null,null,null,{"$f":"Раздел2!#REF!","v":{"$error":"#REF!"}}]
[null,"Автомобильный спорт","02",{"$f":"Раздел2!F9","v":0},{"$f":"J9+O9+T9+Y9+AD9+AI9+AN9+AS9+AX9+BC9","v":0},{"$f":"K9+P9+U9+Z9+AE9+AJ9+AO9+AT9+AY9+BD9","v":0},{"$f":"L9+Q9+V9+AA9+AF9+AK9+AP9+AU9+AZ9+BE9","v":0},{"$f":"M9+R9+W9+AB9+AG9+AL9+AQ9+AV9+BA9+BF9","v":0},{"$f":"N9+S9+X9+AC9+AH9+AM9+AR9+AW9+BB9+BG9","v":0},null,null,null,null,null,null,null,null,null,null,null,null,null,null,null,null,null,null,null,null,null,null,null,null,null,null,null,null,null,null,null,null,null,null,null,null,null,null,null,null,null,null,null,null,null,null,null,null,null,null,null,null,{"$f":"Раздел2!#REF!","v":{"$error":"#REF!"}}]
[null,"Автомодельный спорт","03",{"$f":"Раздел2!F10","v":0},0,0,0,0,0,null,null,null,null,null,null,null,null,null,null,null,null,null,null,null,null,null,null,null,null,null,null,null,null,null,null,null,null,null,null,null,null,null,null,null,null,null,null,null,null,null,null,null,null,null,null,null,null,null,null,null,null,{"$f":"Раздел2!#REF!","v":{"$error":"#REF!"}}]
[null,"Айкидо","04",{"$f":"Раздел2!F11","v":0},0,0,0,0,0,null,null,null,null,null,null,null,null,null,null,null,null,null,null,null,null,null,null,null,null,null,null,null,null,null,null,null,null,null,null,null,null,null,null,null,null,null,null,null,null,null,null,null,null,null,null,null,null,null,null,null,null,{"$f":"Раздел2!#REF!","v":{"$error":"#REF!"}}]
[null,"Айсшток","05",{"$f":"Раздел2!F12","v":0},0,0,0,0,0,null,null,null,null,null,null,null,null,null,null,null,null,null,null,null,null,null,null,null,null,null,null,null,null,null,null,null,null,null,null,null,null,null,null,null,null,null,null,null,null,null,null,null,null,null,null,null,null,null,null,null,null,{"$f":"Раздел2!#REF!","v":{"$error":"#REF!"}}]
[null,"Акробатический рок-н-ролл","06",{"$f":"Раздел2!F13","v":0},0,0,0,0,0,null,null,null,null,null,null,null,null,null,null,null,null,null,null,null,null,null,null,null,null,null,null,null,null,null,null,null,null,null,null,null,null,null,null,null,null,null,null,null,null,null,null,null,null,null,null,null,null,null,null,null,null,{"$f":"Раздел2!#REF!","v":{"$error":"#REF!"}}]
[null,"Альпинизм","07",{"$f":"Раздел2!F14","v":0},0,0,0,0,0,null,null,null,null,null,null,null,null,null,null,null,null,null,null,null,null,null,null,null,null,null,null,null,null,null,null,null,null,null,null,null,null,null,null,null,null,null,null,null,null,null,null,null,null,null,null,null,null,null,null,null,null,{"$f":"Раздел2!#REF!","v":{"$error":"#REF!"}}]
[null,"Американский футбол","08",{"$f":"Раздел2!F15","v":0},0,0,0,0,0,null,null,null,null,null,null,null,null,null,null,null,null,null,null,null,null,null,null,null,null,null,null,null,null,null,null,null,null,null,null,null,null,null,null,null,null,null,null,null,null,null,null,null,null,null,null,null,null,null,null,null,null,{"$f":"Раздел2!#REF!","v":{"$error":"#REF!"}}]
[null,"Армейский рукопашный бой","09",{"$f":"Раздел2!F16","v":0},0,0,0,0,0,null,null,null,null,null,null,null,null,null,null,null,null,null,null,null,null,null,null,null,null,null,null,null,null,null,null,null,null,null,null,null,null,null,null,null,null,null,null,null,null,null,null,null,null,null,null,null,null,null,null,null,null,{"$f":"Раздел2!#REF!","v":{"$error":"#REF!"}}]
[null,"Армрестлинг","10",{"$f":"Раздел2!F17","v":0},0,0,0,0,0,null,null,null,null,null,null,null,null,null,null,null,null,null,null,null,null,null,null,null,null,null,null,null,null,null,null,null,null,null,null,null,null,null,null,null,null,null,null,null,null,null,null,null,null,null,null,null,null,null,null,null,null,{"$f":"Раздел2!#REF!","v":{"$error":"#REF!"}}]
[null,"Бадминтон","11",{"$f":"Раздел2!F18","v":0},0,0,0,0,0,null,null,null,null,null,null,null,null,null,null,null,null,null,null,null,null,null,null,null,null,null,null,null,null,null,null,null,null,null,null,null,null,null,null,null,null,null,null,null,null,null,null,null,null,null,null,null,null,null,null,null,null,{"$f":"Раздел2!#REF!","v":{"$error":"#REF!"}}]
[null,"Баскетбол - всего","12",{"$f":"Раздел2!F19","v":134},0,0,0,0,0,{"$f":"SUM(J20:J21)","v":0},0,0,0,0,0,0,0,0,0,0,0,0,0,0,0,0,0,0,0,0,0,0,0,0,0,0,0,0,0,0,0,0,0,0,0,0,0,0,0,0,0,0,0,0,0,0,0,0,0,null,null,{"$f":"Раздел2!#REF!","v":{"$error":"#REF!"}}]
[null,"в том числе:\nБаскетбол (муж.)","13",{"$f":"Раздел2!F20","v":93},0,0,0,0,0,null,null,null,null,null,null,null,null,null,null,null,null,null,null,null,null,null,null,null,null,null,null,null,null,null,null,null,null,null,null,null,null,null,null,null,null,null,null,null,null,null,null,null,null,null,null,null,null,null,null,null,null,{"$f":"Раздел2!#REF!","v":{"$error":"#REF!"}}]
[null,"Баскетбол (жен.)","14",{"$f":"Раздел2!F21","v":41},0,0,0,0,0,null,null,null,null,null,null,null,null,null,null,null,null,null,null,null,null,null,null,null,null,null,null,null,null,null,null,null,null,null,null,null,null,null,null,null,null,null,null,null,null,null,null,null,null,null,null,null,null,null,null,null,null,{"$f":"Раздел2!#REF!","v":{"$error":"#REF!"}}]
[null,"Бейсбол","15",{"$f":"Раздел2!F22","v":0},0,0,0,0,0,null,null,null,null,null,null,null,null,null,null,null,null,null,null,null,null,null,null,null,null,null,null,null,null,null,null,null,null,null,null,null,null,null,null,null,null,null,null,null,null,null,null,null,null,null,null,null,null,null,null,null,null,{"$f":"Раздел2!#REF!","v":{"$error":"#REF!"}}]
[null,"Биатлон","16",{"$f":"Раздел2!F23","v":0},0,0,0,0,0,null,null,null,null,null,null,null,null,null,null,null,null,null,null,null,null,null,null,null,null,null,null,null,null,null,null,null,null,null,null,null,null,null,null,null,null,null,null,null,null,null,null,null,null,null,null,null,null,null,null,null,null,{"$f":"Раздел2!#REF!","v":{"$error":"#REF!"}}]
[null,"Бильярдный спорт","17",{"$f":"Раздел2!F24","v":0},0,0,0,0,0,null,null,null,null,null,null,null,null,null,null,null,null,null,null,null,null,null,null,null,null,null,null,null,null,null,null,null,null,null,null,null,null,null,null,null,null,null,null,null,null,null,null,null,null,null,null,null,null,null,null,null,null,{"$f":"Раздел2!#REF!","v":{"$error":"#REF!"}}]
[null,"Бобслей - всего","18",{"$f":"Раздел2!F25","v":0},0,0,0,0,0,{"$f":"SUM(J26:J27)","v":0},0,0,0,0,0,0,0,0,0,0,0,0,0,0,0,0,0,0,0,0,0,0,0,0,0,0,0,0,0,0,0,0,0,0,0,0,0,0,0,0,0,0,0,0,0,0,0,0,0,null,null,{"$f":"Раздел2!#REF!","v":{"$error":"#REF!"}}]
[null,"в том числе:\nБобслей","19",{"$f":"Раздел2!F26","v":0},0,0,0,0,0,null,null,null,null,null,null,null,null,null,null,null,null,null,null,null,null,null,null,null,null,null,null,null,null,null,null,null,null,null,null,null,null,null,null,null,null,null,null,null,null,null,null,null,null,null,null,null,null,null,null,null,null,{"$f":"Раздел2!#REF!","v":{"$error":"#REF!"}}]
[null,"Скелетон","20",{"$f":"Раздел2!F27","v":0},0,0,0,0,0,null,null,null,null,null,null,null,null,null,null,null,null,null,null,null,null,null,null,null,null,null,null,null,null,null,null,null,null,null,null,null,null,null,null,null,null,null,null,null,null,null,null,null,null,null,null,null,null,null,null,null,null,{"$f":"Раздел2!#REF!","v":{"$error":"#REF!"}}]
[null,"Бодибилдинг","21",{"$f":"Раздел2!F28","v":0},0,0,0,0,0,null,null,null,null,null,null,null,null,null,null,null,null,null,null,null,null,null,null,null,null,null,null,null,null,null,null,null,null,null,null,null,null,null,null,null,null,null,null,null,null,null,null,null,null,null,null,null,null,null,null,null,null,{"$f":"Раздел2!#REF!","v":{"$error":"#REF!"}}]
[null,"Бокс","22",{"$f":"Раздел2!F29","v":90},0,0,0,0,0,null,null,null,null,null,null,null,null,null,null,null,null,null,null,null,null,null,null,null,null,null,null,null,null,null,null,null,null,null,null,null,null,null,null,null,null,null,null,null,null,null,null,null,null,null,null,null,null,null,null,null,null,{"$f":"Раздел2!#REF!","v":{"$error":"#REF!"}}]
[null,"Борьба на поясах","23",{"$f":"Раздел2!F30","v":0},0,0,0,0,0,null,null,null,null,null,null,null,null,null,null,null,null,null,null,null,null,null,null,null,null,null,null,null,null,null,null,null,null,null,null,null,null,null,null,null,null,null,null,null,null,null,null,null,null,null,null,null,null,null,null,null,null,{"$f":"Раздел2!#REF!","v":{"$error":"#REF!"}}]
[null,"Боулинг","24",{"$f":"Раздел2!F31","v":0},0,0,0,0,0,null,null,null,null,null,null,null,null,null,null,null,null,null,null,null,null,null,null,null,null,null,null,null,null,null,null,null,null,null,null,null,null,null,null,null,null,null,null,null,null,null,null,null,null,null,null,null,null,null,null,null,null,{"$f":"Раздел2!#REF!","v":{"$error":"#REF!"}}]
[null,"Велоспорт ВМХ","25",{"$f":"Раздел2!F32","v":0},0,0,0,0,0,null,null,null,null,null,null,null,null,null,null,null,null,null,null,null,null,null,null,null,null,null,null,null,null,null,null,null,null,null,null,null,null,null,null,null,null,null,null,null,null,null,null,null,null,null,null,null,null,null,null,null,null,{"$f":"Раздел2!#REF!","v":{"$error":"#REF!"}}]
[null,"Велоспорт – маунтинбайк","26",{"$f":"Раздел2!F33","v":0},0,0,0,0,0,null,null,null,null,null,null,null,null,null,null,null,null,null,null,null,null,null,null,null,null,null,null,null,null,null,null,null,null,null,null,null,null,null,null,null,null,null,null,null,null,null,null,null,null,null,null,null,null,null,null,null,null,{"$f":"Раздел2!#REF!","v":{"$error":"#REF!"}}]
[null,"Велоспорт – трек","27",{"$f":"Раздел2!F34","v":0},0,0,0,0,0,null,null,null,null,null,null,null,null,null,null,null,null,null,null,null,null,null,null,null,null,null,null,null,null,null,null,null,null,null,null,null,null,null,null,null,null,null,null,null,null,null,null,null,null,null,null,null,null,null,null,null,null,{"$f":"Раздел2!#REF!","v":{"$error":"#REF!"}}]
[null,"Велоспорт – шоссе","28",{"$f":"Раздел2!F35","v":0},0,0,0,0,0,null,null,null,null,null,null,null,null,null,null,null,null,null,null,null,null,null,null,null,null,null,null,null,null,null,null,null,null,null,null,null,null,null,null,null,null,null,null,null,null,null,null,null,null,null,null,null,null,null,null,null,null,{"$f":"Раздел2!#REF!","v":{"$error":"#REF!"}}]
[null,"Вертолетный спорт","29",{"$f":"Раздел2!F36","v":0},0,0,0,0,0,null,null,null,null,null,null,null,null,null,null,null,null,null,null,null,null,null,null,null,null,null,null,null,null,null,null,null,null,null,null,null,null,null,null,null,null,null,null,null,null,null,null,null,null,null,null,null,null,null,null,null,null,{"$f":"Раздел2!#REF!","v":{"$error":"#REF!"}}]
[null,"Водно-моторный спорт","30",{"$f":"Раздел2!F37","v":0},0,0,0,0,0,null,null,null,null,null,null,null,null,null,null,null,null,null,null,null,null,null,null,null,null,null,null,null,null,null,null,null,null,null,null,null,null,null,null,null,null,null,null,null,null,null,null,null,null,null,null,null,null,null,null,null,null,{"$f":"Раздел2!#REF!","v":{"$error":"#REF!"}}]
[null,"Водное поло - всего ","31",{"$f":"Раздел2!F38","v":0},0,0,0,0,0,{"$f":"SUM(J39:J40)","v":0},0,0,0,0,0,0,0,0,0,0,0,0,0,0,0,0,0,0,0,0,0,0,0,0,0,0,0,0,0,0,0,0,0,0,0,0,0,0,0,0,0,0,0,0,0,0,0,0,0,null,null,{"$f":"Раздел2!#REF!","v":{"$error":"#REF!"}}]
[null,"в том числе:\nВодное поло (муж.)","32",{"$f":"Раздел2!F39","v":0},0,0,0,0,0,null,null,null,null,null,null,null,null,null,null,null,null,null,null,null,null,null,null,null,null,null,null,null,null,null,null,null,null,null,null,null,null,null,null,null,null,null,null,null,null,null,null,null,null,null,null,null,null,null,null,null,null,{"$f":"Раздел2!#REF!","v":{"$error":"#REF!"}}]
[null,"Водное поло (жен.)","33",{"$f":"Раздел2!F40","v":0},0,0,0,0,0,null,null,null,null,null,null,null,null,null,null,null,null,null,null,null,null,null,null,null,null,null,null,null,null,null,null,null,null,null,null,null,null,null,null,null,null,null,null,null,null,null,null,null,null,null,null,null,null,null,null,null,null,{"$f":"Раздел2!#REF!","v":{"$error":"#REF!"}}]
[null,"Воднолыжный спорт","34",{"$f":"Раздел2!F41","v":0},0,0,0,0,0,null,null,null,null,null,null,null,null,null,null,null,null,null,null,null,null,null,null,null,null,null,null,null,null,null,null,null,null,null,null,null,null,null,null,null,null,null,null,null,null,null,null,null,null,null,null,null,null,null,null,null,null,{"$f":"Раздел2!#REF!","v":{"$error":"#REF!"}}]
[null,"Военно-прикладной спорт","35",{"$f":"Раздел2!F42","v":0},0,0,0,0,0,null,null,null,null,null,null,null,null,null,null,null,null,null,null,null,null,null,null,null,null,null,null,null,null,null,null,null,null,null,null,null,null,null,null,null,null,null,null,null,null,null,null,null,null,null,null,null,null,null,null,null,null,{"$f":"Раздел2!#REF!","v":{"$error":"#REF!"}}]
[null,"Военно-спортивное многоборье","36",{"$f":"Раздел2!F43","v":0},0,0,0,0,0,null,null,null,null,null,null,null,null,null,null,null,null,null,null,null,null,null,null,null,null,null,null,null,null,null,null,null,null,null,null,null,null,null,null,null,null,null,null,null,null,null,null,null,null,null,null,null,null,null,null,null,null,{"$f":"Раздел2!#REF!","v":{"$error":"#REF!"}}]
[null,"Воздухоплавательный спорт","37",{"$f":"Раздел2!F44","v":0},0,0,0,0,0,null,null,null,null,null,null,null,null,null,null,null,null,null,null,null,null,null,null,null,null,null,null,null,null,null,null,null,null,null,null,null,null,null,null,null,null,null,null,null,null,null,null,null,null,null,null,null,null,null,null,null,null,{"$f":"Раздел2!#REF!","v":{"$error":"#REF!"}}]
[null,"Волейбол - всего","38",{"$f":"Раздел2!F45","v":80},0,0,0,0,0,{"$f":"SUM(J46:J49)","v":0},0,0,0,0,0,0,0,0,0,0,0,0,0,0,0,0,0,0,0,0,0,0,0,0,0,0,0,0,0,0,0,0,0,0,0,0,0,0,0,0,0,0,0,0,0,0,0,0,0,null,null,{"$f":"Раздел2!#REF!","v":{"$error":"#REF!"}}]
[null,"в том числе:\nВолейбол (муж.)","39",{"$f":"Раздел2!F46","v":21},0,0,0,0,0,null,null,null,null,null,null,null,null,null,null,null,null,null,null,null,null,null,null,null,null,null,null,null,null,null,null,null,null,null,null,null,null,null,null,null,null,null,null,null,null,null,null,null,null,null,null,null,null,null,null,null,null,{"$f":"Раздел2!#REF!","v":{"$error":"#REF!"}}]
[null,"Волейбол (жен.)","40",{"$f":"Раздел2!F47","v":59},0,0,0,0,0,null,null,null,null,null,null,null,null,null,null,null,null,null,null,null,null,null,null,null,null,null,null,null,null,null,null,null,null,null,null,null,null,null,null,null,null,null,null,null,null,null,null,null,null,null,null,null,null,null,null,null,null,{"$f":"Раздел2!#REF!","v":{"$error":"#REF!"}}]
[null,"Пляжный волейбол (муж.)","41",{"$f":"Раздел2!F48","v":0},0,0,0,0,0,null,null,null,null,null,null,null,null,null,null,null,null,null,null,null,null,null,null,null,null,null,null,null,null,null,null,null,null,null,null,null,null,null,null,null,null,null,null,null,null,null,null,null,null,null,null,null,null,null,null,null,null,{"$f":"Раздел2!#REF!","v":{"$error":"#REF!"}}]
[null,"Пляжный волейбол (жен.)","42",{"$f":"Раздел2!F49","v":0},0,0,0,0,0,null,null,null,null,null,null,null,null,null,null,null,null,null,null,null,null,null,null,null,null,null,null,null,null,null,null,null,null,null,null,null,null,null,null,null,null,null,null,null,null,null,null,null,null,null,null,null,null,null,null,null,null,{"$f":"Раздел2!#REF!","v":{"$error":"#REF!"}}]
[null,"Восточное боевое единоборство","43",{"$f":"Раздел2!F50","v":0},0,0,0,0,0,null,null,null,null,null,null,null,null,null,null,null,null,null,null,null,null,null,null,null,null,null,null,null,null,null,null,null,null,null,null,null,null,null,null,null,null,null,null,null,null,null,null,null,null,null,null,null,null,null,null,null,null,{"$f":"Раздел2!#REF!","v":{"$error":"#REF!"}}]
[null,"Всестилевое карате","44",{"$f":"Раздел2!F51","v":0},0,0,0,0,0,null,null,null,null,null,null,null,null,null,null,null,null,null,null,null,null,null,null,null,null,null,null,null,null,null,null,null,null,null,null,null,null,null,null,null,null,null,null,null,null,null,null,null,null,null,null,null,null,null,null,null,null,{"$f":"Раздел2!#REF!","v":{"$error":"#REF!"}}]
[null,"Гандбол - всего","45",{"$f":"Раздел2!F52","v":0},0,0,0,0,0,{"$f":"SUM(J53:J55)","v":0},0,0,0,0,0,0,0,0,0,0,0,0,0,0,0,0,0,0,0,0,0,0,0,0,0,0,0,0,0,0,0,0,0,0,0,0,0,0,0,0,0,0,0,0,0,0,0,0,0,null,null,{"$f":"Раздел2!#REF!","v":{"$error":"#REF!"}}]
[null,"в том числе:\nГандбол (муж.)","46",{"$f":"Раздел2!F53","v":0},0,0,0,0,0,0,0,0,0,0,0,0,0,0,0,0,0,0,0,0,0,0,0,0,0,0,0,0,0,0,0,0,0,0,0,0,0,0,0,0,0,0,0,0,0,0,0,0,0,0,0,0,0,0,0,null,null,{"$f":"Раздел2!#REF!","v":{"$error":"#REF!"}}]
[null,"Гандбол (жен.)","47",{"$f":"Раздел2!F54","v":0},0,0,0,0,0,0,0,0,0,0,0,0,0,0,0,0,0,0,0,0,0,0,0,0,0,0,0,0,0,0,0,0,0,0,0,0,0,0,0,0,0,0,0,0,0,0,0,0,0,0,0,0,0,0,0,null,null,{"$f":"Раздел2!#REF!","v":{"$error":"#REF!"}}]
[null,"Пляжный гандбол","48",{"$f":"Раздел2!F55","v":0},0,0,0,0,0,null,null,null,null,null,null,null,null,null,null,null,null,null,null,null,null,null,null,null,null,null,null,null,null,null,null,null,null,null,null,null,null,null,null,null,null,null,null,null,null,null,null,null,null,null,null,null,null,null,null,null,null,{"$f":"Раздел2!#REF!","v":{"$error":"#REF!"}}]
[null,"Гиревой спорт","49",{"$f":"Раздел2!F56","v":0},0,0,0,0,0,0,0,0,0,0,0,0,0,0,0,0,0,0,0,0,0,0,0,0,0,0,0,0,0,0,0,0,0,0,0,0,0,0,0,0,0,0,0,0,0,0,0,0,0,0,0,0,0,0,0,null,null,{"$f":"Раздел2!#REF!","v":{"$error":"#REF!"}}]
[null,"Го","50",{"$f":"Раздел2!F57","v":0},0,0,0,0,0,0,0,0,0,0,0,0,0,0,0,0,0,0,0,0,0,0,0,0,0,0,0,0,0,0,0,0,0,0,0,0,0,0,0,0,0,0,0,0,0,0,0,0,0,0,0,0,0,0,0,null,null,{"$f":"Раздел2!#REF!","v":{"$error":"#REF!"}}]
[null,"Гольф","51",{"$f":"Раздел2!F58","v":0},0,0,0,0,0,0,0,0,0,0,0,0,0,0,0,0,0,0,0,0,0,0,0,0,0,0,0,0,0,0,0,0,0,0,0,0,0,0,0,0,0,0,0,0,0,0,0,0,0,0,0,0,0,0,0,null,null,{"$f":"Раздел2!#REF!","v":{"$error":"#REF!"}}]
[null,"Горнолыжный спорт","52",{"$f":"Раздел2!F59","v":0},0,0,0,0,0,0,0,0,0,0,0,0,0,0,0,0,0,0,0,0,0,0,0,0,0,0,0,0,0,0,0,0,0,0,0,0,0,0,0,0,0,0,0,0,0,0,0,0,0,0,0,0,0,0,0,null,null,{"$f":"Раздел2!#REF!","v":{"$error":"#REF!"}}]
[null,"Городошный спорт","53",{"$f":"Раздел2!F60","v":0},0,0,0,0,0,0,0,0,0,0,0,0,0,0,0,0,0,0,0,0,0,0,0,0,0,0,0,0,0,0,0,0,0,0,0,0,0,0,0,0,0,0,0,0,0,0,0,0,0,0,0,0,0,0,0,null,null,{"$f":"Раздел2!#REF!","v":{"$error":"#REF!"}}]
[null,"Гребля на байдарках и каноэ","54",{"$f":"Раздел2!F61","v":0},0,0,0,0,0,0,0,0,0,0,0,0,0,0,0,0,0,0,0,0,0,0,0,0,0,0,0,0,0,0,0,0,0,0,0,0,0,0,0,0,0,0,0,0,0,0,0,0,0,0,0,0,0,0,0,null,null,{"$f":"Раздел2!#REF!","v":{"$error":"#REF!"}}]
[null,"Гребля на шлюпках","55",{"$f":"Раздел2!F62","v":0},0,0,0,0,0,null,null,null,null,null,null,null,null,null,null,null,null,null,null,null,null,null,null,null,null,null,null,null,null,null,null,null,null,null,null,null,null,null,null,null,null,null,null,null,null,null,null,null,null,null,null,null,null,null,null,null,null,{"$f":"Раздел2!#REF!","v":{"$error":"#REF!"}}]
[null,"Гребной слалом","56",{"$f":"Раздел2!F63","v":0},0,0,0,0,0,0,0,0,0,0,0,0,0,0,0,0,0,0,0,0,0,0,0,0,0,0,0,0,0,0,0,0,0,0,0,0,0,0,0,0,0,0,0,0,0,0,0,0,0,0,0,0,0,0,0,null,null,{"$f":"Раздел2!#REF!","v":{"$error":"#REF!"}}]
[null,"Гребной спорт - всего","57",{"$f":"Раздел2!F64","v":0},0,0,0,0,0,{"$f":"SUM(J65:J68)","v":0},0,0,0,0,0,0,0,0,0,0,0,0,0,0,0,0,0,0,0,0,0,0,0,0,0,0,0,0,0,0,0,0,0,0,0,0,0,0,0,0,0,0,0,0,0,0,0,0,0,null,null,{"$f":"Раздел2!#REF!","v":{"$error":"#REF!"}}]
[null,"в том числе:\nАкадемическая гребля","58",{"$f":"Раздел2!F65","v":0},0,0,0,0,0,0,0,0,0,0,0,0,0,0,0,0,0,0,0,0,0,0,0,0,0,0,0,0,0,0,0,0,0,0,0,0,0,0,0,0,0,0,0,0,0,0,0,0,0,0,0,0,0,0,0,null,null,{"$f":"Раздел2!#REF!","v":{"$error":"#REF!"}}]
[null,"Гребля-индор","59",{"$f":"Раздел2!F66","v":0},0,0,0,0,0,0,0,0,0,0,0,0,0,0,0,0,0,0,0,0,0,0,0,0,0,0,0,0,0,0,0,0,0,0,0,0,0,0,0,0,0,0,0,0,0,0,0,0,0,0,0,0,0,0,0,null,null,{"$f":"Раздел2!#REF!","v":{"$error":"#REF!"}}]
[null,"Народная гребля","60",{"$f":"Раздел2!F67","v":0},0,0,0,0,0,0,0,0,0,0,0,0,0,0,0,0,0,0,0,0,0,0,0,0,0,0,0,0,0,0,0,0,0,0,0,0,0,0,0,0,0,0,0,0,0,0,0,0,0,0,0,0,0,0,0,null,null,{"$f":"Раздел2!#REF!","v":{"$error":"#REF!"}}]
[null,"Прибрежная гребля","61",{"$f":"Раздел2!F68","v":0},0,0,0,0,0,0,0,0,0,0,0,0,0,0,0,0,0,0,0,0,0,0,0,0,0,0,0,0,0,0,0,0,0,0,0,0,0,0,0,0,0,0,0,0,0,0,0,0,0,0,0,0,0,0,0,null,null,{"$f":"Раздел2!#REF!","v":{"$error":"#REF!"}}]
[null,"Гребно-парусное двоеборье","62",{"$f":"Раздел2!F69","v":0},0,0,0,0,0,0,0,0,0,0,0,0,0,0,0,0,0,0,0,0,0,0,0,0,0,0,0,0,0,0,0,0,0,0,0,0,0,0,0,0,0,0,0,0,0,0,0,0,0,0,0,0,0,0,0,null,null,{"$f":"Раздел2!#REF!","v":{"$error":"#REF!"}}]
[null,"Дартс","63",{"$f":"Раздел2!F70","v":0},0,0,0,0,0,0,0,0,0,0,0,0,0,0,0,0,0,0,0,0,0,0,0,0,0,0,0,0,0,0,0,0,0,0,0,0,0,0,0,0,0,0,0,0,0,0,0,0,0,0,0,0,0,0,0,null,null,{"$f":"Раздел2!#REF!","v":{"$error":"#REF!"}}]
[null,"Джиу-джитсу","64",{"$f":"Раздел2!F71","v":0},0,0,0,0,0,0,0,0,0,0,0,0,0,0,0,0,0,0,0,0,0,0,0,0,0,0,0,0,0,0,0,0,0,0,0,0,0,0,0,0,0,0,0,0,0,0,0,0,0,0,0,0,0,0,0,null,null,{"$f":"Раздел2!#REF!","v":{"$error":"#REF!"}}]
[null,"Дзюдо","65",{"$f":"Раздел2!F72","v":282},0,0,1,0,0,0,0,0,0,0,0,0,0,0,0,0,0,0,0,0,0,0,0,0,0,0,0,0,0,0,0,0,0,0,0,0,0,0,0,0,0,0,0,0,0,0,0,0,0,0,0,0,1,0,0,null,null,{"$f":"Раздел2!#REF!","v":{"$error":"#REF!"}}]
[null,"Ездовой спорт","66",{"$f":"Раздел2!F73","v":0},{"$f":"J73+O73+T73+Y73+AD73+AI73+AN73+AS73+AX73+BC73","v":0},{"$f":"K73+P73+U73+Z73+AE73+AJ73+AO73+AT73+AY73+BD73","v":0},{"$f":"L73+Q73+V73+AA73+AF73+AK73+AP73+AU73+AZ73+BE73","v":0},{"$f":"M73+R73+W73+AB73+AG73+AL73+AQ73+AV73+BA73+BF73","v":0},{"$f":"N73+S73+X73+AC73+AH73+AM73+AR73+AW73+BB73+BG73","v":0},0,0,0,0,0,0,0,0,0,0,0,0,0,0,0,0,0,0,0,0,0,0,0,0,0,0,0,0,0,0,0,0,0,0,0,0,0,0,0,0,0,0,0,0,0,0,0,0,0,0,null,null,{"$f":"Раздел2!#REF!","v":{"$error":"#REF!"}}]
[null,"Капоэйра","67",{"$f":"Раздел2!F74","v":0},0,0,0,0,0,0,0,0,0,0,0,0,0,0,0,0,0,0,0,0,0,0,0,0,0,0,0,0,0,0,0,0,0,0,0,0,0,0,0,0,0,0,0,0,0,0,0,0,0,0,0,0,0,0,0,null,null,{"$f":"Раздел2!#REF!","v":{"$error":"#REF!"}}]
[null,"Каратэ","68",{"$f":"Раздел2!F75","v":0},0,0,0,0,0,0,0,0,0,0,0,0,0,0,0,0,0,0,0,0,0,0,0,0,0,0,0,0,0,0,0,0,0,0,0,0,0,0,0,0,0,0,0,0,0,0,0,0,0,0,0,0,0,0,0,null,null,{"$f":"Раздел2!#REF!","v":{"$error":"#REF!"}}]
[null,"Кендо","69",{"$f":"Раздел2!F76","v":0},0,0,0,0,0,0,0,0,0,0,0,0,0,0,0,0,0,0,0,0,0,0,0,0,0,0,0,0,0,0,0,0,0,0,0,0,0,0,0,0,0,0,0,0,0,0,0,0,0,0,0,0,0,0,0,null,null,{"$f":"Раздел2!#REF!","v":{"$error":"#REF!"}}]
[null,"Керешу","70",{"$f":"Раздел2!F77","v":0},0,0,0,0,0,0,0,0,0,0,0,0,0,0,0,0,0,0,0,0,0,0,0,0,0,0,0,0,0,0,0,0,0,0,0,0,0,0,0,0,0,0,0,0,0,0,0,0,0,0,0,0,0,0,0,null,null,{"$f":"Раздел2!#REF!","v":{"$error":"#REF!"}}]
[null,"Керлинг - всего","71",{"$f":"Раздел2!F78","v":0},0,0,0,0,0,{"$f":"SUM(J79:J80)","v":0},0,0,0,0,0,0,0,0,0,0,0,0,0,0,0,0,0,0,0,0,0,0,0,0,0,0,0,0,0,0,0,0,0,0,0,0,0,0,0,0,0,0,0,0,0,0,0,0,0,null,null,{"$f":"Раздел2!#REF!","v":{"$error":"#REF!"}}]
[null,"в том числе:\nКерлинг (муж.)","72",{"$f":"Раздел2!F79","v":0},0,0,0,0,0,0,0,0,0,0,0,0,0,0,0,0,0,0,0,0,0,0,0,0,0,0,0,0,0,0,0,0,0,0,0,0,0,0,0,0,0,0,0,0,0,0,0,0,0,0,0,0,0,0,0,null,null,{"$f":"Раздел2!#REF!","v":{"$error":"#REF!"}}]
[null,"Керлинг (жен.)","73",{"$f":"Раздел2!F80","v":0},0,0,0,0,0,0,0,0,0,0,0,0,0,0,0,0,0,0,0,0,0,0,0,0,0,0,0,0,0,0,0,0,0,0,0,0,0,0,0,0,0,0,0,0,0,0,0,0,0,0,0,0,0,0,0,null,null,{"$f":"Раздел2!#REF!","v":{"$error":"#REF!"}}]
[null,"Кикбоксинг","74",{"$f":"Раздел2!F81","v":0},0,0,0,0,0,0,0,0,0,0,0,0,0,0,0,0,0,0,0,0,0,0,0,0,0,0,0,0,0,0,0,0,0,0,0,0,0,0,0,0,0,0,0,0,0,0,0,0,0,0,0,0,0,0,0,null,null,{"$f":"Раздел2!#REF!","v":{"$error":"#REF!"}}]
[null,"Кинологический спорт","75",{"$f":"Раздел2!F82","v":0},0,0,0,0,0,0,0,0,0,0,0,0,0,0,0,0,0,0,0,0,0,0,0,0,0,0,0,0,0,0,0,0,0,0,0,0,0,0,0,0,0,0,0,0,0,0,0,0,0,0,0,0,0,0,0,null,null,{"$f":"Раздел2!#REF!","v":{"$error":"#REF!"}}]
[null,"Киокусинкай","76",{"$f":"Раздел2!F83","v":0},0,0,0,0,0,0,0,0,0,0,0,0,0,0,0,0,0,0,0,0,0,0,0,0,0,0,0,0,0,0,0,0,0,0,0,0,0,0,0,0,0,0,0,0,0,0,0,0,0,0,0,0,0,0,0,null,null,{"$f":"Раздел2!#REF!","v":{"$error":"#REF!"}}]
[null,"Комплексное единоборство","77",{"$f":"Раздел2!F84","v":0},0,0,0,0,0,0,0,0,0,0,0,0,0,0,0,0,0,0,0,0,0,0,0,0,0,0,0,0,0,0,0,0,0,0,0,0,0,0,0,0,0,0,0,0,0,0,0,0,0,0,0,0,0,0,0,null,null,{"$f":"Раздел2!#REF!","v":{"$error":"#REF!"}}]
[null,"Компьютерный спорт","78",{"$f":"Раздел2!F85","v":0},0,0,0,0,0,0,0,0,0,0,0,0,0,0,0,0,0,0,0,0,0,0,0,0,0,0,0,0,0,0,0,0,0,0,0,0,0,0,0,0,0,0,0,0,0,0,0,0,0,0,0,0,0,0,0,null,null,{"$f":"Раздел2!#REF!","v":{"$error":"#REF!"}}]
[null,"Конный спорт","79",{"$f":"Раздел2!F86","v":0},0,0,0,0,0,0,0,0,0,0,0,0,0,0,0,0,0,0,0,0,0,0,0,0,0,0,0,0,0,0,0,0,0,0,0,0,0,0,0,0,0,0,0,0,0,0,0,0,0,0,0,0,0,0,0,null,null,{"$f":"Раздел2!#REF!","v":{"$error":"#REF!"}}]
[null,"Конькобежный спорт - всего","80",{"$f":"Раздел2!F87","v":0},0,0,0,0,0,{"$f":"SUM(J88:J89)","v":0},0,0,0,0,0,0,0,0,0,0,0,0,0,0,0,0,0,0,0,0,0,0,0,0,0,0,0,0,0,0,0,0,0,0,0,0,0,0,0,0,0,0,0,0,0,0,0,0,0,null,null,{"$f":"Раздел2!#REF!","v":{"$error":"#REF!"}}]
[null,"в том числе:\nКонькобежный спорт","81",{"$f":"Раздел2!F88","v":0},0,0,0,0,0,0,0,0,0,0,0,0,0,0,0,0,0,0,0,0,0,0,0,0,0,0,0,0,0,0,0,0,0,0,0,0,0,0,0,0,0,0,0,0,0,0,0,0,0,0,0,0,0,0,0,null,null,{"$f":"Раздел2!#REF!","v":{"$error":"#REF!"}}]
[null,"Шорт-трек","82",{"$f":"Раздел2!F89","v":0},0,0,0,0,0,0,0,0,0,0,0,0,0,0,0,0,0,0,0,0,0,0,0,0,0,0,0,0,0,0,0,0,0,0,0,0,0,0,0,0,0,0,0,0,0,0,0,0,0,0,0,0,0,0,0,null,null,{"$f":"Раздел2!#REF!","v":{"$error":"#REF!"}}]
[null,"Корэш","83",{"$f":"Раздел2!F90","v":0},0,0,0,0,0,0,0,0,0,0,0,0,0,0,0,0,0,0,0,0,0,0,0,0,0,0,0,0,0,0,0,0,0,0,0,0,0,0,0,0,0,0,0,0,0,0,0,0,0,0,0,0,0,0,0,null,null,{"$f":"Раздел2!#REF!","v":{"$error":"#REF!"}}]
[null,"Корфбол","84",{"$f":"Раздел2!F91","v":0},0,0,0,0,0,0,0,0,0,0,0,0,0,0,0,0,0,0,0,0,0,0,0,0,0,0,0,0,0,0,0,0,0,0,0,0,0,0,0,0,0,0,0,0,0,0,0,0,0,0,0,0,0,0,0,null,null,{"$f":"Раздел2!#REF!","v":{"$error":"#REF!"}}]
[null,"Лапта","85",{"$f":"Раздел2!F92","v":0},0,0,0,0,0,0,0,0,0,0,0,0,0,0,0,0,0,0,0,0,0,0,0,0,0,0,0,0,0,0,0,0,0,0,0,0,0,0,0,0,0,0,0,0,0,0,0,0,0,0,0,0,0,0,0,null,null,{"$f":"Раздел2!#REF!","v":{"$error":"#REF!"}}]
[null,"Легкая атлетика - всего","86",{"$f":"Раздел2!F93","v":187},0,0,0,0,0,{"$f":"SUM(J94:J100)","v":0},0,0,0,0,0,0,0,0,0,0,0,0,0,0,0,0,0,0,0,0,0,0,0,0,0,0,0,0,0,0,0,0,0,0,0,0,0,0,0,0,0,0,0,0,0,0,0,0,0,null,null,{"$f":"Раздел2!#REF!","v":{"$error":"#REF!"}}]
[null,"в том числе:\nСпринтерский и барьерный бег","87",{"$f":"Раздел2!F94","v":0},0,0,0,0,0,0,0,0,0,0,0,0,0,0,0,0,0,0,0,0,0,0,0,0,0,0,0,0,0,0,0,0,0,0,0,0,0,0,0,0,0,0,0,0,0,0,0,0,0,0,0,0,0,0,0,null,null,{"$f":"Раздел2!#REF!","v":{"$error":"#REF!"}}]
[null,"Бег на средние дистанции и бег с препятствиями","88",{"$f":"Раздел2!F95","v":0},0,0,0,0,0,0,0,0,0,0,0,0,0,0,0,0,0,0,0,0,0,0,0,0,0,0,0,0,0,0,0,0,0,0,0,0,0,0,0,0,0,0,0,0,0,0,0,0,0,0,0,0,0,0,0,null,null,{"$f":"Раздел2!#REF!","v":{"$error":"#REF!"}}]
[null,"Бег на длинные и сверхдлинные дистанции","89",{"$f":"Раздел2!F96","v":0},0,0,0,0,0,0,0,0,0,0,0,0,0,0,0,0,0,0,0,0,0,0,0,0,0,0,0,0,0,0,0,0,0,0,0,0,0,0,0,0,0,0,0,0,0,0,0,0,0,0,0,0,0,0,0,null,null,{"$f":"Раздел2!#REF!","v":{"$error":"#REF!"}}]
[null,"Многоборья","90",{"$f":"Раздел2!F97","v":187},0,0,0,0,0,0,0,0,0,0,0,0,0,0,0,0,0,0,0,0,0,0,0,0,0,0,0,0,0,0,0,0,0,0,0,0,0,0,0,0,0,0,0,0,0,0,0,0,0,0,0,0,0,0,0,null,null,{"$f":"Раздел2!#REF!","v":{"$error":"#REF!"}}]
[null,"Прыжки","91",{"$f":"Раздел2!F98","v":0},0,0,0,0,0,0,0,0,0,0,0,0,0,0,0,0,0,0,0,0,0,0,0,0,0,0,0,0,0,0,0,0,0,0,0,0,0,0,0,0,0,0,0,0,0,0,0,0,0,0,0,0,0,0,0,null,null,{"$f":"Раздел2!#REF!","v":{"$error":"#REF!"}}]
[null,"Метания","92",{"$f":"Раздел2!F99","v":0},0,0,0,0,0,0,0,0,0,0,0,0,0,0,0,0,0,0,0,0,0,0,0,0,0,0,0,0,0,0,0,0,0,0,0,0,0,0,0,0,0,0,0,0,0,0,0,0,0,0,0,0,0,0,0,null,null,{"$f":"Раздел2!#REF!","v":{"$error":"#REF!"}}]
[null,"Спортивная ходьба","93",{"$f":"Раздел2!F100","v":0},0,0,0,0,0,0,0,0,0,0,0,0,0,0,0,0,0,0,0,0,0,0,0,0,0,0,0,0,0,0,0,0,0,0,0,0,0,0,0,0,0,0,0,0,0,0,0,0,0,0,0,0,0,0,0,null,null,{"$f":"Раздел2!#REF!","v":{"$error":"#REF!"}}]
[null,"Лыжное двоеборье","94",{"$f":"Раздел2!F101","v":0},0,0,0,0,0,0,0,0,0,0,0,0,0,0,0,0,0,0,0,0,0,0,0,0,0,0,0,0,0,0,0,0,0,0,0,0,0,0,0,0,0,0,0,0,0,0,0,0,0,0,0,0,0,0,0,null,null,{"$f":"Раздел2!#REF!","v":{"$error":"#REF!"}}]
[null,"Лыжные гонки","95",{"$f":"Раздел2!F102","v":0},0,0,0,0,0,0,0,0,0,0,0,0,0,0,0,0,0,0,0,0,0,0,0,0,0,0,0,0,0,0,0,0,0,0,0,0,0,0,0,0,0,0,0,0,0,0,0,0,0,0,0,0,0,0,0,null,null,{"$f":"Раздел2!#REF!","v":{"$error":"#REF!"}}]
[null,"Мас-рестлинг","96",{"$f":"Раздел2!F103","v":0},0,0,0,0,0,0,0,0,0,0,0,0,0,0,0,0,0,0,0,0,0,0,0,0,0,0,0,0,0,0,0,0,0,0,0,0,0,0,0,0,0,0,0,0,0,0,0,0,0,0,0,0,0,0,0,null,null,{"$f":"Раздел2!#REF!","v":{"$error":"#REF!"}}]
[null,"Международное военно-спортивное многоборье","97",{"$f":"Раздел2!F104","v":0},0,0,0,0,0,0,0,0,0,0,0,0,0,0,0,0,0,0,0,0,0,0,0,0,0,0,0,0,0,0,0,0,0,0,0,0,0,0,0,0,0,0,0,0,0,0,0,0,0,0,0,0,0,0,0,null,null,{"$f":"Раздел2!#REF!","v":{"$error":"#REF!"}}]
[null,"Многоборье кинологов","98",{"$f":"Раздел2!F105","v":0},0,0,0,0,0,0,0,0,0,0,0,0,0,0,0,0,0,0,0,0,0,0,0,0,0,0,0,0,0,0,0,0,0,0,0,0,0,0,0,0,0,0,0,0,0,0,0,0,0,0,0,0,0,0,0,null,null,{"$f":"Раздел2!#REF!","v":{"$error":"#REF!"}}]
[null,"Многоборье спасателей МЧС России","99",{"$f":"Раздел2!F106","v":0},0,0,0,0,0,0,0,0,0,0,0,0,0,0,0,0,0,0,0,0,0,0,0,0,0,0,0,0,0,0,0,0,0,0,0,0,0,0,0,0,0,0,0,0,0,0,0,0,0,0,0,0,0,0,0,null,null,{"$f":"Раздел2!#REF!","v":{"$error":"#REF!"}}]
[null,"Морское многоборье","100",{"$f":"Раздел2!F107","v":0},0,0,0,0,0,0,0,0,0,0,0,0,0,0,0,0,0,0,0,0,0,0,0,0,0,0,0,0,0,0,0,0,0,0,0,0,0,0,0,0,0,0,0,0,0,0,0,0,0,0,0,0,0,0,0,null,null,{"$f":"Раздел2!#REF!","v":{"$error":"#REF!"}}]
[null,"Мотоциклетный спорт","101",{"$f":"Раздел2!F108","v":0},0,0,0,0,0,0,0,0,0,0,0,0,0,0,0,0,0,0,0,0,0,0,0,0,0,0,0,0,0,0,0,0,0,0,0,0,0,0,0,0,0,0,0,0,0,0,0,0,0,0,0,0,0,0,0,null,null,{"$f":"Раздел2!#REF!","v":{"$error":"#REF!"}}]
[null,"Настольный теннис","102",{"$f":"Раздел2!F109","v":0},0,0,0,0,0,0,0,0,0,0,0,0,0,0,0,0,0,0,0,0,0,0,0,0,0,0,0,0,0,0,0,0,0,0,0,0,0,0,0,0,0,0,0,0,0,0,0,0,0,0,0,0,0,0,0,null,null,{"$f":"Раздел2!#REF!","v":{"$error":"#REF!"}}]
[null,"Парашютный спорт","103",{"$f":"Раздел2!F110","v":0},0,0,0,0,0,0,0,0,0,0,0,0,0,0,0,0,0,0,0,0,0,0,0,0,0,0,0,0,0,0,0,0,0,0,0,0,0,0,0,0,0,0,0,0,0,0,0,0,0,0,0,0,0,0,0,null,null,{"$f":"Раздел2!#REF!","v":{"$error":"#REF!"}}]
[null,"Парусный спорт","104",{"$f":"Раздел2!F111","v":0},0,0,0,0,0,0,0,0,0,0,0,0,0,0,0,0,0,0,0,0,0,0,0,0,0,0,0,0,0,0,0,0,0,0,0,0,0,0,0,0,0,0,0,0,0,0,0,0,0,0,0,0,0,0,0,null,null,{"$f":"Раздел2!#REF!","v":{"$error":"#REF!"}}]
[null,"Пауэрлифтинг","105",{"$f":"Раздел2!F112","v":0},0,0,0,0,0,0,0,0,0,0,0,0,0,0,0,0,0,0,0,0,0,0,0,0,0,0,0,0,0,0,0,0,0,0,0,0,0,0,0,0,0,0,0,0,0,0,0,0,0,0,0,0,0,0,0,null,null,{"$f":"Раздел2!#REF!","v":{"$error":"#REF!"}}]
[null,"Перетягивание каната","106",{"$f":"Раздел2!F113","v":0},0,0,0,0,0,0,0,0,0,0,0,0,0,0,0,0,0,0,0,0,0,0,0,0,0,0,0,0,0,0,0,0,0,0,0,0,0,0,0,0,0,0,0,0,0,0,0,0,0,0,0,0,0,0,0,null,null,{"$f":"Раздел2!#REF!","v":{"$error":"#REF!"}}]
[null,"Петанк","107",{"$f":"Раздел2!F114","v":0},0,0,0,0,0,0,0,0,0,0,0,0,0,0,0,0,0,0,0,0,0,0,0,0,0,0,0,0,0,0,0,0,0,0,0,0,0,0,0,0,0,0,0,0,0,0,0,0,0,0,0,0,0,0,0,null,null,{"$f":"Раздел2!#REF!","v":{"$error":"#REF!"}}]
[null,"Плавание - всего","108",{"$f":"Раздел2!F115","v":0},0,0,0,0,0,{"$f":"SUM(J116:J117)","v":0},0,0,0,0,0,0,0,0,0,0,0,0,0,0,0,0,0,0,0,0,0,0,0,0,0,0,0,0,0,0,0,0,0,0,0,0,0,0,0,0,0,0,0,0,0,0,0,0,0,null,null,{"$f":"Раздел2!#REF!","v":{"$error":"#REF!"}}]
[null,"в том числе:\nПлавание ","109",{"$f":"Раздел2!F116","v":0},0,0,0,0,0,0,0,0,0,0,0,0,0,0,0,0,0,0,0,0,0,0,0,0,0,0,0,0,0,0,0,0,0,0,0,0,0,0,0,0,0,0,0,0,0,0,0,0,0,0,0,0,0,0,0,null,null,{"$f":"Раздел2!#REF!","v":{"$error":"#REF!"}}]
[null,"Открытая вода","110",{"$f":"Раздел2!F117","v":0},0,0,0,0,0,0,0,0,0,0,0,0,0,0,0,0,0,0,0,0,0,0,0,0,0,0,0,0,0,0,0,0,0,0,0,0,0,0,0,0,0,0,0,0,0,0,0,0,0,0,0,0,0,0,0,null,null,{"$f":"Раздел2!#REF!","v":{"$error":"#REF!"}}]
[null,"Планерный спорт","111",{"$f":"Раздел2!F118","v":0},0,0,0,0,0,0,0,0,0,0,0,0,0,0,0,0,0,0,0,0,0,0,0,0,0,0,0,0,0,0,0,0,0,0,0,0,0,0,0,0,0,0,0,0,0,0,0,0,0,0,0,0,0,0,0,null,null,{"$f":"Раздел2!#REF!","v":{"$error":"#REF!"}}]
[null,"Подводный спорт","112",{"$f":"Раздел2!F119","v":0},0,0,0,0,0,0,0,0,0,0,0,0,0,0,0,0,0,0,0,0,0,0,0,0,0,0,0,0,0,0,0,0,0,0,0,0,0,0,0,0,0,0,0,0,0,0,0,0,0,0,0,0,0,0,0]
[null,"Пожарно-прикладной спорт","113",{"$f":"Раздел2!F120","v":0},0,0,0,0,0,0,0,0,0,0,0,0,0,0,0,0,0,0,0,0,0,0,0,0,0,0,0,0,0,0,0,0,0,0,0,0,0,0,0,0,0,0,0,0,0,0,0,0,0,0,0,0,0,0,0]
[null,"Полиатлон","114",{"$f":"Раздел2!F121","v":0},0,0,0,0,0,0,0,0,0,0,0,0,0,0,0,0,0,0,0,0,0,0,0,0,0,0,0,0,0,0,0,0,0,0,0,0,0,0,0,0,0,0,0,0,0,0,0,0,0,0,0,0,0,0,0]
[null,"Практическая стрельба","115",{"$f":"Раздел2!F122","v":0},0,0,0,0,0,0,0,0,0,0,0,0,0,0,0,0,0,0,0,0,0,0,0,0,0,0,0,0,0,0,0,0,0,0,0,0,0,0,0,0,0,0,0,0,0,0,0,0,0,0,0,0,0,0,0]
[null,"Прыжки в воду - всего","116",{"$f":"Раздел2!F123","v":0},0,0,0,0,0,{"$f":"SUM(J124:J125)","v":0},0,0,0,0,0,0,0,0,0,0,0,0,0,0,0,0,0,0,0,0,0,0,0,0,0,0,0,0,0,0,0,0,0,0,0,0,0,0,0,0,0,0,0,0,0,0,0,0,0]
[null,"в том числе:\nПрыжки в воду","117",{"$f":"Раздел2!F124","v":0},0,0,0,0,0,0,0,0,0,0,0,0,0,0,0,0,0,0,0,0,0,0,0,0,0,0,0,0,0,0,0,0,0,0,0,0,0,0,0,0,0,0,0,0,0,0,0,0,0,0,0,0,0,0,0]
[null,"Прыжки в открытый водоем","118",{"$f":"Раздел2!F125","v":0},0,0,0,0,0,0,0,0,0,0,0,0,0,0,0,0,0,0,0,0,0,0,0,0,0,0,0,0,0,0,0,0,0,0,0,0,0,0,0,0,0,0,0,0,0,0,0,0,0,0,0,0,0,0,0]
[null,"Прыжки на батуте - всего","119",{"$f":"Раздел2!F126","v":0},0,0,0,0,0,{"$f":"SUM(J127:J130)","v":0},0,0,0,0,0,0,0,0,0,0,0,0,0,0,0,0,0,0,0,0,0,0,0,0,0,0,0,0,0,0,0,0,0,0,0,0,0,0,0,0,0,0,0,0,0,0,0,0,0]
[null,"в том числе:\nАкробатическая дорожка","120",{"$f":"Раздел2!F127","v":0},0,0,0,0,0,0,0,0,0,0,0,0,0,0,0,0,0,0,0,0,0,0,0,0,0,0,0,0,0,0,0,0,0,0,0,0,0,0,0,0,0,0,0,0,0,0,0,0,0,0,0,0,0,0,0]
[null,"Двойной минитрамп","121",{"$f":"Раздел2!F128","v":0},0,0,0,0,0,0,0,0,0,0,0,0,0,0,0,0,0,0,0,0,0,0,0,0,0,0,0,0,0,0,0,0,0,0,0,0,0,0,0,0,0,0,0,0,0,0,0,0,0,0,0,0,0,0,0]
[null,"Индивидуальные прыжки","122",{"$f":"Раздел2!F129","v":0},0,0,0,0,0,0,0,0,0,0,0,0,0,0,0,0,0,0,0,0,0,0,0,0,0,0,0,0,0,0,0,0,0,0,0,0,0,0,0,0,0,0,0,0,0,0,0,0,0,0,0,0,0,0,0]
[null,"Синхронные прыжки","123",{"$f":"Раздел2!F130","v":0},0,0,0,0,0,0,0,0,0,0,0,0,0,0,0,0,0,0,0,0,0,0,0,0,0,0,0,0,0,0,0,0,0,0,0,0,0,0,0,0,0,0,0,0,0,0,0,0,0,0,0,0,0,0,0]
[null,"Прыжки на лыжах с трамплина","124",{"$f":"Раздел2!F131","v":0},0,0,0,0,0,0,0,0,0,0,0,0,0,0,0,0,0,0,0,0,0,0,0,0,0,0,0,0,0,0,0,0,0,0,0,0,0,0,0,0,0,0,0,0,0,0,0,0,0,0,0,0,0,0,0]
[null,"Пулевая стрельба - всего","125",{"$f":"Раздел2!F132","v":0},0,0,0,0,0,{"$f":"SUM(J133:J137)","v":0},0,0,0,0,0,0,0,0,0,0,0,0,0,0,0,0,0,0,0,0,0,0,0,0,0,0,0,0,0,0,0,0,0,0,0,0,0,0,0,0,0,0,0,0,0,0,0,0,0]
[null,"в том числе:\nПневматическая винтовка","126",{"$f":"Раздел2!F133","v":0},0,0,0,0,0,0,0,0,0,0,0,0,0,0,0,0,0,0,0,0,0,0,0,0,0,0,0,0,0,0,0,0,0,0,0,0,0,0,0,0,0,0,0,0,0,0,0,0,0,0,0,0,0,0,0]
[null,"Пневматический пистолет","127",{"$f":"Раздел2!F134","v":0},0,0,0,0,0,0,0,0,0,0,0,0,0,0,0,0,0,0,0,0,0,0,0,0,0,0,0,0,0,0,0,0,0,0,0,0,0,0,0,0,0,0,0,0,0,0,0,0,0,0,0,0,0,0,0]
[null,"Малокалиберная винтовка","128",{"$f":"Раздел2!F135","v":0},0,0,0,0,0,0,0,0,0,0,0,0,0,0,0,0,0,0,0,0,0,0,0,0,0,0,0,0,0,0,0,0,0,0,0,0,0,0,0,0,0,0,0,0,0,0,0,0,0,0,0,0,0,0,0]
[null,"Малокалиберный пистолет","129",{"$f":"Раздел2!F136","v":0},0,0,0,0,0,0,0,0,0,0,0,0,0,0,0,0,0,0,0,0,0,0,0,0,0,0,0,0,0,0,0,0,0,0,0,0,0,0,0,0,0,0,0,0,0,0,0,0,0,0,0,0,0,0,0]
[null,"Движущаяся мишень","130",{"$f":"Раздел2!F137","v":0},{"$f":"J137+O137+T137+Y137+AD137+AI137+AN137+AS137+AX137+BC137","v":0},{"$f":"K137+P137+U137+Z137+AE137+AJ137+AO137+AT137+AY137+BD137","v":0},{"$f":"L137+Q137+V137+AA137+AF137+AK137+AP137+AU137+AZ137+BE137","v":0},{"$f":"M137+R137+W137+AB137+AG137+AL137+AQ137+AV137+BA137+BF137","v":0},{"$f":"N137+S137+X137+AC137+AH137+AM137+AR137+AW137+BB137+BG137","v":0},0,0,0,0,0,0,0,0,0,0,0,0,0,0,0,0,0,0,0,0,0,0,0,0,0,0,0,0,0,0,0,0,0,0,0,0,0,0,0,0,0,0,0,0,0,0,0,0,0,0]
[null,"Пэйнтбол","131",{"$f":"Раздел2!F138","v":0},0,0,0,0,0,0,0,0,0,0,0,0,0,0,0,0,0,0,0,0,0,0,0,0,0,0,0,0,0,0,0,0,0,0,0,0,0,0,0,0,0,0,0,0,0,0,0,0,0,0,0,0,0,0,0]
[null,"Радиоспорт","132",{"$f":"Раздел2!F139","v":0},0,0,0,0,0,0,0,0,0,0,0,0,0,0,0,0,0,0,0,0,0,0,0,0,0,0,0,0,0,0,0,0,0,0,0,0,0,0,0,0,0,0,0,0,0,0,0,0,0,0,0,0,0,0,0]
[null,"Рафтинг","133",{"$f":"Раздел2!F140","v":0},0,0,0,0,0,0,0,0,0,0,0,0,0,0,0,0,0,0,0,0,0,0,0,0,0,0,0,0,0,0,0,0,0,0,0,0,0,0,0,0,0,0,0,0,0,0,0,0,0,0,0,0,0,0,0]
[null,"Регби - всего","134",{"$f":"Раздел2!F141","v":0},0,0,0,0,0,{"$f":"SUM(J142:J145)","v":0},0,0,0,0,0,0,0,0,0,0,0,0,0,0,0,0,0,0,0,0,0,0,0,0,0,0,0,0,0,0,0,0,0,0,0,0,0,0,0,0,0,0,0,0,0,0,0,0,0]
[null,"в том числе:\nРегби","135",{"$f":"Раздел2!F142","v":0},0,0,0,0,0,0,0,0,0,0,0,0,0,0,0,0,0,0,0,0,0,0,0,0,0,0,0,0,0,0,0,0,0,0,0,0,0,0,0,0,0,0,0,0,0,0,0,0,0,0,0,0,0,0,0]
[null,"Регби 7 (муж.)","136",{"$f":"Раздел2!F143","v":0},0,0,0,0,0,0,0,0,0,0,0,0,0,0,0,0,0,0,0,0,0,0,0,0,0,0,0,0,0,0,0,0,0,0,0,0,0,0,0,0,0,0,0,0,0,0,0,0,0,0,0,0,0,0,0]
[null,"Регби 7 (жен.)","137",{"$f":"Раздел2!F144","v":0},0,0,0,0,0,0,0,0,0,0,0,0,0,0,0,0,0,0,0,0,0,0,0,0,0,0,0,0,0,0,0,0,0,0,0,0,0,0,0,0,0,0,0,0,0,0,0,0,0,0,0,0,0,0,0]
[null,"Регби - пляжное","138",{"$f":"Раздел2!F145","v":0},0,0,0,0,0,0,0,0,0,0,0,0,0,0,0,0,0,0,0,0,0,0,0,0,0,0,0,0,0,0,0,0,0,0,0,0,0,0,0,0,0,0,0,0,0,0,0,0,0,0,0,0,0,0,0]
[null,"Регбол","139",{"$f":"Раздел2!F146","v":0},0,0,0,0,0,0,0,0,0,0,0,0,0,0,0,0,0,0,0,0,0,0,0,0,0,0,0,0,0,0,0,0,0,0,0,0,0,0,0,0,0,0,0,0,0,0,0,0,0,0,0,0,0,0,0]
[null,"Роллер спорт","140",{"$f":"Раздел2!F147","v":0},0,0,0,0,0,0,0,0,0,0,0,0,0,0,0,0,0,0,0,0,0,0,0,0,0,0,0,0,0,0,0,0,0,0,0,0,0,0,0,0,0,0,0,0,0,0,0,0,0,0,0,0,0,0,0]
[null,"Рукопашный бой","141",{"$f":"Раздел2!F148","v":0},0,0,0,0,0,0,0,0,0,0,0,0,0,0,0,0,0,0,0,0,0,0,0,0,0,0,0,0,0,0,0,0,0,0,0,0,0,0,0,0,0,0,0,0,0,0,0,0,0,0,0,0,0,0,0]
[null,"Рыболовный спорт","142",{"$f":"Раздел2!F149","v":0},0,0,0,0,0,0,0,0,0,0,0,0,0,0,0,0,0,0,0,0,0,0,0,0,0,0,0,0,0,0,0,0,0,0,0,0,0,0,0,0,0,0,0,0,0,0,0,0,0,0,0,0,0,0,0]
[null,"Сават","143",{"$f":"Раздел2!F150","v":0},0,0,0,0,0,0,0,0,0,0,0,0,0,0,0,0,0,0,0,0,0,0,0,0,0,0,0,0,0,0,0,0,0,0,0,0,0,0,0,0,0,0,0,0,0,0,0,0,0,0,0,0,0,0,0]
[null,"Самбо","144",{"$f":"Раздел2!F151","v":0},0,0,0,0,0,0,0,0,0,0,0,0,0,0,0,0,0,0,0,0,0,0,0,0,0,0,0,0,0,0,0,0,0,0,0,0,0,0,0,0,0,0,0,0,0,0,0,0,0,0,0,0,0,0,0]
[null,"Самолетный спорт","145",{"$f":"Раздел2!F152","v":0},0,0,0,0,0,0,0,0,0,0,0,0,0,0,0,0,0,0,0,0,0,0,0,0,0,0,0,0,0,0,0,0,0,0,0,0,0,0,0,0,0,0,0,0,0,0,0,0,0,0,0,0,0,0,0]
[null,"Санный спорт","146",{"$f":"Раздел2!F153","v":0},0,0,0,0,0,0,0,0,0,0,0,0,0,0,0,0,0,0,0,0,0,0,0,0,0,0,0,0,0,0,0,0,0,0,0,0,0,0,0,0,0,0,0,0,0,0,0,0,0,0,0,0,0,0,0]
[null,"Северное многоборье","147",{"$f":"Раздел2!F154","v":0},0,0,0,0,0,0,0,0,0,0,0,0,0,0,0,0,0,0,0,0,0,0,0,0,0,0,0,0,0,0,0,0,0,0,0,0,0,0,0,0,0,0,0,0,0,0,0,0,0,0,0,0,0,0,0]
[null,"Серфинг","148",{"$f":"Раздел2!F155","v":0},0,0,0,0,0,0,0,0,0,0,0,0,0,0,0,0,0,0,0,0,0,0,0,0,0,0,0,0,0,0,0,0,0,0,0,0,0,0,0,0,0,0,0,0,0,0,0,0,0,0,0,0,0,0,0]
[null,"Синхронное плавание","149",{"$f":"Раздел2!F156","v":0},0,0,0,0,0,0,0,0,0,0,0,0,0,0,0,0,0,0,0,0,0,0,0,0,0,0,0,0,0,0,0,0,0,0,0,0,0,0,0,0,0,0,0,0,0,0,0,0,0,0,0,0,0,0,0]
[null,"Скалолазание","150",{"$f":"Раздел2!F157","v":0},0,0,0,0,0,0,0,0,0,0,0,0,0,0,0,0,0,0,0,0,0,0,0,0,0,0,0,0,0,0,0,0,0,0,0,0,0,0,0,0,0,0,0,0,0,0,0,0,0,0,0,0,0,0,0]
[null,"Скейтбординг","151",{"$f":"Раздел2!F158","v":0},0,0,0,0,0,0,0,0,0,0,0,0,0,0,0,0,0,0,0,0,0,0,0,0,0,0,0,0,0,0,0,0,0,0,0,0,0,0,0,0,0,0,0,0,0,0,0,0,0,0,0,0,0,0,0]
[null,"Сквош","152",{"$f":"Раздел2!F159","v":0},0,0,0,0,0,0,0,0,0,0,0,0,0,0,0,0,0,0,0,0,0,0,0,0,0,0,0,0,0,0,0,0,0,0,0,0,0,0,0,0,0,0,0,0,0,0,0,0,0,0,0,0,0,0,0]
[null,"Служебно-прикладной спорт ФСО России","153",{"$f":"Раздел2!F160","v":0},0,0,0,0,0,0,0,0,0,0,0,0,0,0,0,0,0,0,0,0,0,0,0,0,0,0,0,0,0,0,0,0,0,0,0,0,0,0,0,0,0,0,0,0,0,0,0,0,0,0,0,0,0,0,0]
[null,"Служебно-прикладной спорт ГФС России","154",{"$f":"Раздел2!F161","v":0},0,0,0,0,0,0,0,0,0,0,0,0,0,0,0,0,0,0,0,0,0,0,0,0,0,0,0,0,0,0,0,0,0,0,0,0,0,0,0,0,0,0,0,0,0,0,0,0,0,0,0,0,0,0,0]
[null,"Служебно-прикладной спорт ФСКН России","155",{"$f":"Раздел2!F162","v":0},0,0,0,0,0,0,0,0,0,0,0,0,0,0,0,0,0,0,0,0,0,0,0,0,0,0,0,0,0,0,0,0,0,0,0,0,0,0,0,0,0,0,0,0,0,0,0,0,0,0,0,0,0,0,0]
[null,"Служебно-прикладной спорт ФТС России","156",{"$f":"Раздел2!F163","v":0},0,0,0,0,0,0,0,0,0,0,0,0,0,0,0,0,0,0,0,0,0,0,0,0,0,0,0,0,0,0,0,0,0,0,0,0,0,0,0,0,0,0,0,0,0,0,0,0,0,0,0,0,0,0,0]
[null,"Служебное двоеборье","157",{"$f":"Раздел2!F164","v":0},0,0,0,0,0,0,0,0,0,0,0,0,0,0,0,0,0,0,0,0,0,0,0,0,0,0,0,0,0,0,0,0,0,0,0,0,0,0,0,0,0,0,0,0,0,0,0,0,0,0,0,0,0,0,0]
[null,"Служебное единоборство","158",{"$f":"Раздел2!F165","v":0},0,0,0,0,0,0,0,0,0,0,0,0,0,0,0,0,0,0,0,0,0,0,0,0,0,0,0,0,0,0,0,0,0,0,0,0,0,0,0,0,0,0,0,0,0,0,0,0,0,0,0,0,0,0,0]
[null,"Служебное многоборье","159",{"$f":"Раздел2!F166","v":0},0,0,0,0,0,0,0,0,0,0,0,0,0,0,0,0,0,0,0,0,0,0,0,0,0,0,0,0,0,0,0,0,0,0,0,0,0,0,0,0,0,0,0,0,0,0,0,0,0,0,0,0,0,0,0]
[null,"Служебное собаководство","160",{"$f":"Раздел2!F167","v":0},0,0,0,0,0,0,0,0,0,0,0,0,0,0,0,0,0,0,0,0,0,0,0,0,0,0,0,0,0,0,0,0,0,0,0,0,0,0,0,0,0,0,0,0,0,0,0,0,0,0,0,0,0,0,0]
[null,"Служебный биатлон","161",{"$f":"Раздел2!F168","v":0},0,0,0,0,0,0,0,0,0,0,0,0,0,0,0,0,0,0,0,0,0,0,0,0,0,0,0,0,0,0,0,0,0,0,0,0,0,0,0,0,0,0,0,0,0,0,0,0,0,0,0,0,0,0,0]
[null,"Спасательный спорт","162",{"$f":"Раздел2!F169","v":0},0,0,0,0,0,0,0,0,0,0,0,0,0,0,0,0,0,0,0,0,0,0,0,0,0,0,0,0,0,0,0,0,0,0,0,0,0,0,0,0,0,0,0,0,0,0,0,0,0,0,0,0,0,0,0]
[null,"Стрельба из боевого ручного стрелкового оружия","163",{"$f":"Раздел2!F170","v":0},0,0,0,0,0,0,0,0,0,0,0,0,0,0,0,0,0,0,0,0,0,0,0,0,0,0,0,0,0,0,0,0,0,0,0,0,0,0,0,0,0,0,0,0,0,0,0,0,0,0,0,0,0,0,0]
[null,"Стрельба из штатного или табельного оружия","164",{"$f":"Раздел2!F171","v":0},0,0,0,0,0,0,0,0,0,0,0,0,0,0,0,0,0,0,0,0,0,0,0,0,0,0,0,0,0,0,0,0,0,0,0,0,0,0,0,0,0,0,0,0,0,0,0,0,0,0,0,0,0,0,0]
[null,"Смешанное боевое единоборство (ММА)","165",{"$f":"Раздел2!F172","v":0},0,0,0,0,0,0,0,0,0,0,0,0,0,0,0,0,0,0,0,0,0,0,0,0,0,0,0,0,0,0,0,0,0,0,0,0,0,0,0,0,0,0,0,0,0,0,0,0,0,0,0,0,0,0,0]
[null,"Сноуборд","166",{"$f":"Раздел2!F173","v":0},0,0,0,0,0,0,0,0,0,0,0,0,0,0,0,0,0,0,0,0,0,0,0,0,0,0,0,0,0,0,0,0,0,0,0,0,0,0,0,0,0,0,0,0,0,0,0,0,0,0,0,0,0,0,0]
[null,"Современное пятиборье","167",{"$f":"Раздел2!F174","v":0},0,0,0,0,0,0,0,0,0,0,0,0,0,0,0,0,0,0,0,0,0,0,0,0,0,0,0,0,0,0,0,0,0,0,0,0,0,0,0,0,0,0,0,0,0,0,0,0,0,0,0,0,0,0,0]
[null,"Софтбол","168",{"$f":"Раздел2!F175","v":0},0,0,0,0,0,0,0,0,0,0,0,0,0,0,0,0,0,0,0,0,0,0,0,0,0,0,0,0,0,0,0,0,0,0,0,0,0,0,0,0,0,0,0,0,0,0,0,0,0,0,0,0,0,0,0]
[null,"Спорт сверхлегкой авиации","169",{"$f":"Раздел2!F176","v":0},0,0,0,0,0,0,0,0,0,0,0,0,0,0,0,0,0,0,0,0,0,0,0,0,0,0,0,0,0,0,0,0,0,0,0,0,0,0,0,0,0,0,0,0,0,0,0,0,0,0,0,0,0,0,0]
[null,"Спортивная акробатика","170",{"$f":"Раздел2!F177","v":0},0,0,0,0,0,0,0,0,0,0,0,0,0,0,0,0,0,0,0,0,0,0,0,0,0,0,0,0,0,0,0,0,0,0,0,0,0,0,0,0,0,0,0,0,0,0,0,0,0,0,0,0,0,0,0]
[null,"Спортивная аэробика","171",{"$f":"Раздел2!F178","v":297},0,0,0,0,0,0,0,0,0,0,0,0,0,0,0,0,0,0,0,0,0,0,0,0,0,0,0,0,0,0,0,0,0,0,0,0,0,0,0,0,0,0,0,0,0,0,0,0,0,0,0,0,0,0,0]
[null,"Спортивная борьба - всего","172",{"$f":"Раздел2!F179","v":0},0,0,0,0,0,{"$f":"SUM(J180:J184)","v":0},0,0,0,0,0,0,0,0,0,0,0,0,0,0,0,0,0,0,0,0,0,0,0,0,0,0,0,0,0,0,0,0,0,0,0,0,0,0,0,0,0,0,0,0,0,0,0,0,0]
[null,"в том числе:\nВольная борьба","173",{"$f":"Раздел2!F180","v":0},0,0,0,0,0,0,0,0,0,0,0,0,0,0,0,0,0,0,0,0,0,0,0,0,0,0,0,0,0,0,0,0,0,0,0,0,0,0,0,0,0,0,0,0,0,0,0,0,0,0,0,0,0,0,0]
[null,"Греко-римская борьба","174",{"$f":"Раздел2!F181","v":0},0,0,0,0,0,0,0,0,0,0,0,0,0,0,0,0,0,0,0,0,0,0,0,0,0,0,0,0,0,0,0,0,0,0,0,0,0,0,0,0,0,0,0,0,0,0,0,0,0,0]
[null,"Грэпплинг","175",{"$f":"Раздел2!F182","v":0},0,0,0,0,0,0,0,0,0,0,0,0,0,0,0,0,0,0,0,0,0,0,0,0,0,0,0,0,0,0,0,0,0,0,0,0,0,0,0,0,0,0,0,0,0,0,0,0,0,0,0,0,0,0,0]
[null,"Грэпплинг-ги","176",{"$f":"Раздел2!F183","v":0},0,0,0,0,0,0,0,0,0,0,0,0,0,0,0,0,0,0,0,0,0,0,0,0,0,0,0,0,0,0,0,0,0,0,0,0,0,0,0,0,0,0,0,0,0,0,0,0,0,0,0,0,0,0,0]
[null,"Панкратион","177",{"$f":"Раздел2!F184","v":0},0,0,0,0,0,0,0,0,0,0,0,0,0,0,0,0,0,0,0,0,0,0,0,0,0,0,0,0,0,0,0,0,0,0,0,0,0,0,0,0,0,0,0,0,0,0,0,0,0,0,0,0,0,0,0]
[null,"Спортивно-прикладное собаководство","178",{"$f":"Раздел2!F185","v":0},0,0,0,0,0,0,0,0,0,0,0,0,0,0,0,0,0,0,0,0,0,0,0,0,0,0,0,0,0,0,0,0,0,0,0,0,0,0,0,0,0,0,0,0,0,0,0,0,0,0,0,0,0,0,0]
[null,"Спортивная гимнастика","179",{"$f":"Раздел2!F186","v":0},0,0,0,0,0,0,0,0,0,0,0,0,0,0,0,0,0,0,0,0,0,0,0,0,0,0,0,0,0,0,0,0,0,0,0,0,0,0,0,0,0,0,0,0,0,0,0,0,0,0,0,0,0,0,0]
[null,"Спортивное ориентирование","180",{"$f":"Раздел2!F187","v":0},0,0,0,0,0,0,0,0,0,0,0,0,0,0,0,0,0,0,0,0,0,0,0,0,0,0,0,0,0,0,0,0,0,0,0,0,0,0,0,0,0,0,0,0,0,0,0,0,0,0,0,0,0,0,0]
[null,"Спортивный бридж","181",{"$f":"Раздел2!F188","v":0},0,0,0,0,0,0,0,0,0,0,0,0,0,0,0,0,0,0,0,0,0,0,0,0,0,0,0,0,0,0,0,0,0,0,0,0,0,0,0,0,0,0,0,0,0,0,0,0,0,0,0,0,0,0,0]
[null,"Спортивный туризм","182",{"$f":"Раздел2!F189","v":0},0,0,0,0,0,0,0,0,0,0,0,0,0,0,0,0,0,0,0,0,0,0,0,0,0,0,0,0,0,0,0,0,0,0,0,0,0,0,0,0,0,0,0,0,0,0,0,0,0,0,0,0,0,0,0]
[null,"Стендовая стрельба - всего","183",{"$f":"Раздел2!F190","v":0},0,0,0,0,0,{"$f":"SUM(J191:J194)","v":0},0,0,0,0,0,0,0,0,0,0,0,0,0,0,0,0,0,0,0,0,0,0,0,0,0,0,0,0,0,0,0,0,0,0,0,0,0,0,0,0,0,0,0,0,0,0,0,0,0]
[null,"в том числе:\nТрап","184",{"$f":"Раздел2!F191","v":0},0,0,0,0,0,0,0,0,0,0,0,0,0,0,0,0,0,0,0,0,0,0,0,0,0,0,0,0,0,0,0,0,0,0,0,0,0,0,0,0,0,0,0,0,0,0,0,0,0,0,0,0,0,0,0]
[null,"Скит","185",{"$f":"Раздел2!F192","v":0},0,0,0,0,0,0,0,0,0,0,0,0,0,0,0,0,0,0,0,0,0,0,0,0,0,0,0,0,0,0,0,0,0,0,0,0,0,0,0,0,0,0,0,0,0,0,0,0,0,0,0,0,0,0,0]
[null,"Дубль-трап","186",{"$f":"Раздел2!F193","v":0},0,0,0,0,0,0,0,0,0,0,0,0,0,0,0,0,0,0,0,0,0,0,0,0,0,0,0,0,0,0,0,0,0,0,0,0,0,0,0,0,0,0,0,0,0,0,0,0,0,0,0,0,0,0,0]
[null,"Спортинг","187",{"$f":"Раздел2!F194","v":0},0,0,0,0,0,0,0,0,0,0,0,0,0,0,0,0,0,0,0,0,0,0,0,0,0,0,0,0,0,0,0,0,0,0,0,0,0,0,0,0,0,0,0,0,0,0,0,0,0,0,0,0,0,0,0]
[null,"Стрельба из арбалета","188",{"$f":"Раздел2!F195","v":0},0,0,0,0,0,0,0,0,0,0,0,0,0,0,0,0,0,0,0,0,0,0,0,0,0,0,0,0,0,0,0,0,0,0,0,0,0,0,0,0,0,0,0,0,0,0,0,0,0,0,0,0,0,0,0]
[null,"Стрельба из лука - всего","189",{"$f":"Раздел2!F196","v":0},0,0,0,0,0,{"$f":"SUM(J197:J199)","v":0},0,0,0,0,0,0,0,0,0,0,0,0,0,0,0,0,0,0,0,0,0,0,0,0,0,0,0,0,0,0,0,0,0,0,0,0,0,0,0,0,0,0,0,0,0,0,0,0,0]
[null,"в том числе:\nКлассический лук","190",{"$f":"Раздел2!F197","v":0},0,0,0,0,0,0,0,0,0,0,0,0,0,0,0,0,0,0,0,0,0,0,0,0,0,0,0,0,0,0,0,0,0,0,0,0,0,0,0,0,0,0,0,0,0,0,0,0,0,0,0,0,0,0,0]
[null,"   Блочный лук","191",{"$f":"Раздел2!F198","v":0},0,0,0,0,0,0,0,0,0,0,0,0,0,0,0,0,0,0,0,0,0,0,0,0,0,0,0,0,0,0,0,0,0,0,0,0,0,0,0,0,0,0,0,0,0,0,0,0,0,0,0,0,0,0,0]
[null,"   Ачери ","192",{"$f":"Раздел2!F199","v":0},0,0,0,0,0,0,0,0,0,0,0,0,0,0,0,0,0,0,0,0,0,0,0,0,0,0,0,0,0,0,0,0,0,0,0,0,0,0,0,0,0,0,0,0,0,0,0,0,0,0,0,0,0,0,0]
[null,"Судомодельный спорт","193",{"$f":"Раздел2!F200","v":0},0,0,0,0,0,0,0,0,0,0,0,0,0,0,0,0,0,0,0,0,0,0,0,0,0,0,0,0,0,0,0,0,0,0,0,0,0,0,0,0,0,0,0,0,0,0,0,0,0,0,0,0,0,0,0]
[null,"Сумо","194",{"$f":"Раздел2!F201","v":0},{"$f":"J201+O201+T201+Y201+AD201+AI201+AN201+AS201+AX201+BC201","v":0},{"$f":"K201+P201+U201+Z201+AE201+AJ201+AO201+AT201+AY201+BD201","v":0},{"$f":"L201+Q201+V201+AA201+AF201+AK201+AP201+AU201+AZ201+BE201","v":0},{"$f":"M201+R201+W201+AB201+AG201+AL201+AQ201+AV201+BA201+BF201","v":0},{"$f":"N201+S201+X201+AC201+AH201+AM201+AR201+AW201+BB201+BG201","v":0},0,0,0,0,0,0,0,0,0,0,0,0,0,0,0,0,0,0,0,0,0,0,0,0,0,0,0,0,0,0,0,0,0,0,0,0,0,0,0,0,0,0,0,0,0,0,0,0,0,0]
[null,"Тайский бокс","195",{"$f":"Раздел2!F202","v":0},0,0,0,0,0,0,0,0,0,0,0,0,0,0,0,0,0,0,0,0,0,0,0,0,0,0,0,0,0,0,0,0,0,0,0,0,0,0,0,0,0,0,0,0,0,0,0,0,0,0,0,0,0,0,0]
[null,"Танцевальный спорт","196",{"$f":"Раздел2!F203","v":0},0,0,0,0,0,0,0,0,0,0,0,0,0,0,0,0,0,0,0,0,0,0,0,0,0,0,0,0,0,0,0,0,0,0,0,0,0,0,0,0,0,0,0,0,0,0,0,0,0,0,0,0,0,0,0]
[null,"Теннис","197",{"$f":"Раздел2!F204","v":0},0,0,0,0,0,0,0,0,0,0,0,0,0,0,0,0,0,0,0,0,0,0,0,0,0,0,0,0,0,0,0,0,0,0,0,0,0,0,0,0,0,0,0,0,0,0,0,0,0,0,0,0,0,0,0]
[null,"Триатлон","198",{"$f":"Раздел2!F205","v":0},0,0,0,0,0,0,0,0,0,0,0,0,0,0,0,0,0,0,0,0,0,0,0,0,0,0,0,0,0,0,0,0,0,0,0,0,0,0,0,0,0,0,0,0,0,0,0,0,0,0,0,0,0,0,0]
[null,"Тхэквондо - всего","199",{"$f":"Раздел2!F206","v":0},0,0,0,0,0,{"$f":"SUM(J207:J208)","v":0},0,0,0,0,0,0,0,0,0,0,0,0,0,0,0,0,0,0,0,0,0,0,0,0,0,0,0,0,0,0,0,0,0,0,0,0,0,0,0,0,0,0,0,0,0,0,0,0,0]
[null,"в том числе:\nТхэквондо (ГТФ, ИТФ, МФТ)","200",{"$f":"Раздел2!F207","v":0},0,0,0,0,0,0,0,0,0,0,0,0,0,0,0,0,0,0,0,0,0,0,0,0,0,0,0,0,0,0,0,0,0,0,0,0,0,0,0,0,0,0,0,0,0,0,0,0,0,0,0,0,0,0,0]
[null,"Тхэквондо (ВТФ)","201",{"$f":"Раздел2!F208","v":0},0,0,0,0,0,0,0,0,0,0,0,0,0,0,0,0,0,0,0,0,0,0,0,0,0,0,0,0,0,0,0,0,0,0,0,0,0,0,0,0,0,0,0,0,0,0,0,0,0,0,0,0,0,0,0]
[null,"Тяжелая атлетика","202",{"$f":"Раздел2!F209","v":0},0,0,0,0,0,0,0,0,0,0,0,0,0,0,0,0,0,0,0,0,0,0,0,0,0,0,0,0,0,0,0,0,0,0,0,0,0,0,0,0,0,0,0,0,0,0,0,0,0,0,0,0,0,0,0]
[null,"Универсальный бой","203",{"$f":"Раздел2!F210","v":0},0,0,0,0,0,0,0,0,0,0,0,0,0,0,0,0,0,0,0,0,0,0,0,0,0,0,0,0,0,0,0,0,0,0,0,0,0,0,0,0,0,0,0,0,0,0,0,0,0,0,0,0,0,0,0]
[null,"Ушу","204",{"$f":"Раздел2!F211","v":0},0,0,0,0,0,0,0,0,0,0,0,0,0,0,0,0,0,0,0,0,0,0,0,0,0,0,0,0,0,0,0,0,0,0,0,0,0,0,0,0,0,0,0,0,0,0,0,0,0,0,0,0,0,0,0]
[null,"Фехтование - всего","205",{"$f":"Раздел2!F212","v":0},0,0,0,0,0,{"$f":"SUM(J213:J216)","v":0},0,0,0,0,0,0,0,0,0,0,0,0,0,0,0,0,0,0,0,0,0,0,0,0,0,0,0,0,0,0,0,0,0,0,0,0,0,0,0,0,0,0,0,0,0,0,0,0,0]
[null,"в том числе:\nРапира","206",{"$f":"Раздел2!F213","v":0},0,0,0,0,0,0,0,0,0,0,0,0,0,0,0,0,0,0,0,0,0,0,0,0,0,0,0,0,0,0,0,0,0,0,0,0,0,0,0,0,0,0,0,0,0,0,0,0,0,0,0,0,0,0,0]
[null,"Сабля","207",{"$f":"Раздел2!F214","v":0},0,0,0,0,0,0,0,0,0,0,0,0,0,0,0,0,0,0,0,0,0,0,0,0,0,0,0,0,0,0,0,0,0,0,0,0,0,0,0,0,0,0,0,0,0,0,0,0,0,0,0,0,0,0,0]
[null,"Шпага","208",{"$f":"Раздел2!F215","v":0},0,0,0,0,0,0,0,0,0,0,0,0,0,0,0,0,0,0,0,0,0,0,0,0,0,0,0,0,0,0,0,0,0,0,0,0,0,0,0,0,0,0,0,0,0,0,0,0,0,0,0,0,0,0,0]
[null,"Арт-фехтование","209",{"$f":"Раздел2!F216","v":0},0,0,0,0,0,0,0,0,0,0,0,0,0,0,0,0,0,0,0,0,0,0,0,0,0,0,0,0,0,0,0,0,0,0,0,0,0,0,0,0,0,0,0,0,0,0,0,0,0,0,0,0,0,0,0]
[null,"Фигурное катание на коньках","210",{"$f":"Раздел2!F217","v":0},0,0,0,0,0,0,0,0,0,0,0,0,0,0,0,0,0,0,0,0,0,0,0,0,0,0,0,0,0,0,0,0,0,0,0,0,0,0,0,0,0,0,0,0,0,0,0,0,0,0,0,0,0,0,0]
[null,"Фитнес-аэробика","211",{"$f":"Раздел2!F218","v":0},0,0,0,0,0,0,0,0,0,0,0,0,0,0,0,0,0,0,0,0,0,0,0,0,0,0,0,0,0,0,0,0,0,0,0,0,0,0,0,0,0,0,0,0,0,0,0,0,0,0,0,0,0,0,0]
[null,"Флаинг диск","212",{"$f":"Раздел2!F219","v":0},0,0,0,0,0,0,0,0,0,0,0,0,0,0,0,0,0,0,0,0,0,0,0,0,0,0,0,0,0,0,0,0,0,0,0,0,0,0,0,0,0,0,0,0,0,0,0,0,0,0,0,0,0,0,0]
[null,"Флорбол","213",{"$f":"Раздел2!F220","v":0},0,0,0,0,0,0,0,0,0,0,0,0,0,0,0,0,0,0,0,0,0,0,0,0,0,0,0,0,0,0,0,0,0,0,0,0,0,0,0,0,0,0,0,0,0,0,0,0,0,0,0,0,0,0,0]
[null,"Фристайл - всего","214",{"$f":"Раздел2!F221","v":0},0,0,0,0,0,{"$f":"SUM(J222:J226)","v":0},0,0,0,0,0,0,0,0,0,0,0,0,0,0,0,0,0,0,0,0,0,0,0,0,0,0,0,0,0,0,0,0,0,0,0,0,0,0,0,0,0,0,0,0,0,0,0,0,0]
[null,"в том числе:\nАкробатика","215",{"$f":"Раздел2!F222","v":0},0,0,0,0,0,0,0,0,0,0,0,0,0,0,0,0,0,0,0,0,0,0,0,0,0,0,0,0,0,0,0,0,0,0,0,0,0,0,0,0,0,0,0,0,0,0,0,0,0,0,0,0,0,0,0]
[null,"Могул","216",{"$f":"Раздел2!F223","v":0},0,0,0,0,0,0,0,0,0,0,0,0,0,0,0,0,0,0,0,0,0,0,0,0,0,0,0,0,0,0,0,0,0,0,0,0,0,0,0,0,0,0,0,0,0,0,0,0,0,0,0,0,0,0,0]
[null,"Ски-кросс","217",{"$f":"Раздел2!F224","v":0},0,0,0,0,0,0,0,0,0,0,0,0,0,0,0,0,0,0,0,0,0,0,0,0,0,0,0,0,0,0,0,0,0,0,0,0,0,0,0,0,0,0,0,0,0,0,0,0,0,0,0,0,0,0,0]
[null,"Хаф-пайп","218",{"$f":"Раздел2!F225","v":0},0,0,0,0,0,0,0,0,0,0,0,0,0,0,0,0,0,0,0,0,0,0,0,0,0,0,0,0,0,0,0,0,0,0,0,0,0,0,0,0,0,0,0,0,0,0,0,0,0,0,0,0,0,0,0]
[null,"Слоуп-стайл","219",{"$f":"Раздел2!F226","v":0},0,0,0,0,0,0,0,0,0,0,0,0,0,0,0,0,0,0,0,0,0,0,0,0,0,0,0,0,0,0,0,0,0,0,0,0,0,0,0,0,0,0,0,0,0,0,0,0,0,0,0,0,0,0,0]
[null,"Футбол - всего","220",{"$f":"Раздел2!F227","v":123},0,0,0,0,0,{"$f":"SUM(J228:J231)","v":0},0,0,0,0,0,0,0,0,0,0,0,0,0,0,0,0,0,0,0,0,0,0,0,0,0,0,0,0,0,0,0,0,0,0,0,0,0,0,0,0,0,0,0,0,0,0,0,0,0]
[null,"в том числе:\nФутбол (муж.)","221",{"$f":"Раздел2!F228","v":115},0,0,0,0,0,0,0,0,0,0,0,0,0,0,0,0,0,0,0,0,0,0,0,0,0,0,0,0,0,0,0,0,0,0,0,0,0,0,0,0,0,0,0,0,0,0,0,0,0,0,0,0,0,0,0]
[null,"Футбол (жен.)","222",{"$f":"Раздел2!F229","v":8},0,0,0,0,0,0,0,0,0,0,0,0,0,0,0,0,0,0,0,0,0,0,0,0,0,0,0,0,0,0,0,0,0,0,0,0,0,0,0,0,0,0,0,0,0,0,0,0,0,0,0,0,0,0,0]
[null,"Мини-футбол (футзал)","223",{"$f":"Раздел2!F230","v":0},0,0,0,0,0,0,0,0,0,0,0,0,0,0,0,0,0,0,0,0,0,0,0,0,0,0,0,0,0,0,0,0,0,0,0,0,0,0,0,0,0,0,0,0,0,0,0,0,0,0,0,0,0,0,0]
[null,"Пляжный футбол","224",{"$f":"Раздел2!F231","v":0},0,0,0,0,0,0,0,0,0,0,0,0,0,0,0,0,0,0,0,0,0,0,0,0,0,0,0,0,0,0,0,0,0,0,0,0,0,0,0,0,0,0,0,0,0,0,0,0,0,0,0,0,0,0,0]
[null,"Хапсагай","225",{"$f":"Раздел2!F232","v":0},0,0,0,0,0,0,0,0,0,0,0,0,0,0,0,0,0,0,0,0,0,0,0,0,0,0,0,0,0,0,0,0,0,0,0,0,0,0,0,0,0,0,0,0,0,0,0,0,0,0,0,0,0,0,0]
[null,"Хоккей - всего","226",{"$f":"Раздел2!F233","v":0},0,0,0,0,0,{"$f":"SUM(J234:J235)","v":0},0,0,0,0,0,0,0,0,0,0,0,0,0,0,0,0,0,0,0,0,0,0,0,0,0,0,0,0,0,0,0,0,0,0,0,0,0,0,0,0,0,0,0,0,0,0,0,0,0]
[null,"в том числе:\nХоккей (муж.)","227",{"$f":"Раздел2!F234","v":0},0,0,0,0,0,0,0,0,0,0,0,0,0,0,0,0,0,0,0,0,0,0,0,0,0,0,0,0,0,0,0,0,0,0,0,0,0,0,0,0,0,0,0,0,0,0,0,0,0,0,0,0,0,0,0]
[null,"Хоккей (жен.)","228",{"$f":"Раздел2!F235","v":0},0,0,0,0,0,0,0,0,0,0,0,0,0,0,0,0,0,0,0,0,0,0,0,0,0,0,0,0,0,0,0,0,0,0,0,0,0,0,0,0,0,0,0,0,0,0,0,0,0,0,0,0,0,0,0]
[null,"Хоккей на траве - всего","229",{"$f":"Раздел2!F236","v":0},0,0,0,0,0,{"$f":"SUM(J237:J239)","v":0},0,0,0,0,0,0,0,0,0,0,0,0,0,0,0,0,0,0,0,0,0,0,0,0,0,0,0,0,0,0,0,0,0,0,0,0,0,0,0,0,0,0,0,0,0,0,0,0,0]
[null,"в том числе:\nХоккей на траве (муж.)","230",{"$f":"Раздел2!F237","v":0},0,0,0,0,0]
[null,"Хоккей на траве (жен.)","231",{"$f":"Раздел2!F238","v":0},0,0,0,0,0]
[null,"Индорхоккей","232",{"$f":"Раздел2!F239","v":0},0,0,0,0,0]
[null,"Хоккей с мячом","233",{"$f":"Раздел2!F240","v":0},0,0,0,0,0]
[null,"Художественная гимнастика","234",{"$f":"Раздел2!F241","v":102},0,0,0,0,0]
[null,"Хуреш","235",{"$f":"Раздел2!F242","v":0},0,0,0,0,0]
[null,"Черлидинг","236",{"$f":"Раздел2!F243","v":0},0,0,0,0,0]
[null,"Чир спорт","237",{"$f":"Раздел2!F244","v":0},0,0,0,0,0]
[null,"Шахматы","238",{"$f":"Раздел2!F245","v":0},0,0,0,0,0]
[null,"Шашки","239",{"$f":"Раздел2!F246","v":0},0,0,0,0,0]
[null,"Эстетическая гимнастика","240",{"$f":"Раздел2!F247","v":0},0,0,0,0,0]
[null,"Якутские национальные прыжки","241",{"$f":"Раздел2!F248","v":0},0,0,0,0,0]
[null,"ИТОГО","242",{"$f":"Раздел2!F249","v":1295},0,0,1,0,0,{"$f":"SUM(J8:J19,J22:J25,J28:J38,J41:J45,J50:J52,J56:J64,J69:J78,J81:J87,J90:J93,J101:J115,J118:J123,J126,J131,J132,J138:J141,J146:J179,J185:J190,J195,J196,J200:J206,J209:J212,J217:J221,J227,J232,J233,J236,J240:J248)","v":0},0,0,0,0,0,0,0,0,0,0,0,0,0,0,0,0,0,0,0,0,0,0,0,0,0,0,0,0,0,0,0,0,0,0,0,0,0,0,0,0,0,0,0,0,0,0,1,0,0]

{"sheet":"Раздел8","index":8,"n_rows":249,"n_cols":20,"rows_kept":249,"cut":false,"hidden":false,"merged":[[0,0,118,0],[0,1,0,16],[2,1,5,1],[2,2,5,2],[2,3,3,4],[3,16,5,16],[4,3,5,3],[4,4,5,4],[4,14,5,14],[4,15,5,15],[2,19,5,19],[0,17,118,17],[1,12,1,16],[3,9,3,11],[2,5,2,16],[3,12,3,15],[3,5,3,8],[4,6,5,6],[4,10,5,10],[4,11,5,11],[4,13,5,13],[4,5,5,5],[4,12,5,12],[4,7,4,8],[4,9,5,9]]}
[null,"Раздел VIII. Тренерский состав"]
[null,null,null,null,null,null,null,null,null,null,null,null,"Код по ОКЕИ: человек – 792"]
[null,"Виды спорта","№ строки","Число тренеров",null,"из них (гр. 4) имеют:",null,null,null,null,null,null,null,null,null,null,null,null,null,"Раздел2 графа3\nЧисло отделений"]
[null,null,null,null,null,"профессиональное образование",null,null,null,"квалификационную категорию",null,null,"в возрасте:",null,null,null,"Звание «Заслуженный тренер России»"]
[null,null,null,"Всего","в том числе штатных","высшее","среднее","в том числе\nфизкультурное",null,"высшую","первую","вторую","до 30 лет","31-45 лет","46-60 лет","старше 60 лет"]
[null,null,null,null,null,null,null,"высшее","среднее"]
[null,1,2,3,4,5,6,7,8,9,10,11,12,13,14,15,16]
[null,"Авиамодельный спорт","01",null,null,null,null,null,null,null,null,null,null,null,null,null,null,null,null,{"$f":"Раздел2!F8","v":0}]
[null,"Автомобильный спорт","02",null,null,null,null,null,null,null,null,null,null,null,null,null,null,null,null,{"$f":"Раздел2!F9","v":0}]
[null,"Автомодельный спорт","03",null,null,null,null,null,null,null,null,null,null,null,null,null,null,null,null,{"$f":"Раздел2!F11","v":0}]
[null,"Айкидо","04",null,null,null,null,null,null,null,null,null,null,null,null,null,null,null,null,{"$f":"Раздел2!F13","v":0}]
[null,"Айсшток","05",null,null,null,null,null,null,null,null,null,null,null,null,null,null,null,null,{"$f":"Раздел2!F14","v":0}]
[null,"Акробатический рок-н-ролл","06",null,null,null,null,null,null,null,null,null,null,null,null,null,null,null,null,{"$f":"Раздел2!F15","v":0}]
[null,"Альпинизм","07",null,null,null,null,null,null,null,null,null,null,null,null,null,null,null,null,{"$f":"Раздел2!F17","v":0}]
[null,"Американский футбол","08",null,null,null,null,null,null,null,null,null,null,null,null,null,null,null,null,{"$f":"Раздел2!F18","v":0}]
[null,"Армейский рукопашный бой","09",null,null,null,null,null,null,null,null,null,null,null,null,null,null,null,null,{"$f":"Раздел2!F19","v":134}]
[null,"Армрестлинг","10",null,null,null,null,null,null,null,null,null,null,null,null,null,null,null,null,{"$f":"Раздел2!F20","v":93}]
[null,"Бадминтон","11",null,null,null,null,null,null,null,null,null,null,null,null,null,null,null,null,{"$f":"Раздел2!F21","v":41}]
[null,"Баскетбол - всего","12",{"$f":"SUM(D20:D21)","v":4},2,1,1,1,0,1,0,0,1,1,0,0,0,null,null,{"$f":"Раздел2!F22","v":0}]
[null,"в том числе:\nБаскетбол (муж.)","13",3,1,1,null,1,null,1,null,null,null,1,null,null,null,null,null,{"$f":"Раздел2!F23","v":0}]
[null,"Баскетбол (жен.)","14",1,1,null,1,null,null,null,null,null,1,null,null,null,null,null,null,{"$f":"Раздел2!F24","v":0}]
[null,"Бейсбол","15",null,null,null,null,null,null,null,null,null,null,null,null,null,null,null,null,{"$f":"Раздел2!F25","v":0}]
[null,"Биатлон","16",null,null,null,null,null,null,null,null,null,null,null,null,null,null,null,null,{"$f":"Раздел2!F26","v":0}]
[null,"Бильярдный спорт","17",null,null,null,null,null,null,null,null,null,null,null,null,null,null,null,null,{"$f":"Раздел2!F27","v":0}]
[null,"Бобслей - всего","18",{"$f":"SUM(D26:D27)","v":0},0,0,0,0,0,0,0,0,0,0,0,0,0,null,null,{"$f":"Раздел2!F28","v":0}]
[null,"в том числе:\nБобслей","19",null,null,null,null,null,null,null,null,null,null,null,null,null,null,null,null,{"$f":"Раздел2!F29","v":90}]
[null,"Скелетон","20",null,null,null,null,null,null,null,null,null,null,null,null,null,null,null,null,{"$f":"Раздел2!F30","v":0}]
[null,"Бодибилдинг","21",null,null,null,null,null,null,null,null,null,null,null,null,null,null,null,null,{"$f":"Раздел2!F31","v":0}]
[null,"Бокс","22",2,1,null,1,null,1,null,null,null,null,1,null,null,null,null,null,{"$f":"Раздел2!F32","v":0}]
[null,"Борьба на поясах","23",null,null,null,null,null,null,null,null,null,null,null,null,null,null,null,null,{"$f":"Раздел2!F33","v":0}]
[null,"Боулинг","24",null,null,null,null,null,null,null,null,null,null,null,null,null,null,null,null,{"$f":"Раздел2!F34","v":0}]
[null,"Велоспорт ВМХ","25",null,null,null,null,null,null,null,null,null,null,null,null,null,null,null,null,{"$f":"Раздел2!F35","v":0}]
[null,"Велоспорт – маунтинбайк","26",null,null,null,null,null,null,null,null,null,null,null,null,null,null,null,null,{"$f":"Раздел2!F36","v":0}]
[null,"Велоспорт – трек","27",null,null,null,null,null,null,null,null,null,null,null,null,null,null,null,null,{"$f":"Раздел2!F37","v":0}]
[null,"Велоспорт – шоссе","28",null,null,null,null,null,null,null,null,null,null,null,null,null,null,null,null,{"$f":"Раздел2!F38","v":0}]
[null,"Вертолетный спорт","29",null,null,null,null,null,null,null,null,null,null,null,null,null,null,null,null,{"$f":"Раздел2!F39","v":0}]
[null,"Водно-моторный спорт","30",null,null,null,null,null,null,null,null,null,null,null,null,null,null,null,null,{"$f":"Раздел2!F40","v":0}]
[null,"Водное поло - всего ","31",{"$f":"SUM(D39:D40)","v":0},0,0,0,0,0,0,0,0,0,0,0,0,0,null,null,{"$f":"Раздел2!F41","v":0}]
[null,"в том числе:\nВодное поло (муж.)","32",null,null,null,null,null,null,null,null,null,null,null,null,null,null,null,null,{"$f":"Раздел2!F44","v":0}]
[null,"Водное поло (жен.)","33",null,null,null,null,null,null,null,null,null,null,null,null,null,null,null,null,{"$f":"Раздел2!F45","v":80}]
[null,"Воднолыжный спорт","34",null,null,null,null,null,null,null,null,null,null,null,null,null,null,null,null,{"$f":"Раздел2!F46","v":21}]
[null,"Военно-прикладной спорт","35",null,null,null,null,null,null,null,null,null,null,null,null,null,null,null,null,{"$f":"Раздел2!F47","v":59}]
[null,"Военно-спортивное многоборье","36",null,null,null,null,null,null,null,null,null,null,null,null,null,null,null,null,{"$f":"Раздел2!F48","v":0}]
[null,"Воздухоплавательный спорт","37",null,null,null,null,null,null,null,null,null,null,null,null,null,null,null,null,{"$f":"Раздел2!F49","v":0}]
[null,"Волейбол - всего","38",{"$f":"SUM(D46:D49)","v":3},0,0,0,0,0,0,0,0,0,0,0,0,0,null,null,{"$f":"Раздел2!F50","v":0}]
[null,"в том числе:\nВолейбол (муж.)","39",1,null,null,null,null,null,null,null,null,null,null,null,null,null,null,null,{"$f":"Раздел2!F51","v":0}]
[null,"Волейбол (жен.)","40",2,null,null,null,null,null,null,null,null,null,null,null,null,null,null,null,{"$f":"Раздел2!F52","v":0}]
[null,"Пляжный волейбол (муж.)","41",null,null,null,null,null,null,null,null,null,null,null,null,null,null,null,null,{"$f":"Раздел2!F53","v":0}]
[null,"Пляжный волейбол (жен.)","42",null,null,null,null,null,null,null,null,null,null,null,null,null,null,null,null,{"$f":"Раздел2!F54","v":0}]
[null,"Восточное боевое единоборство","43",null,null,null,null,null,null,null,null,null,null,null,null,null,null,null,null,{"$f":"Раздел2!F56","v":0}]
[null,"Всестилевое карате","44",null,null,null,null,null,null,null,null,null,null,null,null,null,null,null,null,{"$f":"Раздел2!F57","v":0}]
[null,"Гандбол - всего","45",{"$f":"SUM(D53:D55)","v":0},0,0,0,0,0,0,0,0,0,0,0,0,0,null,null,{"$f":"Раздел2!F58","v":0}]
[null,"в том числе:\nГандбол (муж.)","46",0,0,0,0,0,0,0,0,0,0,0,0,0,0,null,null,{"$f":"Раздел2!F59","v":0}]
[null,"Гандбол (жен.)","47",0,0,0,0,0,0,0,0,0,0,0,0,0,0,null,null,{"$f":"Раздел2!F60","v":0}]
[null,"Пляжный гандбол","48",null,null,null,null,null,null,null,null,null,null,null,null,null,null,null,null,{"$f":"Раздел2!F61","v":0}]
[null,"Гиревой спорт","49",0,0,0,0,0,0,0,0,0,0,0,0,0,0,null,null,{"$f":"Раздел2!F63","v":0}]
[null,"Го","50",0,0,0,0,0,0,0,0,0,0,0,0,0,0,null,null,{"$f":"Раздел2!F64","v":0}]
[null,"Гольф","51",0,0,0,0,0,0,0,0,0,0,0,0,0,0,null,null,{"$f":"Раздел2!F65","v":0}]
[null,"Горнолыжный спорт","52",0,0,0,0,0,0,0,0,0,0,0,0,0,0,null,null,{"$f":"Раздел2!F66","v":0}]
[null,"Городошный спорт","53",0,0,0,0,0,0,0,0,0,0,0,0,0,0,null,null,{"$f":"Раздел2!F67","v":0}]
[null,"Гребля на байдарках и каноэ","54",0,0,0,0,0,0,0,0,0,0,0,0,0,0,null,null,{"$f":"Раздел2!F68","v":0}]
[null,"Гребля на шлюпках","55",null,null,null,null,null,null,null,null,null,null,null,null,null,null,null,null,{"$f":"Раздел2!F69","v":0}]
[null,"Гребной слалом","56",0,0,0,0,0,0,0,0,0,0,0,0,0,0,null,null,{"$f":"Раздел2!F70","v":0}]
[null,"Гребной спорт - всего","57",{"$f":"SUM(D65:D68)","v":0},0,0,0,0,0,0,0,0,0,0,0,0,0,null,null,{"$f":"Раздел2!F71","v":0}]
[null,"в том числе:\nАкадемическая гребля","58",0,0,0,0,0,0,0,0,0,0,0,0,0,0,null,null,{"$f":"Раздел2!F72","v":282}]
[null,"Гребля-индор","59",0,0,0,0,0,0,0,0,0,0,0,0,0,0,null,null,{"$f":"Раздел2!F73","v":0}]
[null,"Народная гребля","60",0,0,0,0,0,0,0,0,0,0,0,0,0,0,null,null,{"$f":"Раздел2!F74","v":0}]
[null,"Прибрежная гребля","61",0,0,0,0,0,0,0,0,0,0,0,0,0,0,null,null,{"$f":"Раздел2!F75","v":0}]
[null,"Гребно-парусное двоеборье","62",0,0,0,0,0,0,0,0,0,0,0,0,0,0,null,null,{"$f":"Раздел2!F76","v":0}]
[null,"Дартс","63",0,0,0,0,0,0,0,0,0,0,0,0,0,0,null,null,{"$f":"Раздел2!F77","v":0}]
[null,"Джиу-джитсу","64",0,0,0,0,0,0,0,0,0,0,0,0,0,0,null,null,{"$f":"Раздел2!F78","v":0}]
[null,"Дзюдо","65",6,5,4,1,4,1,0,3,0,3,0,2,0,0,null,null,{"$f":"Раздел2!F79","v":0}]
[null,"Ездовой спорт","66",0,0,0,0,0,0,0,0,0,0,0,0,0,0,null,null,{"$f":"Раздел2!F80","v":0}]
[null,"Капоэйра","67",0,0,0,0,0,0,0,0,0,0,0,0,0,0,null,null,{"$f":"Раздел2!F81","v":0}]
[null,"Каратэ","68",0,0,0,0,0,0,0,0,0,0,0,0,0,0,null,null,{"$f":"Раздел2!F82","v":0}]
[null,"Кендо","69",0,0,0,0,0,0,0,0,0,0,0,0,0,0,null,null,{"$f":"Раздел2!F83","v":0}]
[null,"Керешу","70",0,0,0,0,0,0,0,0,0,0,0,0,0,0,null,null,{"$f":"Раздел2!F84","v":0}]
[null,"Керлинг - всего","71",{"$f":"SUM(D79:D80)","v":0},0,0,0,0,0,0,0,0,0,0,0,0,0,null,null,{"$f":"Раздел2!F85","v":0}]
[null,"в том числе:\nКерлинг (муж.)","72",0,0,0,0,0,0,0,0,0,0,0,0,0,0,null,null,{"$f":"Раздел2!F86","v":0}]
[null,"Керлинг (жен.)","73",0,0,0,0,0,0,0,0,0,0,0,0,0,0,null,null,{"$f":"Раздел2!F87","v":0}]
[null,"Кикбоксинг","74",0,0,0,0,0,0,0,0,0,0,0,0,0,0,null,null,{"$f":"Раздел2!F88","v":0}]
[null,"Кинологический спорт","75",0,0,0,0,0,0,0,0,0,0,0,0,0,0,null,null,{"$f":"Раздел2!F89","v":0}]
[null,"Киокусинкай","76",0,0,0,0,0,0,0,0,0,0,0,0,0,0,null,null,{"$f":"Раздел2!F90","v":0}]
[null,"Комплексное единоборство","77",0,0,0,0,0,0,0,0,0,0,0,0,0,0,null,null,{"$f":"Раздел2!F91","v":0}]
[null,"Компьютерный спорт","78",0,0,0,0,0,0,0,0,0,0,0,0,0,0,null,null,{"$f":"Раздел2!F92","v":0}]
[null,"Конный спорт","79",0,0,0,0,0,0,0,0,0,0,0,0,0,0,null,null,{"$f":"Раздел2!F93","v":187}]
[null,"Конькобежный спорт - всего","80",{"$f":"SUM(D88:D89)","v":0},0,0,0,0,0,0,0,0,0,0,0,0,0,null,null,{"$f":"Раздел2!F94","v":0}]
[null,"в том числе:\nКонькобежный спорт","81",0,0,0,0,0,0,0,0,0,0,0,0,0,0,null,null,{"$f":"Раздел2!F95","v":0}]
[null,"Шорт-трек","82",0,0,0,0,0,0,0,0,0,0,0,0,0,0,null,null,{"$f":"Раздел2!F96","v":0}]
[null,"Корэш","83",0,0,0,0,0,0,0,0,0,0,0,0,0,0,null,null,{"$f":"Раздел2!F97","v":187}]
[null,"Корфбол","84",0,0,0,0,0,0,0,0,0,0,0,0,0,0,null,null,{"$f":"Раздел2!F98","v":0}]
[null,"Лапта","85",0,0,0,0,0,0,0,0,0,0,0,0,0,0,null,null,{"$f":"Раздел2!F99","v":0}]
[null,"Легкая атлетика - всего","86",{"$f":"SUM(D94:D100)","v":3},0,0,0,0,0,0,0,0,0,0,0,0,0,null,null,{"$f":"Раздел2!F100","v":0}]
[null,"в том числе:\nСпринтерский и барьерный бег","87",0,0,0,0,0,0,0,0,0,0,0,0,0,0,null,null,{"$f":"Раздел2!F101","v":0}]
[null,"Бег на средние дистанции и бег с препятствиями","88",0,0,0,0,0,0,0,0,0,0,0,0,0,0,null,null,{"$f":"Раздел2!F102","v":0}]
[null,"Бег на длинные и сверхдлинные дистанции","89",0,0,0,0,0,0,0,0,0,0,0,0,0,0,null,null,{"$f":"Раздел2!F103","v":0}]
[null,"Многоборья","90",3,0,0,0,0,0,0,0,0,0,0,0,0,0,null,null,{"$f":"Раздел2!F104","v":0}]
[null,"Прыжки","91",0,0,0,0,0,0,0,0,0,0,0,0,0,0,null,null,{"$f":"Раздел2!F105","v":0}]
[null,"Метания","92",0,0,0,0,0,0,0,0,0,0,0,0,0,0,null,null,{"$f":"Раздел2!F106","v":0}]
[null,"Спортивная ходьба","93",0,0,0,0,0,0,0,0,0,0,0,0,0,0,null,null,{"$f":"Раздел2!F107","v":0}]
[null,"Лыжное двоеборье","94",0,0,0,0,0,0,0,0,0,0,0,0,0,0,null,null,{"$f":"Раздел2!F108","v":0}]
[null,"Лыжные гонки","95",0,0,0,0,0,0,0,0,0,0,0,0,0,0,null,null,{"$f":"Раздел2!F109","v":0}]
[null,"Мас-рестлинг","96",0,0,0,0,0,0,0,0,0,0,0,0,0,0,null,null,{"$f":"Раздел2!F110","v":0}]
[null,"Международное военно-спортивное многоборье","97",0,0,0,0,0,0,0,0,0,0,0,0,0,0,null,null,{"$f":"Раздел2!F111","v":0}]
[null,"Многоборье кинологов","98",0,0,0,0,0,0,0,0,0,0,0,0,0,0,null,null,{"$f":"Раздел2!F112","v":0}]
[null,"Многоборье спасателей МЧС России","99",0,0,0,0,0,0,0,0,0,0,0,0,0,0,null,null,{"$f":"Раздел2!F113","v":0}]
[null,"Морское многоборье","100",0,0,0,0,0,0,0,0,0,0,0,0,0,0,null,null,{"$f":"Раздел2!F114","v":0}]
[null,"Мотоциклетный спорт","101",0,0,0,0,0,0,0,0,0,0,0,0,0,0,null,null,{"$f":"Раздел2!F115","v":0}]
[null,"Настольный теннис","102",0,0,0,0,0,0,0,0,0,0,0,0,0,0,null,null,{"$f":"Раздел2!F116","v":0}]
[null,"Парашютный спорт","103",0,0,0,0,0,0,0,0,0,0,0,0,0,0,null,null,{"$f":"Раздел2!F117","v":0}]
[null,"Парусный спорт","104",0,0,0,0,0,0,0,0,0,0,0,0,0,0,null,null,{"$f":"Раздел2!F118","v":0}]
[null,"Пауэрлифтинг","105",0,0,0,0,0,0,0,0,0,0,0,0,0,0,null,null,{"$f":"Раздел2!F119","v":0}]
[null,"Перетягивание каната","106",0,0,0,0,0,0,0,0,0,0,0,0,0,0,null,null,{"$f":"Раздел2!F120","v":0}]
[null,"Петанк","107",0,0,0,0,0,0,0,0,0,0,0,0,0,0,null,null,{"$f":"Раздел2!F121","v":0}]
[null,"Плавание - всего","108",{"$f":"SUM(D116:D117)","v":0},0,0,0,0,0,0,0,0,0,0,0,0,0,null,null,{"$f":"Раздел2!F122","v":0}]
[null,"в том числе:\nПлавание ","109",0,0,0,0,0,0,0,0,0,0,0,0,0,0,null,null,{"$f":"Раздел2!F123","v":0}]
[null,"Открытая вода","110",0,0,0,0,0,0,0,0,0,0,0,0,0,0,null,null,{"$f":"Раздел2!F124","v":0}]
[null,"Планерный спорт","111",0,0,0,0,0,0,0,0,0,0,0,0,0,0,null,null,{"$f":"Раздел2!F125","v":0}]
[null,"Подводный спорт","112",0,0,0,0,0,0,0,0,0,0,0,0,0,0,null,null,{"$f":"Раздел2!F126","v":0}]
[null,"Пожарно-прикладной спорт","113",0,0,0,0,0,0,0,0,0,0,0,0,0,0,null,null,{"$f":"Раздел2!F127","v":0}]
[null,"Полиатлон","114",0,0,0,0,0,0,0,0,0,0,0,0,0,0,null,null,{"$f":"Раздел2!F128","v":0}]
[null,"Практическая стрельба","115",0,0,0,0,0,0,0,0,0,0,0,0,0,0,null,null,{"$f":"Раздел2!F129","v":0}]
[null,"Прыжки в воду - всего","116",{"$f":"SUM(D124:D125)","v":0},0,0,0,0,0,0,0,0,0,0,0,0,0,null,null,{"$f":"Раздел2!F130","v":0}]
[null,"в том числе:\nПрыжки в воду","117",0,0,0,0,0,0,0,0,0,0,0,0,0,0,null,null,{"$f":"Раздел2!F131","v":0}]
[null,"Прыжки в открытый водоем","118",0,0,0,0,0,0,0,0,0,0,0,0,0,0,null,null,{"$f":"Раздел2!F132","v":0}]
[null,"Прыжки на батуте - всего","119",{"$f":"SUM(D127:D130)","v":0},0,0,0,0,0,0,0,0,0,0,0,0,0,null,null,{"$f":"Раздел2!F133","v":0}]
[null,"в том числе:\nАкробатическая дорожка","120",0,0,0,0,0,0,0,0,0,0,0,0,0,0,null,null,{"$f":"Раздел2!F134","v":0}]
[null,"Двойной минитрамп","121",0,0,0,0,0,0,0,0,0,0,0,0,0,0,null,null,{"$f":"Раздел2!F135","v":0}]
[null,"Индивидуальные прыжки","122",0,0,0,0,0,0,0,0,0,0,0,0,0,0,null,null,{"$f":"Раздел2!F136","v":0}]
[null,"Синхронные прыжки","123",0,0,0,0,0,0,0,0,0,0,0,0,0,0,null,null,{"$f":"Раздел2!F137","v":0}]
[null,"Прыжки на лыжах с трамплина","124",0,0,0,0,0,0,0,0,0,0,0,0,0,0,null,null,{"$f":"Раздел2!F138","v":0}]
[null,"Пулевая стрельба - всего","125",{"$f":"SUM(D133:D137)","v":0},0,0,0,0,0,0,0,0,0,0,0,0,0,null,null,{"$f":"Раздел2!F139","v":0}]
[null,"в том числе:\nПневматическая винтовка","126",0,0,0,0,0,0,0,0,0,0,0,0,0,0,null,null,{"$f":"Раздел2!F140","v":0}]
[null,"Пневматический пистолет","127",0,0,0,0,0,0,0,0,0,0,0,0,0,0,null,null,{"$f":"Раздел2!F141","v":0}]
[null,"Малокалиберная винтовка","128",0,0,0,0,0,0,0,0,0,0,0,0,0,0,null,null,{"$f":"Раздел2!F142","v":0}]
[null,"Малокалиберный пистолет","129",0,0,0,0,0,0,0,0,0,0,0,0,0,0,null,null,{"$f":"Раздел2!F143","v":0}]
[null,"Движущаяся мишень","130",0,0,0,0,0,0,0,0,0,0,0,0,0,0,null,null,{"$f":"Раздел2!F144","v":0}]
[null,"Пэйнтбол","131",0,0,0,0,0,0,0,0,0,0,0,0,0,0,null,null,{"$f":"Раздел2!F145","v":0}]
[null,"Радиоспорт","132",0,0,0,0,0,0,0,0,0,0,0,0,0,0,null,null,{"$f":"Раздел2!F146","v":0}]
[null,"Рафтинг","133",0,0,0,0,0,0,0,0,0,0,0,0,0,0,null,null,{"$f":"Раздел2!F147","v":0}]
[null,"Регби - всего","134",{"$f":"SUM(D142:D145)","v":0},0,0,0,0,0,0,0,0,0,0,0,0,0,null,null,{"$f":"Раздел2!F148","v":0}]
[null,"в том числе:\nРегби","135",0,0,0,0,0,0,0,0,0,0,0,0,0,0,null,null,{"$f":"Раздел2!F149","v":0}]
[null,"Регби 7 (муж.)","136",0,0,0,0,0,0,0,0,0,0,0,0,0,0,null,null,{"$f":"Раздел2!F150","v":0}]
[null,"Регби 7 (жен.)","137",0,0,0,0,0,0,0,0,0,0,0,0,0,0,null,null,{"$f":"Раздел2!F151","v":0}]
[null,"Регби - пляжное","138",0,0,0,0,0,0,0,0,0,0,0,0,0,0,null,null,{"$f":"Раздел2!F152","v":0}]
[null,"Регбол","139",0,0,0,0,0,0,0,0,0,0,0,0,0,0,null,null,{"$f":"Раздел2!F153","v":0}]
[null,"Роллер спорт","140",0,0,0,0,0,0,0,0,0,0,0,0,0,0,null,null,{"$f":"Раздел2!F154","v":0}]
[null,"Рукопашный бой","141",0,0,0,0,0,0,0,0,0,0,0,0,0,0,null,null,{"$f":"Раздел2!F155","v":0}]
[null,"Рыболовный спорт","142",0,0,0,0,0,0,0,0,0,0,0,0,0,0,null,null,{"$f":"Раздел2!F156","v":0}]
[null,"Сават","143",0,0,0,0,0,0,0,0,0,0,0,0,0,0,null,null,{"$f":"Раздел2!F157","v":0}]
[null,"Самбо","144",0,0,0,0,0,0,0,0,0,0,0,0,0,0,null,null,{"$f":"Раздел2!F158","v":0}]
[null,"Самолетный спорт","145",0,0,0,0,0,0,0,0,0,0,0,0,0,0,null,null,{"$f":"Раздел2!F159","v":0}]
[null,"Санный спорт","146",0,0,0,0,0,0,0,0,0,0,0,0,0,0,null,null,{"$f":"Раздел2!F160","v":0}]
[null,"Северное многоборье","147",0,0,0,0,0,0,0,0,0,0,0,0,0,0,null,null,{"$f":"Раздел2!F161","v":0}]
[null,"Серфинг","148",0,0,0,0,0,0,0,0,0,0,0,0,0,0,null,null,{"$f":"Раздел2!F162","v":0}]
[null,"Синхронное плавание","149",0,0,0,0,0,0,0,0,0,0,0,0,0,0,null,null,{"$f":"Раздел2!F163","v":0}]
[null,"Скалолазание","150",0,0,0,0,0,0,0,0,0,0,0,0,0,0,null,null,{"$f":"Раздел2!F164","v":0}]
[null,"Скейтбординг","151",0,0,0,0,0,0,0,0,0,0,0,0,0,0,null,null,{"$f":"Раздел2!F165","v":0}]
[null,"Сквош","152",0,0,0,0,0,0,0,0,0,0,0,0,0,0,null,null,{"$f":"Раздел2!F166","v":0}]
[null,"Служебно-прикладной спорт ФСО России","153",0,0,0,0,0,0,0,0,0,0,0,0,0,0,null,null,{"$f":"Раздел2!F167","v":0}]
[null,"Служебно-прикладной спорт ГФС России","154",0,0,0,0,0,0,0,0,0,0,0,0,0,0,null,null,{"$f":"Раздел2!F168","v":0}]
[null,"Служебно-прикладной спорт ФСКН России","155",0,0,0,0,0,0,0,0,0,0,0,0,0,0,null,null,{"$f":"Раздел2!F169","v":0}]
[null,"Служебно-прикладной спорт ФТС России","156",0,0,0,0,0,0,0,0,0,0,0,0,0,0,null,null,{"$f":"Раздел2!F170","v":0}]
[null,"Служебное двоеборье","157",0,0,0,0,0,0,0,0,0,0,0,0,0,0,null,null,{"$f":"Раздел2!F171","v":0}]
[null,"Служебное единоборство","158",0,0,0,0,0,0,0,0,0,0,0,0,0,0,null,null,{"$f":"Раздел2!F172","v":0}]
[null,"Служебное многоборье","159",0,0,0,0,0,0,0,0,0,0,0,0,0,0,null,null,{"$f":"Раздел2!F173","v":0}]
[null,"Служебное собаководство","160",0,0,0,0,0,0,0,0,0,0,0,0,0,0,null,null,{"$f":"Раздел2!F174","v":0}]
[null,"Служебный биатлон","161",0,0,0,0,0,0,0,0,0,0,0,0,0,0,null,null,{"$f":"Раздел2!F175","v":0}]
[null,"Спасательный спорт","162",0,0,0,0,0,0,0,0,0,0,0,0,0,0,null,null,{"$f":"Раздел2!F176","v":0}]
[null,"Стрельба из боевого ручного стрелкового оружия","163",0,0,0,0,0,0,0,0,0,0,0,0,0,0,null,null,{"$f":"Раздел2!F177","v":0}]
[null,"Стрельба из штатного или табельного оружия","164",0,0,0,0,0,0,0,0,0,0,0,0,0,0,null,null,{"$f":"Раздел2!F178","v":297}]
[null,"Смешанное боевое единоборство (ММА)","165",0,0,0,0,0,0,0,0,0,0,0,0,0,0,null,null,{"$f":"Раздел2!F179","v":0}]
[null,"Сноуборд","166",0,0,0,0,0,0,0,0,0,0,0,0,0,0,null,null,{"$f":"Раздел2!F180","v":0}]
[null,"Современное пятиборье","167",0,0,0,0,0,0,0,0,0,0,0,0,0,0,null,null,{"$f":"Раздел2!F181","v":0}]
[null,"Софтбол","168",0,0,0,0,0,0,0,0,0,0,0,0,0,0,null,null,{"$f":"Раздел2!F182","v":0}]
[null,"Спорт сверхлегкой авиации","169",0,0,0,0,0,0,0,0,0,0,0,0,0,0,null,null,{"$f":"Раздел2!F183","v":0}]
[null,"Спортивная акробатика","170",0,0,0,0,0,0,0,0,0,0,0,0,0,0,null,null,{"$f":"Раздел2!F184","v":0}]
[null,"Спортивная аэробика","171",7,2,2,0,1,0,1,1,0,0,0,1,1,0,null,null,{"$f":"Раздел2!F185","v":0}]
[null,"Спортивная борьба - всего","172",{"$f":"SUM(D180:D184)","v":0},0,0,0,0,0,0,0,0,0,0,0,0,0,null,null,{"$f":"Раздел2!F186","v":0}]
[null,"в том числе:\nВольная борьба","173",0,0,0,0,0,0,0,0,0,0,0,0,0,0,null,null,{"$f":"Раздел2!F187","v":0}]
[null,"Греко-римская борьба","174",0,0,0,0,0,0,0,0,0,0,0,0,0,0,null,null,{"$f":"Раздел2!F188","v":0}]
[null,"Грэпплинг","175",0,0,0,0,0,0,0,0,0,0,0,0,0,0,null,null,{"$f":"Раздел2!F189","v":0}]
[null,"Грэпплинг-ги","176",0,0,0,0,0,0,0,0,0,0,0,0,0,0,null,null,{"$f":"Раздел2!F190","v":0}]
[null,"Панкратион","177",0,0,0,0,0,0,0,0,0,0,0,0,0,0,null,null,{"$f":"Раздел2!F191","v":0}]
[null,"Спортивно-прикладное собаководство","178",0,0,0,0,0,0,0,0,0,0,0,0,0,0,null,null,{"$f":"Раздел2!F192","v":0}]
[null,"Спортивная гимнастика","179",0,0,0,0,0,0,0,0,0,0,0,0,0,0,null,null,{"$f":"Раздел2!F193","v":0}]
[null,"Спортивное ориентирование","180",0,0,0,0,0,0,0,0,0,0,0,0,0,0,null,null,{"$f":"Раздел2!F194","v":0}]
[null,"Спортивный бридж","181",0,0,0,0,0,0,0,0,0,0,0,0,0,0,null,null,{"$f":"Раздел2!F195","v":0}]
[null,"Спортивный туризм","182",0,0,0,0,0,0,0,0,0,0,0,0,0,0,null,null,{"$f":"Раздел2!F196","v":0}]
[null,"Стендовая стрельба - всего","183",{"$f":"SUM(D191:D194)","v":0},0,0,0,0,0,0,0,0,0,0,0,0,0,null,null,{"$f":"Раздел2!F197","v":0}]
[null,"в том числе:\nТрап","184",0,0,0,0,0,0,0,0,0,0,0,0,0,0,null,null,{"$f":"Раздел2!F198","v":0}]
[null,"Скит","185",0,0,0,0,0,0,0,0,0,0,0,0,0,0,null,null,{"$f":"Раздел2!F199","v":0}]
[null,"Дубль-трап","186",0,0,0,0,0,0,0,0,0,0,0,0,0,0,null,null,{"$f":"Раздел2!F200","v":0}]
[null,"Спортинг","187",0,0,0,0,0,0,0,0,0,0,0,0,0,0,null,null,{"$f":"Раздел2!F201","v":0}]
[null,"Стрельба из арбалета","188",0,0,0,0,0,0,0,0,0,0,0,0,0,0,null,null,{"$f":"Раздел2!F202","v":0}]
[null,"Стрельба из лука - всего","189",{"$f":"SUM(D197:D199)","v":0},0,0,0,0,0,0,0,0,0,0,0,0,0,null,null,{"$f":"Раздел2!F203","v":0}]
[null,"в том числе:\nКлассический лук","190",0,0,0,0,0,0,0,0,0,0,0,0,0,0,null,null,{"$f":"Раздел2!F204","v":0}]
[null,"   Блочный лук","191",0,0,0,0,0,0,0,0,0,0,0,0,0,0,null,null,{"$f":"Раздел2!F205","v":0}]
[null,"   Ачери ","192",0,0,0,0,0,0,0,0,0,0,0,0,0,0,null,null,{"$f":"Раздел2!F206","v":0}]
[null,"Судомодельный спорт","193",0,0,0,0,0,0,0,0,0,0,0,0,0,0,null,null,{"$f":"Раздел2!F207","v":0}]
[null,"Сумо","194",0,0,0,0,0,0,0,0,0,0,0,0,0,0,null,null,{"$f":"Раздел2!F208","v":0}]
[null,"Тайский бокс","195",0,0,0,0,0,0,0,0,0,0,0,0,0,0,null,null,{"$f":"Раздел2!F209","v":0}]
[null,"Танцевальный спорт","196",0,0,0,0,0,0,0,0,0,0,0,0,0,0,null,null,{"$f":"Раздел2!F210","v":0}]
[null,"Теннис","197",0,0,0,0,0,0,0,0,0,0,0,0,0,0,null,null,{"$f":"Раздел2!F211","v":0}]
[null,"Триатлон","198",0,0,0,0,0,0,0,0,0,0,0,0,0,0,null,null,{"$f":"Раздел2!F212","v":0}]
[null,"Тхэквондо - всего","199",{"$f":"SUM(D207:D208)","v":0},0,0,0,0,0,0,0,0,0,0,0,0,0,null,null,{"$f":"Раздел2!F213","v":0}]
[null,"в том числе:\nТхэквондо (ГТФ, ИТФ, МФТ)","200",0,0,0,0,0,0,0,0,0,0,0,0,0,0,null,null,{"$f":"Раздел2!F214","v":0}]
[null,"Тхэквондо (ВТФ)","201",0,0,0,0,0,0,0,0,0,0,0,0,0,0,null,null,{"$f":"Раздел2!F215","v":0}]
[null,"Тяжелая атлетика","202",0,0,0,0,0,0,0,0,0,0,0,0,0,0,null,null,{"$f":"Раздел2!F216","v":0}]
[null,"Универсальный бой","203",0,0,0,0,0,0,0,0,0,0,0,0,0,0,null,null,{"$f":"Раздел2!F217","v":0}]
[null,"Ушу","204",0,0,0,0,0,0,0,0,0,0,0,0,0,0,null,null,{"$f":"Раздел2!F218","v":0}]
[null,"Фехтование - всего","205",{"$f":"SUM(D213:D216)","v":0},0,0,0,0,0,0,0,0,0,0,0,0,0,null,null,{"$f":"Раздел2!F219","v":0}]
[null,"в том числе:\nРапира","206",0,0,0,0,0,0,0,0,0,0,0,0,0,0,null,null,{"$f":"Раздел2!F220","v":0}]
[null,"Сабля","207",0,0,0,0,0,0,0,0,0,0,0,0,0,0,null,null,{"$f":"Раздел2!F221","v":0}]
[null,"Шпага","208",0,0,0,0,0,0,0,0,0,0,0,0,0,0,null,null,{"$f":"Раздел2!F222","v":0}]
[null,"Арт-фехтование","209",0,0,0,0,0,0,0,0,0,0,0,0,0,0,null,null,{"$f":"Раздел2!F223","v":0}]
[null,"Фигурное катание на коньках","210",0,0,0,0,0,0,0,0,0,0,0,0,0,0,null,null,{"$f":"Раздел2!F224","v":0}]
[null,"Фитнес-аэробика","211",0,0,0,0,0,0,0,0,0,0,0,0,0,0,null,null,{"$f":"Раздел2!F225","v":0}]
[null,"Флаинг диск","212",0,0,0,0,0,0,0,0,0,0,0,0,0,0,null,null,{"$f":"Раздел2!F226","v":0}]
[null,"Флорбол","213",0,0,0,0,0,0,0,0,0,0,0,0,0,0,null,null,{"$f":"Раздел2!F227","v":123}]
[null,"Фристайл - всего","214",{"$f":"SUM(D222:D226)","v":0},0,0,0,0,0,0,0,0,0,0,0,0,0,null,null,{"$f":"Раздел2!F228","v":115}]
[null,"в том числе:\nАкробатика","215",0,0,0,0,0,0,0,0,0,0,0,0,0,0,null,null,{"$f":"Раздел2!F229","v":8}]
[null,"Могул","216",0,0,0,0,0,0,0,0,0,0,0,0,0,0,null,null,{"$f":"Раздел2!F230","v":0}]
[null,"Ски-кросс","217",0,0,0,0,0,0,0,0,0,0,0,0,0,0,null,null,{"$f":"Раздел2!F231","v":0}]
[null,"Хаф-пайп","218",0,0,0,0,0,0,0,0,0,0,0,0,0,0,null,null,{"$f":"Раздел2!F232","v":0}]
[null,"Слоуп-стайл","219",0,0,0,0,0,0,0,0,0,0,0,0,0,0,null,null,{"$f":"Раздел2!F233","v":0}]
[null,"Футбол - всего","220",{"$f":"SUM(D228:D231)","v":3},1,1,0,1,0,0,0,0,0,1,0,0,0,null,null,{"$f":"Раздел2!F234","v":0}]
[null,"в том числе:\nФутбол (муж.)","221",1,1,1,null,1,null,0,0,0,0,1,0,0,0,null,null,{"$f":"Раздел2!F235","v":0}]
[null,"Футбол (жен.)","222",2,0,0,0,0,0,0,0,0,0,0,0,0,0]
[null,"Мини-футбол (футзал)","223",0,0,0,0,0,0,0,0,0,0,0,0,0,0]
[null,"Пляжный футбол","224",0,0,0,0,0,0,0,0,0,0,0,0,0,0]
[null,"Хапсагай","225",0,0,0,0,0,0,0,0,0,0,0,0,0,0]
[null,"Хоккей - всего","226",{"$f":"SUM(D234:D235)","v":0},0,0,0,0,0,0,0,0,0,0,0,0,0]
[null,"в том числе:\nХоккей (муж.)","227",0,0,0,0,0,0,0,0,0,0,0,0,0,0]
[null,"Хоккей (жен.)","228",0,0,0,0,0,0,0,0,0,0,0,0,0,0]
[null,"Хоккей на траве - всего","229",{"$f":"SUM(D237:D239)","v":0},0,0,0,0,0,0,0,0,0,0,0,0,0]
[null,"в том числе:\nХоккей на траве (муж.)","230"]
[null,"Хоккей на траве (жен.)","231"]
[null,"Индорхоккей","232"]
[null,"Хоккей с мячом","233"]
[null,"Художественная гимнастика","234",2,1,1,null,1,null,null,null,null,null,1]
[null,"Хуреш","235"]
[null,"Черлидинг","236"]
[null,"Чир спорт","237"]
[null,"Шахматы","238"]
[null,"Шашки","239"]
[null,"Эстетическая гимнастика","240"]
[null,"Якутские национальные прыжки","241"]
[null,"ИТОГО","242",{"$f":"SUM(D8:D19,D22:D25,D28:D38,D41:D45,D50:D52,D56:D64,D69:D78,D81:D87,D90:D93,D101:D115,D118:D123,D126,D131,D132,D138:D141,D146:D179,D185:D190,D195,D196,D200:D206,D209:D212,D217:D221,D227,D232,D233,D236,D240:D248)","v":30},12,9,3,8,2,2,4,0,4,4,3,1,0]

{"sheet":"Раздел9","index":9,"n_rows":29,"n_cols":17,"rows_kept":29,"cut":false,"hidden":false,"merged":[[1,14,28,14],[4,9,4,11],[4,12,4,13],[3,5,3,13],[4,5,4,8],[2,11,2,13],[0,0,0,8],[3,1,6,1],[3,2,6,2],[1,1,1,13],[3,3,4,4],[5,12,6,12],[1,0,28,0],[5,11,6,11],[5,10,6,10],[5,6,6,6],[5,3,6,3],[5,13,6,13],[5,4,6,4],[5,9,6,9],[5,5,6,5],[5,7,5,8]]}
[]
[null,"Раздел IX. Административные работники и специалисты"]
[null,null,null,null,null,null,null,null,null,null,null,"Код по ОКЕИ: человек – 792"]
[null,"Наименование должности","№ строки","Число работников",null,"из них имеют (из гр. 4):"]
[null,null,null,null,null,"профессиональное образование",null,null,null,"квалификационную категорию",null,null,"почетные звания"]
[null,null,null,"Всего","в том числе штатные","высшее","среднее","в том числе\nфизкультурное",null,"высшую","первую","вторую","Заслужен-ный тренер России","Заслуженный работник физической культуры Российской Федерации"]
[null,null,null,null,null,null,null,"высшее","среднее"]
[null,1,2,3,4,5,6,7,8,9,10,11,12,13]
[null,"Директор (руководитель)","01",1,1,1,null,1,null,null,null,null,1,null,null,null,{"$f":"Раздел11!D9","v":1}]
[null,"Заместители директора (руководителя)","02",{"$f":"SUM(D11:D14)","v":1},{"$f":"SUM(E11:E14)","v":1},1,0,1,0,0,0,0,0,0]
[null,"      в том числе:\n   по учебно-спортивной работе","03",0,0,0,0,0,0,0,0,0,0,0]
[null,"   по учебно-воспитательной работе","04",1,1,1,0,1,0,0,0,0,0,0]
[null,"   по научно-методической работе","05",0,0,0,0,0,0,0,0,0,0,0]
[null,"   другие","06",0,0,0,0,0,0,0,0,0,0,0]
[null,"Инструктор по спорту","07",0,0,0,0,0,0,0,0,0,0,0]
[null,"Спортсмен, спортсмен-инструктор","08",null,0,0,0,0,0,0,0,0,0,0,null,{"$f":"Раздел2!R249","v":0}]
[null,"Инструктор – методист (включая старшего)","09",1,0,0,0,0,0,0,0,0,0,0]
[null,"Техник (специалист) по эксплуатации и ремонту спортивной техники, инвентаря и снаряжения",10,0,0,0,0,0,0,0,0,0,0,0]
[null,"Преподаватель УОР",11,0,0,0,0,0,0,0,0,0,0,0]
[null,"Воспитатель (включая старшего)",12,0,0,0,0,0,0,0,0,0,0,0]
[null,"Методист (включая старшего)",13,1,1,1,0,1,0,0,0,0,0,0]
[null,"Педагог – психолог",14,0,0,0,0,0,0,0,0,0,0,0]
[null,"Медицинские работники:",15,{"$f":"SUM(D24:D26)","v":0},{"$f":"SUM(E24:E26)","v":0},0,0,0,0,0,0,0,0,0]
[null,"   в том числе:\n   врачи",16,0,0,0,0,0,0,0,0,0,0,0]
[null,"   средний медицинский персонал",17,0,0,0,0,0,0,0,0,0,0,0]
[null,"   младший медицинский персонал",18,0,0,0,0,0,0,0,0,0,0,0]
[null,"Специалисты спортсооружений",19,0,0,0,0,0,0,0,0,0,0,0]
[null,"Прочий персонал",20,6,6,1,2,0,0,0,0,0,0,0]
[null,"ИТОГО",21,{"$f":"SUM(D9,D10,D15:D23,D27:D28)","v":10},{"$f":"SUM(E9,E10,E15:E23,E27:E28)","v":9},4,2,3,0,0,0,0,1,0]

{"sheet":"Раздел10","index":10,"n_rows":42,"n_cols":16,"rows_kept":42,"cut":false,"hidden":false,"merged":[[0,0,0,8],[3,1,5,1],[3,2,5,2],[3,4,3,8],[3,14,5,14],[1,1,1,14],[3,3,5,3],[4,4,5,4],[4,5,4,8],[3,9,3,13],[4,9,5,9],[4,10,4,13],[1,0,41,0],[2,11,2,15],[3,15,5,15]]}
[]
[null,"Раздел X. Спортивные сооружения"]
[null,null,null,null,null,null,null,null,null,null,null,"Код по ОКЕИ: единица – 642"]
[null,"Наименование спортивного сооружения","№ стро-ки","Число спортивных сооружений – всего","находящихся на балансе (из гр. 3)",null,null,null,null,"арендуемых (из гр. 3)",null,null,null,null,"используемых на безвозмездной основе\n(из гр. 3)","Количество спортсооружений, входящих во Всероссийский реестр объектов спорта (из гр. 3)"]
[null,null,null,null,"всего","в том числе по формам собственности:",null,null,null,"всего","в том числе по формам собственности:"]
[null,null,null,null,null,"федеральной","субъектов Российской Федерации","муници-пальной","другой",null,"федеральной","субъектов Российской Федерации","муници-пальной","другой"]
[null,1,2,3,4,5,6,7,8,9,10,11,12,13,14,15]
[null,"Стадионы с трибунами – всего","01",{"$f":"E8+J8+O8","v":0},{"$f":"SUM(F8:I8)","v":0},null,0,0,0,{"$f":"SUM(K8:N8)","v":0},0,0,0,0,0]
[null,"в том числе на 1500 мест и более","02",{"$f":"E9+J9+O9","v":0},{"$f":"SUM(F9:I9)","v":0},null,0,0,0,{"$f":"SUM(K9:N9)","v":0},null,0,0,0,0,0]
[null,"Плоскостные спортивные сооружения - всего","03",1,1,{"$f":"F11+F12","v":0},{"$f":"G11+G12","v":0},{"$f":"H11+H12","v":1},{"$f":"I11+I12","v":0},0,{"$f":"K11+K12","v":0},0,0,0,0,1]
[null,"в том числе:\nПлоскостные спортивные сооружения","04",0,0,0,0,0,0,0,0,0,0,0,0,0]
[null,"Футбольные поля","05",1,1,0,0,1,0,0,0,0,0,0,0,1]
[null,"Спортивные залы – всего","06",24,2,{"$f":"SUM(F14:F17)","v":0},{"$f":"SUM(G14:G17)","v":0},{"$f":"SUM(H14:H17)","v":2},{"$f":"SUM(I14:I17)","v":0},0,{"$f":"SUM(K14:K17)","v":0},0,0,0,22,0]
[null,"      в том числе размером:\n     (42 х 24 м)","07",0,0,0,0,0,0,0,0,0,0,0,0,0]
[null,"     (36 х 18 м); (30 х 18 м) и (30 х 15 м)","08",0,0,0,0,0,0,0,0,0,0,0,0,0]
[null,"     (24 х 12 м) и (18 х 9 м)","09",13,1,0,0,1,0,0,0,0,0,0,12,0]
[null,"     иных размеров",10,11,1,0,0,1,0,0,0,0,0,0,10,0]
[null,"Манежи легкоатлетические",11,0,0,0,0,0,0,0,0,0,0,0,0,0]
[null,"Манежи футбольные",12,0,0,0,0,0,0,0,0,0,0,0,0,0]
[null,"Велотреки",13,0,0,0,0,0,0,0,0,0,0,0,0,0]
[null,"Велодромы",14,0,0,0,0,0,0,0,0,0,0,0,0,0]
[null,"Бассейны – всего",15,0,0,{"$f":"SUM(F23:F26)","v":0},{"$f":"SUM(G23:G26)","v":0},{"$f":"SUM(H23:H26)","v":0},{"$f":"SUM(I23:I26)","v":0},0,{"$f":"SUM(K23:K26)","v":0},0,0,0,0,0]
[null,"     в том числе: \n     плавательные 50-метровые",16,0,0,0,null,0,0,0,0,0,0,0,0,0]
[null,"     плавательные 25-метровые",17,0,0,0,0,0,0,0,0,0,0,0,0,0]
[null,"     нестандартных размеров",18,0,0,0,0,0,0,0,0,0,0,0,0,0]
[null,"     для прыжков в воду",19,0,0,0,0,0,0,0,0,0,0,0,0,0]
[null,"         из строки 15 - крытые",20,0,0,0,null,0,0,0,0,0,0,0,0,0]
[null,"Гребные базы",21,0,0,0,0,0,0,0,0,0,0,0,0,0]
[null,"Гребные каналы",22,0,0,0,0,0,0,0,0,0,0,0,0,0]
[null,"Крытые спортивные объекты с искусственным льдом – всего",23,0,0,{"$f":"SUM(F31:F32)","v":0},{"$f":"SUM(G31:G32)","v":0},{"$f":"SUM(H31:H32)","v":0},{"$f":"SUM(I31:I32)","v":0},0,{"$f":"SUM(K31:K32)","v":0},0,0,0,0,0]
[null,"  в том числе:\n  крытые спортивные объекты с искусственным     льдом ",24,0,0,0,0,0,0,0,0,0,0,0,0,0]
[null,"     конькобежные",25,0,0,0,0,0,0,0,0,0,0,0,0,0]
[null,"Лыжные базы",26,0,0,0,0,0,0,0,0,0,0,0,0,0]
[null,"Лыжные стадионы",27,0,0,0,0,0,0,0,0,0,0,0,0,0]
[null,"Биатлонные комплексы",28,0,0,0,0,0,0,0,0,0,0,0,0,0]
[null,"Сооружения для стрелковых видов спорта – всего",29,0,0,{"$f":"SUM(F37:F40)","v":0},{"$f":"SUM(G37:G40)","v":0},{"$f":"SUM(H37:H40)","v":0},{"$f":"SUM(I37:I40)","v":0},0,{"$f":"SUM(K37:K40)","v":0},0,0,0,0,0]
[null,"     в том числе: \n     тиры",30,0,0,0,0,0,0,0,0,0,0,0,0,0]
[null,"     стрельбища",31,0,0,0,0,0,0,0,0,0,0,0,0,0]
[null,"     стенды",32,0,0,0,0,0,0,0,0,0,0,0,0,0]
[null,"     лукодромы",33,0,0,0,0,0,0,0,0,0,0,0,0,0]
[null,"Другие спортивные сооружения",34,0,0,0,0,0,0,0,0,0,0,0,0,0]
[null,"ИТОГО",35,25,3,{"$f":"SUM(F8,F10,F13,F18:F22,F28:F30,F33:F36,F41)","v":0},{"$f":"SUM(G8,G10,G13,G18:G22,G28:G30,G33:G36,G41)","v":0},3,0,0,0,0,0,0,22,1]

{"sheet":"Раздел11","index":11,"n_rows":28,"n_cols":16,"rows_kept":28,"cut":false,"hidden":false,"merged":[[5,7,6,7],[1,14,27,14],[5,8,5,10],[5,11,5,13],[2,11,2,13],[0,0,0,8],[1,1,1,13],[3,1,6,1],[3,2,6,2],[3,3,4,4],[3,5,3,13],[4,8,4,13],[1,0,27,0],[5,3,6,3],[5,4,6,4],[4,5,4,7],[5,5,5,6]]}
[]
[null,"Раздел XI. Сведения о численности и оплате труда работников"]
[null,null,null,null,null,null,null,null,null,null,null,"Коды по ОКЕИ: человек – 792; тысяча рублей – 384"]
[null,"Наименование должности","№ строки","Средняя численность работников, человек",null,"Фонд начисленной заработной платы работников, тыс. руб."]
[null,null,null,null,null,"всего",null,null,"по источникам финансирования"]
[null,null,null,"списочного состава\n(без внеш-них совме-стителей)\n","внешних совме-стителей","списочного состава (без внешних совместителей)",null,"внешних совме-стителей","списочного состава\n(без внешних совместителей)",null,null,"внешних совместителей"]
[null,null,null,null,null,"всего","в том числе по внутреннему совместитель-ству",null,"средства бюджетов всех уровней\n(субсидий)","ОМС","средства от приносящей доход деятельности","средства бюджетов всех уровней\n(субсидий)","ОМС","средства от приносящей доход деятельности"]
[null,1,2,3,4,5,6,7,8,9,10,11,12,13]
[null,"Директор","01",1,null,850.9,116.8,null,850.9,null,null,null,null,null,null,{"$f":"Раздел12!D7","v":850.9}]
[null,"Заместители директора, руководители структурных подразделений и их заместители","02",1,null,667.2,107.4,null,667.2,null,null,null,null,null,null,{"$f":"Раздел12!D8","v":667.2}]
[null,"Работники учреждений, осуществляющие спортивную подготовку:","03",{"$f":"D12+D18","v":11.8},{"$f":"E12+E18","v":8.1},5399.5,0,1593.6000000000001,5399.5,0,0,1593.6000000000001,0,0]
[null,"     тренерский персонал - всего:","04",{"$f":"SUM(D13:D15)","v":10.8},{"$f":"SUM(E13:E15)","v":7.8},5014.3999999999996,0,1553.2,5014.3999999999996,0,0,1553.2,0,0,null,{"$f":"Раздел12!D9","v":6567.6}]
[null,"     в том числе:\n     главные тренеры по видам спорта","05",0,0]
[null,"        старшие тренеры по видам спорта ","06",0,0]
[null,"   тренеры по видам спорта - всего:","07",{"$f":"SUM(D16:D17)","v":10.8},{"$f":"SUM(E16:E17)","v":7.8},5014.3999999999996,0,1553.2,5014.3999999999996,0,0,1553.2,0,0]
[null,"          в том числе:\n          тренеры","08",0,0,0,0,0,0,null,0,0,0,0]
[null,"            тренеры-преподаватели","09",10.8,7.8,5014.3999999999996,0,1553.2,5014.3999999999996,0,0,1553.2,0,0]
[null,"     методический персонал:",10,{"$f":"SUM(D19:D21)","v":1},{"$f":"SUM(E19:E21)","v":0.3},385.1,0,40.4,385.1,0,0,40.4,0,0,null,{"$f":"Раздел12!D10","v":425.5}]
[null,"        в том числе:\n        инструкторы-методисты;",11,1,0.3,385.1,null,40.4,385.1,null,null,40.4]
[null,"        старшие инструкторы-методисты",12,0,0]
[null,"        спортсмены, спортсмены- инструкторы",13,0,0]
[null,"Медицинские работники - всего:",14,{"$f":"SUM(D23:D25)","v":0},{"$f":"SUM(E23:E25)","v":0},0,0,0,0,0,0,0,0,0,null,{"$f":"Раздел12!D11","v":0}]
[null,"   в том числе:\n   врачи",15,0,0]
[null,"     средний медицинский персонал",16,0,0]
[null,"     младший медицинский персонал",17,0,0]
[null,"Прочий персонал",18,5.5,0.2,1099.5,23.9,null,1099.5,null,null,null,null,null,null,{"$f":"Раздел12!D12","v":1099.5}]
[null,"Страховые взносы с заработной платы",19,0,0,1365.6,null,441.2,1365.6,null,null,441.2,null,null,null,{"$f":"Раздел12!D13","v":1806.8}]
[null,"ИТОГО",20,{"$f":"SUM(D9:D11,D22,D26,D27)","v":19.3},{"$f":"SUM(E9:E11,E22,E26,E27)","v":8.2999999999999989},9382.7000000000007,248.1,2034.8000000000002,9382.7000000000007,0,0,2034.8000000000002,0,0,null,{"$f":"Раздел12!D6","v":11417.5}]

{"sheet":"Раздел12","index":12,"n_rows":40,"n_cols":15,"rows_kept":40,"cut":false,"hidden":false,"merged":[[36,1,36,4],[0,0,42,0],[0,1,0,6],[35,1,35,4],[39,25,39,28],[39,2,40,4],[30,1,30,6],[35,14,35,16],[36,14,36,16],[38,14,38,16],[39,14,39,16],[32,2,32,3],[38,8,38,12],[38,2,38,4],[35,7,35,12],[36,8,36,13],[36,26,36,27]]}
[null,"Раздел XII. Финансовая деятельность организаций"]
[null,null,null,null,null,"                       Код по ОКЕИ: тысяча рублей - 384"]
[null,"Расходы на содержание организации","№ строки","ВСЕГО","федеральный бюджет","бюджет субъекта Российской Федерации","муниципальный бюджет","внебюджетные источники"]
[null,1,2,3,4,5,6,7]
[null,"Всего расходов","01",{"$f":"SUM(E5:H5)","v":25858.1},{"$f":"SUM(E6,E14,E15,E21,E24,E28)","v":0},{"$f":"SUM(F6,F14,F15,F21,F24,F28)","v":0},{"$f":"SUM(G6,G14,G15,G21,G24,G28)","v":25801},{"$f":"SUM(H6,H14,H15,H21,H24,H28)","v":57.099999999999994}]
[null,"в том числе: \nЗаработная плата - всего","02",{"$f":"SUM(E6:H6)","v":11417.5},{"$f":"SUM(E7:E13)","v":0},{"$f":"SUM(F7:F13)","v":0},{"$f":"SUM(G7:G13)","v":11417.5},{"$f":"SUM(H7:H13)","v":0},null,{"$f":"Раздел11!I28+Раздел11!L28","v":11417.5},{"$f":"Раздел11!K28+Раздел11!N28","v":0}]
[null,"в том числе:\nдиректор","03",850.9,null,null,850.9,null,null,{"$f":"Раздел11!I9+Раздел11!L9","v":850.9},{"$f":"Раздел11!K9+Раздел11!N9","v":0}]
[null,"   заместители директора","04",667.2,null,null,667.2,null,null,{"$f":"Раздел11!I10+Раздел11!L10","v":667.2},{"$f":"Раздел11!K10+Раздел11!N10","v":0}]
[null,"   тренерский персонал","05",6567.6,null,null,6567.6,null,null,{"$f":"Раздел11!I12+Раздел11!L12","v":6567.5999999999995},{"$f":"Раздел11!K12+Раздел11!N12","v":0}]
[null,"   методический персонал","06",425.5,null,null,425.5,null,null,{"$f":"Раздел11!I18+Раздел11!L18","v":425.5},{"$f":"Раздел11!K18+Раздел11!N18","v":0}]
[null,"   медицинские работники","07",0,null,null,null,null,null,{"$f":"Раздел11!I22+Раздел11!L22","v":0},{"$f":"Раздел11!K22+Раздел11!N22","v":0}]
[null,"   прочий персонал","08",1099.5,null,null,1099.5,null,null,{"$f":"Раздел11!I26+Раздел11!L26","v":1099.5},{"$f":"Раздел11!K26+Раздел11!N26","v":0}]
[null,"   страховые взносы с заработной \n   платы","09",1806.8,null,null,1806.8,null,null,{"$f":"Раздел11!I27+Раздел11!L27","v":1806.8},{"$f":"Раздел11!K27+Раздел11!N27","v":0}]
[null,"Оздоровительная кампания",10,0]
[null,"Участие в соревнованиях и\nтренировочных сборах - всего",11,293.7,{"$f":"SUM(E16:E20)","v":0},{"$f":"SUM(F16:F20)","v":0},{"$f":"SUM(G16:G20)","v":256.3},{"$f":"SUM(H16:H20)","v":37.4}]
[null,"   в том числе: \n   тренерский состав",12,37,null,null,37]
[null,"   спортсмены, спортсмены-\n   инструкторы",13,219.3,null,null,219.3]
[null,"   медицинский персонал",14,0]
[null,"   прочий персонал",15,0]
[null,"   другие расходы",16,37.4,null,null,null,37.4]
[null,"Материально-техническое обеспечение",17,1090.8,{"$f":"E22+E23","v":0},{"$f":"F22+F23","v":0},{"$f":"G22+G23","v":1071.0999999999999},{"$f":"H22+H23","v":19.7}]
[null,"   в том числе: \n   экипировка, спортивное \n   оборудование, инвентарь",18,1090.8,null,null,1071.0999999999999,19.7]
[null,"   прочее",19,0]
[null,"Содержание спортивных сооружений",20,275,{"$f":"SUM(E25:E27)","v":0},{"$f":"SUM(F25:F27)","v":0},{"$f":"SUM(G25:G27)","v":275},{"$f":"SUM(H25:H27)","v":0}]
[null,"   в том числе: \n   аренда (услуги спортсооружений)",21,0]
[null,"   собственные спортсооружения",22,0]
[null,"   другие расходы на содержание",23,275,null,null,275]
[null,"Прочие расходы",24,12781.1,null,null,12781.1]
[]
[]
[null,"Поступило средств от предоставления платных услуг, тысяча рублей (Код по ОКЕИ: тысяча рублей - 384):"]
[]
[null,"Всего (25)",null,null,null,null,null,0]
[]
[null,"Должностное лицо, ответственное за предоставление статистической информации (лицо, уполномоченное предоставлять статистическую информацию от имени юридического лица)"]
[null,"директор",null,null,null,null,null,"Токарев Вадим Константинович"]
[null,"(должность)",null,null,null,null,null,null,"            (Ф.И.О.)",null,null,null,null,null,"              (подпись)"]
[]
[null,null,"8-813-68-246-43",null,null,null,null,"e-mail","sportshkola2008@yandex.ru",null,null,null,null,null,"11.12.2017 г."]
[null,null,"(номер контактного телефона)",null,null,null,null,null,null,null,null,null,null,null,"                 (дата)"]

{"sheet":"Лист1","index":13,"n_rows":57,"n_cols":19,"rows_kept":57,"cut":false,"hidden":true,"merged":[]}
["Тяжелая атлетика",165,0,0,0,0,0,0,0,0,0,0,0,0,0,0,0,0,0]
["Универсальный бой",166,0,0,0,0,0,0,0,0,0,0,0,0,0,0,0,0,0]
["Ушу",167,0,0,0,0,0,0,0,0,0,0,0,0,0,0,0,0,0]
["Фехтование - всего",168,0,0,0,0,0,0,0,0,0,0,0,0,0,0,0,0,0]
["в том числе:\nРапира",169,0,0,0,0,0,0,0,0,0,0,0,0,0,0,0,0,0]
["Сабля",170,0,0,0,0,0,0,0,0,0,0,0,0,0,0,0,0,0]
["Шпага",171,0,0,0,0,0,0,0,0,0,0,0,0,0,0,0,0,0]
["Арт-фехтование",172,0,0,0,0,0,0,0,0,0,0,0,0,0,0,0,0,0]
["Фигурное катание на коньках",173,0,0,0,0,0,0,0,0,0,0,0,0,0,0,0,0,0]
["Флорбол",174,0,0,0,0,0,0,0,0,0,0,0,0,0,0,0,0,0]
["Фристайл - всего",175,0,0,0,0,0,0,0,0,0,0,0,0,0,0,0,0,0]
["в том числе:\nАкробатика",176,0,0,0,0,0,0,0,0,0,0,0,0,0,0,0,0,0]
["Могул",177,0,0,0,0,0,0,0,0,0,0,0,0,0,0,0,0,0]
["Ски-кросс",178,0,0,0,0,0,0,0,0,0,0,0,0,0,0,0,0,0]
["Хаф-пайп",179,0,0,0,0,0,0,0,0,0,0,0,0,0,0,0,0,0]
["Слоуп-стайл",180,0,0,0,0,0,0,0,0,0,0,0,0,0,0,0,0,0]
["Футбол - всего",181,0,0,0,0,0,0,0,0,0,0,0,0,0,0,0,0,0]
["в том числе:\nФутбол (муж.)",182,0,0,0,0,0,0,0,0,0,0,0,0,0,0,0,0,0]
["Футбол (жен.)",183,0,0,0,0,0,0,0,0,0,0,0,0,0,0,0,0,0]
["Мини-футбол (футзал)",184,0,0,0,0,0,0,0,0,0,0,0,0,0,0,0,0,0]
["Пляжный футбол",185,0,0,0,0,0,0,0,0,0,0,0,0,0,0,0,0,0]
["Хапсагай",186,0,0,0,0,0,0,0,0,0,0,0,0,0,0,0,0,0]
["Хоккей - всего",187,0,0,0,0,0,0,0,0,0,0,0,0,0,0,0,0,0]
["в том числе:\nХоккей (муж.)",188,0,0,0,0,0,0,0,0,0,0,0,0,0,0,0,0,0]
["Хоккей (жен.)",189,0,0,0,0,0,0,0,0,0,0,0,0,0,0,0,0,0]
["Хоккей на траве",190,0,0,0,0,0,0,0,0,0,0,0,0,0,0,0,0,0]
["Хоккей на траве (муж.)",191,0,0,0,0,0,0,0,0,0,0,0,0,0,0,0,0,0]
["Хоккей на траве (жен.)",192,0,0,0,0,0,0,0,0,0,0,0,0,0,0,0,0,0]
["Хоккей с мячом",193,0,0,0,0,0,0,0,0,0,0,0,0,0,0,0,0,0]
["Художественная гимнастика",194,0,0,0,0,0,0,0,0,0,0,0,0,0,0,0,0,0]
["Черлидинг",195,0,0,0,0,0,0,0,0,0,0,0,0,0,0,0,0,0]
["Чир спорт",196,0,0,0,0,0,0,0,0,0,0,0,0,0,0,0,0,0]
["Шахматы",197,0,0,0,0,0,0,0,0,0,0,0,0,0,0,0,0,0]
["Шашки",198,0,0,0,0,0,0,0,0,0,0,0,0,0,0,0,0,0]
["Эстетическая гимнастика",199,0,0,0,0,0,0,0,0,0,0,0,0,0,0,0,0,0]
["Якутские национальные прыжки",200,0,0,0,0,0,0,0,0,0,0,0,0,0,0,0,0,0]
["ИТОГО",201,0,0,0,0,0,0,0,0,0,0,0,0,0,0,0,0,0]
["        в том числе по виду\n        организации: \nДЮСШ - отделения, не соответствующие Перечню \"Олимпийский\"",202,0,0,0,0,0,0,0,0,0,0,0,0,0,0,0,0,0]
["     из них по \n     ведомственной\n     принадлежности: \nорганы управления в сфере образования",203,0,0,0,0,0,0,0,0,0,0,0,0,0,0,0,0,0]
["органы управления в сфере физиченской культуры и \nспорта",204,0,0,0,0,0,0,0,0,0,0,0,0,0,0,0,0,0]
["другая ведомственная принадлежность",205,0,0,0,0,0,0,0,0,0,0,0,0,0,0,0,0,0]
["СДЮШОР - отделения, соответствующие Перечню \"Олимпийский\"",206,0,0,0,0,0,0,0,0,0,0,0,0,0,0,0,0,0]
["     из них по \n     ведомственной\n     принадлежности:\nорганы управления в сфере образования",207,0,0,0,0,0,0,0,0,0,0,0,0,0,0,0,0,0]
["органы управления в сфере физиченской культуры и спорта",208,0,0,0,0,0,0,0,0,0,0,0,0,0,0,0,0,0]
["другая ведомственная принадлежность",209,0,0,0,0,0,0,0,0,0,0,0,0,0,0,0,0,0]
["УОР",210,0,0,0,0,0,0,0,0,0,0,0,0,0,0,0,0,0]
["     из них по\n     ведомственной\n     принадлежности:\nорганы управления в сфере образования",211,0,0,0,0,0,0,0,0,0,0,0,0,0,0,0,0,0]
["органы управления в сфере физиченской культуры и спорта",212,0,0,0,0,0,0,0,0,0,0,0,0,0,0,0,0,0]
["другая ведомственная принадлежность",213,0,0,0,0,0,0,0,0,0,0,0,0,0,0,0,0,0]
["ЦСП",214,0,0,0,0,0,0,0,0,0,0,0,0,0,0,0,0,0]
["     из них по\n     ведомственной\n     принадлежности:\nорганы управления в сфере образования",215,0,0,0,0,0,0,0,0,0,0,0,0,0,0,0,0,0]
["органы управления в сфере физиченской культуры и спорта",216,0,0,0,0,0,0,0,0,0,0,0,0,0,0,0,0,0]
["другая ведомственная принадлежность",217,0,0,0,0,0,0,0,0,0,0,0,0,0,0,0,0,0]
["Другие организации",218,0,0,0,0,0,0,0,0,0,0,0,0,0,0,0,0,0]
["     из них по\n     ведомственной\n     принадлежности:\nорганы управления в сфере образования",219,0,0,0,0,0,0,0,0,0,0,0,0,0,0,0,0,0]
["органы управления в сфере физиченской культуры и спорта",220,0,0,0,0,0,0,0,0,0,0,0,0,0,0,0,0,0]
["другая ведомственная принадлежность",221,0,0,0,0,0,0,0,0,0,0,0,0,0,0,0,0,0]